BEGIN:VCALENDAR
VERSION:2.0
PRODID:-//hacksw/handcal//NONSGML v1.0//EN
CALSCALE:GREGORIAN
X-WR-CALNAME:ANALISI DELLE POLITICHE PUBBLICHE E SOCIALI [FT0592]
DESCRIPTION:ANALISI DELLE POLITICHE PUBBLICHE E SOCIALI [FT0592]
REFRESH-INTERVAL;VALUE=DURATION:P1D
X-WR-TIMEZONE:Europe/Rome
BEGIN:VEVENT
DTEND:20251112T101500
UID:69e74c261b2ca
DTSTAMP:20260421T100630
LOCATION:Aula 4 San Sebastiano
SUMMARY:ANALISI DELLE POLITICHE PUBBLICHE E SOCIALI [FT0592] - PERINI LORENZA\, Lezione
URL;VALUE=URI://www.unive.it/data/insegnamento/525167
DTSTART:20251112T084500
END:VEVENT
BEGIN:VEVENT
DTEND:20251114T101500
UID:69e74c261b357
DTSTAMP:20260421T100630
LOCATION:Aula Padoan San Sebastiano
SUMMARY:ANALISI DELLE POLITICHE PUBBLICHE E SOCIALI [FT0592] - PERINI LORENZA\, Lezione
URL;VALUE=URI://www.unive.it/data/insegnamento/525167
DTSTART:20251114T084500
END:VEVENT
BEGIN:VEVENT
DTEND:20251114T190000
UID:69e74c261b3ab
DTSTAMP:20260421T100630
LOCATION:Aula MF2 Polo didattico San Basilio (MF - Magazzini Frigoriferi)
SUMMARY:ANALISI DELLE POLITICHE PUBBLICHE E SOCIALI [FT0592] - PERINI LORENZA\, Lezione
URL;VALUE=URI://www.unive.it/data/insegnamento/525167
DTSTART:20251114T173000
END:VEVENT
BEGIN:VEVENT
DTEND:20251119T101500
UID:69e74c261b418
DTSTAMP:20260421T100630
LOCATION:Aula 4 San Sebastiano
SUMMARY:ANALISI DELLE POLITICHE PUBBLICHE E SOCIALI [FT0592] - PERINI LORENZA\, Lezione
URL;VALUE=URI://www.unive.it/data/insegnamento/525167
DTSTART:20251119T084500
END:VEVENT
BEGIN:VEVENT
DTEND:20251126T101500
UID:69e74c261b466
DTSTAMP:20260421T100630
LOCATION:Aula 4 San Sebastiano
SUMMARY:ANALISI DELLE POLITICHE PUBBLICHE E SOCIALI [FT0592] - PERINI LORENZA\, Lezione
URL;VALUE=URI://www.unive.it/data/insegnamento/525167
DTSTART:20251126T084500
END:VEVENT
BEGIN:VEVENT
DTEND:20251128T101500
UID:69e74c261b4b3
DTSTAMP:20260421T100630
LOCATION:Aula Padoan San Sebastiano
SUMMARY:ANALISI DELLE POLITICHE PUBBLICHE E SOCIALI [FT0592] - PERINI LORENZA\, Lezione
URL;VALUE=URI://www.unive.it/data/insegnamento/525167
DTSTART:20251128T084500
END:VEVENT
BEGIN:VEVENT
DTEND:20251128T190000
UID:69e74c261b4fd
DTSTAMP:20260421T100630
LOCATION:Aula MF2 Polo didattico San Basilio (MF - Magazzini Frigoriferi)
SUMMARY:ANALISI DELLE POLITICHE PUBBLICHE E SOCIALI [FT0592] - PERINI LORENZA\, Lezione
URL;VALUE=URI://www.unive.it/data/insegnamento/525167
DTSTART:20251128T173000
END:VEVENT
BEGIN:VEVENT
DTEND:20251203T101500
UID:69e74c261b54a
DTSTAMP:20260421T100630
LOCATION:Aula 4 San Sebastiano
SUMMARY:ANALISI DELLE POLITICHE PUBBLICHE E SOCIALI [FT0592] - PERINI LORENZA\, Lezione
URL;VALUE=URI://www.unive.it/data/insegnamento/525167
DTSTART:20251203T084500
END:VEVENT
BEGIN:VEVENT
DTEND:20251205T101500
UID:69e74c261b593
DTSTAMP:20260421T100630
LOCATION:Aula Padoan San Sebastiano
SUMMARY:ANALISI DELLE POLITICHE PUBBLICHE E SOCIALI [FT0592] - PERINI LORENZA\, Lezione
URL;VALUE=URI://www.unive.it/data/insegnamento/525167
DTSTART:20251205T084500
END:VEVENT
BEGIN:VEVENT
DTEND:20251205T190000
UID:69e74c261b5de
DTSTAMP:20260421T100630
LOCATION:Aula MF2 Polo didattico San Basilio (MF - Magazzini Frigoriferi)
SUMMARY:ANALISI DELLE POLITICHE PUBBLICHE E SOCIALI [FT0592] - PERINI LORENZA\, Lezione
URL;VALUE=URI://www.unive.it/data/insegnamento/525167
DTSTART:20251205T173000
END:VEVENT
BEGIN:VEVENT
DTEND:20251210T101500
UID:69e74c261b62c
DTSTAMP:20260421T100630
LOCATION:Aula 4 San Sebastiano
SUMMARY:ANALISI DELLE POLITICHE PUBBLICHE E SOCIALI [FT0592] - PERINI LORENZA\, Lezione
URL;VALUE=URI://www.unive.it/data/insegnamento/525167
DTSTART:20251210T084500
END:VEVENT
BEGIN:VEVENT
DTEND:20251212T101500
UID:69e74c261b684
DTSTAMP:20260421T100630
LOCATION:Aula Padoan San Sebastiano
SUMMARY:ANALISI DELLE POLITICHE PUBBLICHE E SOCIALI [FT0592] - PERINI LORENZA\, Lezione
URL;VALUE=URI://www.unive.it/data/insegnamento/525167
DTSTART:20251212T084500
END:VEVENT
BEGIN:VEVENT
DTEND:20251212T190000
UID:69e74c261b6d2
DTSTAMP:20260421T100630
LOCATION:Aula MF2 Polo didattico San Basilio (MF - Magazzini Frigoriferi)
SUMMARY:ANALISI DELLE POLITICHE PUBBLICHE E SOCIALI [FT0592] - PERINI LORENZA\, Lezione
URL;VALUE=URI://www.unive.it/data/insegnamento/525167
DTSTART:20251212T173000
END:VEVENT
BEGIN:VEVENT
DTEND:20251217T101500
UID:69e74c261b71d
DTSTAMP:20260421T100630
LOCATION:Aula 4 San Sebastiano
SUMMARY:ANALISI DELLE POLITICHE PUBBLICHE E SOCIALI [FT0592] - PERINI LORENZA\, Lezione
URL;VALUE=URI://www.unive.it/data/insegnamento/525167
DTSTART:20251217T084500
END:VEVENT
BEGIN:VEVENT
DTEND:20251219T101500
UID:69e74c261b767
DTSTAMP:20260421T100630
LOCATION:Aula 1C Polo didattico San Basilio (Magazzino 5)
SUMMARY:ANALISI DELLE POLITICHE PUBBLICHE E SOCIALI [FT0592] - PERINI LORENZA\, Lezione
URL;VALUE=URI://www.unive.it/data/insegnamento/525167
DTSTART:20251219T084500
END:VEVENT
BEGIN:VEVENT
DTEND:20251219T120000
UID:69e74c261b7a8
DTSTAMP:20260421T100630
LOCATION:Aula 1C Polo didattico San Basilio (Magazzino 5)
SUMMARY:ANALISI DELLE POLITICHE PUBBLICHE E SOCIALI [FT0592] - PERINI LORENZA\, Lezione
URL;VALUE=URI://www.unive.it/data/insegnamento/525167
DTSTART:20251219T103000
END:VEVENT
END:VCALENDAR