BEGIN:VCALENDAR
VERSION:2.0
PRODID:-//hacksw/handcal//NONSGML v1.0//EN
CALSCALE:GREGORIAN
X-WR-CALNAME:STORIA DEGLI EBREI DEL MEDIO ORIENTE E DELL'AFRICA [LT0625]
DESCRIPTION:STORIA DEGLI EBREI DEL MEDIO ORIENTE E DELL'AFRICA [LT0625]
REFRESH-INTERVAL;VALUE=DURATION:P1D
X-WR-TIMEZONE:Europe/Rome
BEGIN:VEVENT
DTEND:20250923T190000
UID:69e74c092e7f7
DTSTAMP:20260421T100601
LOCATION:Aula 7 Rio Novo
SUMMARY:STORIA DEGLI EBREI DEL MEDIO ORIENTE E DELL'AFRICA [LT0625] - MICCOLI DARIO\, Lezione
URL;VALUE=URI://www.unive.it/data/insegnamento/529822
DTSTART:20250923T173000
END:VEVENT
BEGIN:VEVENT
DTEND:20250930T190000
UID:69e74c092e8c3
DTSTAMP:20260421T100601
LOCATION:Aula 7 Rio Novo
SUMMARY:STORIA DEGLI EBREI DEL MEDIO ORIENTE E DELL'AFRICA [LT0625] - MICCOLI DARIO\, Lezione
URL;VALUE=URI://www.unive.it/data/insegnamento/529822
DTSTART:20250930T173000
END:VEVENT
BEGIN:VEVENT
DTEND:20251007T190000
UID:69e74c092e925
DTSTAMP:20260421T100601
LOCATION:Aula 7 Rio Novo
SUMMARY:STORIA DEGLI EBREI DEL MEDIO ORIENTE E DELL'AFRICA [LT0625] - MICCOLI DARIO\, Lezione
URL;VALUE=URI://www.unive.it/data/insegnamento/529822
DTSTART:20251007T173000
END:VEVENT
BEGIN:VEVENT
DTEND:20251014T190000
UID:69e74c092e981
DTSTAMP:20260421T100601
LOCATION:Aula 7 Rio Novo
SUMMARY:STORIA DEGLI EBREI DEL MEDIO ORIENTE E DELL'AFRICA [LT0625] - MICCOLI DARIO\, Lezione
URL;VALUE=URI://www.unive.it/data/insegnamento/529822
DTSTART:20251014T173000
END:VEVENT
BEGIN:VEVENT
DTEND:20251021T190000
UID:69e74c092e9de
DTSTAMP:20260421T100601
LOCATION:Aula 7 Rio Novo
SUMMARY:STORIA DEGLI EBREI DEL MEDIO ORIENTE E DELL'AFRICA [LT0625] - MICCOLI DARIO\, Lezione
URL;VALUE=URI://www.unive.it/data/insegnamento/529822
DTSTART:20251021T173000
END:VEVENT
BEGIN:VEVENT
DTEND:20251028T190000
UID:69e74c092ea3a
DTSTAMP:20260421T100601
LOCATION:Aula 7 Rio Novo
SUMMARY:STORIA DEGLI EBREI DEL MEDIO ORIENTE E DELL'AFRICA [LT0625] - MICCOLI DARIO\, Lezione
URL;VALUE=URI://www.unive.it/data/insegnamento/529822
DTSTART:20251028T173000
END:VEVENT
BEGIN:VEVENT
DTEND:20251104T190000
UID:69e74c092ea96
DTSTAMP:20260421T100601
LOCATION:Aula 7 Rio Novo
SUMMARY:STORIA DEGLI EBREI DEL MEDIO ORIENTE E DELL'AFRICA [LT0625] - MICCOLI DARIO\, Lezione
URL;VALUE=URI://www.unive.it/data/insegnamento/529822
DTSTART:20251104T173000
END:VEVENT
BEGIN:VEVENT
DTEND:20251111T190000
UID:69e74c092eaf3
DTSTAMP:20260421T100601
LOCATION:Aula 7 Rio Novo
SUMMARY:STORIA DEGLI EBREI DEL MEDIO ORIENTE E DELL'AFRICA [LT0625] - MICCOLI DARIO\, Lezione
URL;VALUE=URI://www.unive.it/data/insegnamento/529822
DTSTART:20251111T173000
END:VEVENT
BEGIN:VEVENT
DTEND:20251118T190000
UID:69e74c092eb51
DTSTAMP:20260421T100601
LOCATION:Aula 7 Rio Novo
SUMMARY:STORIA DEGLI EBREI DEL MEDIO ORIENTE E DELL'AFRICA [LT0625] - MICCOLI DARIO\, Lezione
URL;VALUE=URI://www.unive.it/data/insegnamento/529822
DTSTART:20251118T173000
END:VEVENT
BEGIN:VEVENT
DTEND:20251125T190000
UID:69e74c092ebac
DTSTAMP:20260421T100601
LOCATION:Aula 7 Rio Novo
SUMMARY:STORIA DEGLI EBREI DEL MEDIO ORIENTE E DELL'AFRICA [LT0625] - MICCOLI DARIO\, Lezione
URL;VALUE=URI://www.unive.it/data/insegnamento/529822
DTSTART:20251125T173000
END:VEVENT
BEGIN:VEVENT
DTEND:20251201T153000
UID:69e74c092ec07
DTSTAMP:20260421T100601
LOCATION:Aula E (Aula AM B) Ca' Cappello
SUMMARY:STORIA DEGLI EBREI DEL MEDIO ORIENTE E DELL'AFRICA [LT0625] - MICCOLI DARIO\, Lezione
URL;VALUE=URI://www.unive.it/data/insegnamento/529822
DTSTART:20251201T140000
END:VEVENT
BEGIN:VEVENT
DTEND:20251202T190000
UID:69e74c092ec43
DTSTAMP:20260421T100601
LOCATION:Aula 7 Rio Novo
SUMMARY:STORIA DEGLI EBREI DEL MEDIO ORIENTE E DELL'AFRICA [LT0625] - MICCOLI DARIO\, Lezione
URL;VALUE=URI://www.unive.it/data/insegnamento/529822
DTSTART:20251202T173000
END:VEVENT
BEGIN:VEVENT
DTEND:20251209T190000
UID:69e74c092eca0
DTSTAMP:20260421T100601
LOCATION:Aula 7 Rio Novo
SUMMARY:STORIA DEGLI EBREI DEL MEDIO ORIENTE E DELL'AFRICA [LT0625] - MICCOLI DARIO\, Lezione
URL;VALUE=URI://www.unive.it/data/insegnamento/529822
DTSTART:20251209T173000
END:VEVENT
BEGIN:VEVENT
DTEND:20251216T190000
UID:69e74c092ecfe
DTSTAMP:20260421T100601
LOCATION:Aula 7 Rio Novo
SUMMARY:STORIA DEGLI EBREI DEL MEDIO ORIENTE E DELL'AFRICA [LT0625] - MICCOLI DARIO\, Lezione
URL;VALUE=URI://www.unive.it/data/insegnamento/529822
DTSTART:20251216T173000
END:VEVENT
BEGIN:VEVENT
DTEND:20260114T123000
UID:69e74c092ed5a
DTSTAMP:20260421T100601
LOCATION:ALTRO Altro
SUMMARY:STORIA DEGLI EBREI DEL MEDIO ORIENTE E DELL'AFRICA [LT0625] - MICCOLI DARIO\, Lezione
URL;VALUE=URI://www.unive.it/data/insegnamento/529822
DTSTART:20260114T110000
END:VEVENT
BEGIN:VEVENT
DTEND:20260120T190000
UID:69e74c092edb6
DTSTAMP:20260421T100601
LOCATION:Aula 7 Rio Novo
SUMMARY:STORIA DEGLI EBREI DEL MEDIO ORIENTE E DELL'AFRICA [LT0625] - MICCOLI DARIO\, Lezione
URL;VALUE=URI://www.unive.it/data/insegnamento/529822
DTSTART:20260120T173000
END:VEVENT
END:VCALENDAR