BEGIN:VCALENDAR
VERSION:2.0
PRODID:-//hacksw/handcal//NONSGML v1.0//EN
CALSCALE:GREGORIAN
X-WR-CALNAME:ECONOMICS OF INEQUALITY [EM2097]
DESCRIPTION:ECONOMICS OF INEQUALITY [EM2097]
REFRESH-INTERVAL;VALUE=DURATION:P1D
X-WR-TIMEZONE:Europe/Rome
BEGIN:VEVENT
DTEND:20251110T134500
UID:69e6d1aea368a
DTSTAMP:20260421T012358
LOCATION:Aula 8B San Giobbe
SUMMARY:ECONOMICS OF INEQUALITY [EM2097] - BERNASCONI Michele\, Lezione
URL;VALUE=URI://www.unive.it/data/insegnamento/540332
DTSTART:20251110T121500
END:VEVENT
BEGIN:VEVENT
DTEND:20251111T120000
UID:69e6d1aea3722
DTSTAMP:20260421T012358
LOCATION:Aula 8B San Giobbe
SUMMARY:ECONOMICS OF INEQUALITY [EM2097] - BERNASCONI Michele\, Lezione
URL;VALUE=URI://www.unive.it/data/insegnamento/540332
DTSTART:20251111T103000
END:VEVENT
BEGIN:VEVENT
DTEND:20251112T134500
UID:69e6d1aea3782
DTSTAMP:20260421T012358
LOCATION:Aula 8B San Giobbe
SUMMARY:ECONOMICS OF INEQUALITY [EM2097] - BERNASCONI Michele\, Lezione
URL;VALUE=URI://www.unive.it/data/insegnamento/540332
DTSTART:20251112T121500
END:VEVENT
BEGIN:VEVENT
DTEND:20251117T134500
UID:69e6d1aea37dd
DTSTAMP:20260421T012358
LOCATION:Aula 8B San Giobbe
SUMMARY:ECONOMICS OF INEQUALITY [EM2097] - BERNASCONI Michele\, Lezione
URL;VALUE=URI://www.unive.it/data/insegnamento/540332
DTSTART:20251117T121500
END:VEVENT
BEGIN:VEVENT
DTEND:20251118T120000
UID:69e6d1aea382c
DTSTAMP:20260421T012358
LOCATION:Aula 8B San Giobbe
SUMMARY:ECONOMICS OF INEQUALITY [EM2097] - BERNASCONI Michele\, Lezione
URL;VALUE=URI://www.unive.it/data/insegnamento/540332
DTSTART:20251118T103000
END:VEVENT
BEGIN:VEVENT
DTEND:20251119T134500
UID:69e6d1aea3877
DTSTAMP:20260421T012358
LOCATION:Aula 8B San Giobbe
SUMMARY:ECONOMICS OF INEQUALITY [EM2097] - BERNASCONI Michele\, Lezione
URL;VALUE=URI://www.unive.it/data/insegnamento/540332
DTSTART:20251119T121500
END:VEVENT
BEGIN:VEVENT
DTEND:20251124T134500
UID:69e6d1aea38c2
DTSTAMP:20260421T012358
LOCATION:Aula 8B San Giobbe
SUMMARY:ECONOMICS OF INEQUALITY [EM2097] - BERNASCONI Michele\, Lezione
URL;VALUE=URI://www.unive.it/data/insegnamento/540332
DTSTART:20251124T121500
END:VEVENT
BEGIN:VEVENT
DTEND:20251125T120000
UID:69e6d1aea390e
DTSTAMP:20260421T012358
LOCATION:Aula 8B San Giobbe
SUMMARY:ECONOMICS OF INEQUALITY [EM2097] - BERNASCONI Michele\, Lezione
URL;VALUE=URI://www.unive.it/data/insegnamento/540332
DTSTART:20251125T103000
END:VEVENT
BEGIN:VEVENT
DTEND:20251126T134500
UID:69e6d1aea395a
DTSTAMP:20260421T012358
LOCATION:Aula 8B San Giobbe
SUMMARY:ECONOMICS OF INEQUALITY [EM2097] - BERNASCONI Michele\, Lezione
URL;VALUE=URI://www.unive.it/data/insegnamento/540332
DTSTART:20251126T121500
END:VEVENT
BEGIN:VEVENT
DTEND:20251201T134500
UID:69e6d1aea39ad
DTSTAMP:20260421T012358
LOCATION:Aula 8B San Giobbe
SUMMARY:ECONOMICS OF INEQUALITY [EM2097] - BERNASCONI Michele\, Lezione
URL;VALUE=URI://www.unive.it/data/insegnamento/540332
DTSTART:20251201T121500
END:VEVENT
BEGIN:VEVENT
DTEND:20251202T120000
UID:69e6d1aea39f9
DTSTAMP:20260421T012358
LOCATION:Aula 8B San Giobbe
SUMMARY:ECONOMICS OF INEQUALITY [EM2097] - BERNASCONI Michele\, Lezione
URL;VALUE=URI://www.unive.it/data/insegnamento/540332
DTSTART:20251202T103000
END:VEVENT
BEGIN:VEVENT
DTEND:20251203T134500
UID:69e6d1aea3a44
DTSTAMP:20260421T012358
LOCATION:Aula 8B San Giobbe
SUMMARY:ECONOMICS OF INEQUALITY [EM2097] - BERNASCONI Michele\, Lezione
URL;VALUE=URI://www.unive.it/data/insegnamento/540332
DTSTART:20251203T121500
END:VEVENT
BEGIN:VEVENT
DTEND:20251209T120000
UID:69e6d1aea3a8f
DTSTAMP:20260421T012358
LOCATION:Aula 8B San Giobbe
SUMMARY:ECONOMICS OF INEQUALITY [EM2097] - BERNASCONI Michele\, Lezione
URL;VALUE=URI://www.unive.it/data/insegnamento/540332
DTSTART:20251209T103000
END:VEVENT
BEGIN:VEVENT
DTEND:20251210T134500
UID:69e6d1aea3ad9
DTSTAMP:20260421T012358
LOCATION:Aula 8B San Giobbe
SUMMARY:ECONOMICS OF INEQUALITY [EM2097] - BERNASCONI Michele\, Lezione
URL;VALUE=URI://www.unive.it/data/insegnamento/540332
DTSTART:20251210T121500
END:VEVENT
BEGIN:VEVENT
DTEND:20251215T134500
UID:69e6d1aea3b23
DTSTAMP:20260421T012358
LOCATION:Aula 8B San Giobbe
SUMMARY:ECONOMICS OF INEQUALITY [EM2097] - BERNASCONI Michele\, Lezione
URL;VALUE=URI://www.unive.it/data/insegnamento/540332
DTSTART:20251215T121500
END:VEVENT
BEGIN:VEVENT
DTEND:20251216T120000
UID:69e6d1aea3b5a
DTSTAMP:20260421T012358
LOCATION:Aula 8B San Giobbe
SUMMARY:ECONOMICS OF INEQUALITY [EM2097] - BERNASCONI Michele\, Lezione
URL;VALUE=URI://www.unive.it/data/insegnamento/540332
DTSTART:20251216T103000
END:VEVENT
BEGIN:VEVENT
DTEND:20251217T134500
UID:69e6d1aea3ba4
DTSTAMP:20260421T012358
LOCATION:Aula 8B San Giobbe
SUMMARY:ECONOMICS OF INEQUALITY [EM2097] - BERNASCONI Michele\, Lezione
URL;VALUE=URI://www.unive.it/data/insegnamento/540332
DTSTART:20251217T121500
END:VEVENT
END:VCALENDAR