BEGIN:VCALENDAR
VERSION:2.0
PRODID:-//hacksw/handcal//NONSGML v1.0//EN
CALSCALE:GREGORIAN
X-WR-CALNAME:METODI STATISTICI PER LA BUSINESS ANALYSIS [EM4021]
DESCRIPTION:METODI STATISTICI PER LA BUSINESS ANALYSIS [EM4021]
REFRESH-INTERVAL;VALUE=DURATION:P1D
X-WR-TIMEZONE:Europe/Rome
BEGIN:VEVENT
DTEND:20260217T134500
UID:69e7962e7f25e
DTSTAMP:20260421T152222
LOCATION:Aula 9C San Giobbe
SUMMARY:METODI STATISTICI PER LA BUSINESS ANALYSIS [EM4021] - SLANZI Debora\, Lezione
URL;VALUE=URI://www.unive.it/data/insegnamento/558740
DTSTART:20260217T121500
END:VEVENT
BEGIN:VEVENT
DTEND:20260219T134500
UID:69e7962e7f2eb
DTSTAMP:20260421T152222
LOCATION:Aula 9C San Giobbe
SUMMARY:METODI STATISTICI PER LA BUSINESS ANALYSIS [EM4021] - SLANZI Debora\, Lezione
URL;VALUE=URI://www.unive.it/data/insegnamento/558740
DTSTART:20260219T121500
END:VEVENT
BEGIN:VEVENT
DTEND:20260220T134500
UID:69e7962e7f33d
DTSTAMP:20260421T152222
LOCATION:Aula 9C San Giobbe
SUMMARY:METODI STATISTICI PER LA BUSINESS ANALYSIS [EM4021] - SLANZI Debora\, Lezione
URL;VALUE=URI://www.unive.it/data/insegnamento/558740
DTSTART:20260220T121500
END:VEVENT
BEGIN:VEVENT
DTEND:20260224T134500
UID:69e7962e7f38d
DTSTAMP:20260421T152222
LOCATION:Aula 9C San Giobbe
SUMMARY:METODI STATISTICI PER LA BUSINESS ANALYSIS [EM4021] - SLANZI Debora\, Lezione
URL;VALUE=URI://www.unive.it/data/insegnamento/558740
DTSTART:20260224T121500
END:VEVENT
BEGIN:VEVENT
DTEND:20260226T134500
UID:69e7962e7f3d8
DTSTAMP:20260421T152222
LOCATION:Aula 9C San Giobbe
SUMMARY:METODI STATISTICI PER LA BUSINESS ANALYSIS [EM4021] - SLANZI Debora\, Lezione
URL;VALUE=URI://www.unive.it/data/insegnamento/558740
DTSTART:20260226T121500
END:VEVENT
BEGIN:VEVENT
DTEND:20260227T134500
UID:69e7962e7f424
DTSTAMP:20260421T152222
LOCATION:Aula 9C San Giobbe
SUMMARY:METODI STATISTICI PER LA BUSINESS ANALYSIS [EM4021] - SLANZI Debora\, Lezione
URL;VALUE=URI://www.unive.it/data/insegnamento/558740
DTSTART:20260227T121500
END:VEVENT
BEGIN:VEVENT
DTEND:20260303T134500
UID:69e7962e7f46e
DTSTAMP:20260421T152222
LOCATION:Aula 9C San Giobbe
SUMMARY:METODI STATISTICI PER LA BUSINESS ANALYSIS [EM4021] - SLANZI Debora\, Lezione
URL;VALUE=URI://www.unive.it/data/insegnamento/558740
DTSTART:20260303T121500
END:VEVENT
BEGIN:VEVENT
DTEND:20260305T134500
UID:69e7962e7f4c1
DTSTAMP:20260421T152222
LOCATION:Aula 9C San Giobbe
SUMMARY:METODI STATISTICI PER LA BUSINESS ANALYSIS [EM4021] - SLANZI Debora\, Lezione
URL;VALUE=URI://www.unive.it/data/insegnamento/558740
DTSTART:20260305T121500
END:VEVENT
BEGIN:VEVENT
DTEND:20260306T134500
UID:69e7962e7f50e
DTSTAMP:20260421T152222
LOCATION:Aula 9C San Giobbe
SUMMARY:METODI STATISTICI PER LA BUSINESS ANALYSIS [EM4021] - SLANZI Debora\, Lezione
URL;VALUE=URI://www.unive.it/data/insegnamento/558740
DTSTART:20260306T121500
END:VEVENT
BEGIN:VEVENT
DTEND:20260310T134500
UID:69e7962e7f551
DTSTAMP:20260421T152222
LOCATION:Aula 9C San Giobbe
SUMMARY:METODI STATISTICI PER LA BUSINESS ANALYSIS [EM4021] - SLANZI Debora\, Lezione
URL;VALUE=URI://www.unive.it/data/insegnamento/558740
DTSTART:20260310T121500
END:VEVENT
BEGIN:VEVENT
DTEND:20260313T134500
UID:69e7962e7f59b
DTSTAMP:20260421T152222
LOCATION:Aula 9C San Giobbe
SUMMARY:METODI STATISTICI PER LA BUSINESS ANALYSIS [EM4021] - SLANZI Debora\, Lezione
URL;VALUE=URI://www.unive.it/data/insegnamento/558740
DTSTART:20260313T121500
END:VEVENT
BEGIN:VEVENT
DTEND:20260317T134500
UID:69e7962e7f5e6
DTSTAMP:20260421T152222
LOCATION:Aula 9C San Giobbe
SUMMARY:METODI STATISTICI PER LA BUSINESS ANALYSIS [EM4021] - SLANZI Debora\, Lezione
URL;VALUE=URI://www.unive.it/data/insegnamento/558740
DTSTART:20260317T121500
END:VEVENT
BEGIN:VEVENT
DTEND:20260319T134500
UID:69e7962e7f630
DTSTAMP:20260421T152222
LOCATION:Aula 9C San Giobbe
SUMMARY:METODI STATISTICI PER LA BUSINESS ANALYSIS [EM4021] - SLANZI Debora\, Lezione
URL;VALUE=URI://www.unive.it/data/insegnamento/558740
DTSTART:20260319T121500
END:VEVENT
BEGIN:VEVENT
DTEND:20260320T134500
UID:69e7962e7f67c
DTSTAMP:20260421T152222
LOCATION:Aula 9C San Giobbe
SUMMARY:METODI STATISTICI PER LA BUSINESS ANALYSIS [EM4021] - SLANZI Debora\, Lezione
URL;VALUE=URI://www.unive.it/data/insegnamento/558740
DTSTART:20260320T121500
END:VEVENT
BEGIN:VEVENT
DTEND:20260324T134500
UID:69e7962e7f6c6
DTSTAMP:20260421T152222
LOCATION:Aula 9C San Giobbe
SUMMARY:METODI STATISTICI PER LA BUSINESS ANALYSIS [EM4021] - SLANZI Debora\, Lezione
URL;VALUE=URI://www.unive.it/data/insegnamento/558740
DTSTART:20260324T121500
END:VEVENT
BEGIN:VEVENT
DTEND:20260326T134500
UID:69e7962e7f711
DTSTAMP:20260421T152222
LOCATION:Aula 9C San Giobbe
SUMMARY:METODI STATISTICI PER LA BUSINESS ANALYSIS [EM4021] - SLANZI Debora\, Lezione
URL;VALUE=URI://www.unive.it/data/insegnamento/558740
DTSTART:20260326T121500
END:VEVENT
BEGIN:VEVENT
DTEND:20260327T134500
UID:69e7962e7f75b
DTSTAMP:20260421T152222
LOCATION:Aula 9C San Giobbe
SUMMARY:METODI STATISTICI PER LA BUSINESS ANALYSIS [EM4021] - SLANZI Debora\, Lezione
URL;VALUE=URI://www.unive.it/data/insegnamento/558740
DTSTART:20260327T121500
END:VEVENT
END:VCALENDAR