BEGIN:VCALENDAR
VERSION:2.0
PRODID:-//hacksw/handcal//NONSGML v1.0//EN
CALSCALE:GREGORIAN
X-WR-CALNAME:ADDITIONAL LEARNING REQUIREMENTS OF MATHEMATICS [ET2101]
DESCRIPTION:ADDITIONAL LEARNING REQUIREMENTS OF MATHEMATICS [ET2101]
REFRESH-INTERVAL;VALUE=DURATION:P1D
X-WR-TIMEZONE:Europe/Rome
BEGIN:VEVENT
DTEND:20250915T171500
UID:69e92d77188f9
DTSTAMP:20260422T202007
LOCATION:Aula 2 Campus scientifico via Torino (edificio Zeta)
SUMMARY:ADDITIONAL LEARNING REQUIREMENTS OF MATHEMATICS [ET2101] - BATTAIA LUCIANO\, Lezione
URL;VALUE=URI://www.unive.it/data/insegnamento/558825
DTSTART:20250915T154500
END:VEVENT
BEGIN:VEVENT
DTEND:20250915T190000
UID:69e92d7718a11
DTSTAMP:20260422T202007
LOCATION:Aula 2 Campus scientifico via Torino (edificio Zeta)
SUMMARY:ADDITIONAL LEARNING REQUIREMENTS OF MATHEMATICS [ET2101] - BATTAIA LUCIANO\, Lezione
URL;VALUE=URI://www.unive.it/data/insegnamento/558825
DTSTART:20250915T173000
END:VEVENT
BEGIN:VEVENT
DTEND:20250916T190000
UID:69e92d7718a9e
DTSTAMP:20260422T202007
LOCATION:Aula Delta 1B Campus scientifico via Torino (edificio Delta)
SUMMARY:ADDITIONAL LEARNING REQUIREMENTS OF MATHEMATICS [ET2101] - BATTAIA LUCIANO\, Lezione
URL;VALUE=URI://www.unive.it/data/insegnamento/558825
DTSTART:20250916T173000
END:VEVENT
BEGIN:VEVENT
DTEND:20250917T190000
UID:69e92d7718b11
DTSTAMP:20260422T202007
LOCATION:Aula Delta 1B Campus scientifico via Torino (edificio Delta)
SUMMARY:ADDITIONAL LEARNING REQUIREMENTS OF MATHEMATICS [ET2101] - BATTAIA LUCIANO\, Lezione
URL;VALUE=URI://www.unive.it/data/insegnamento/558825
DTSTART:20250917T173000
END:VEVENT
BEGIN:VEVENT
DTEND:20250918T190000
UID:69e92d7718b75
DTSTAMP:20260422T202007
LOCATION:Aula 2 Campus scientifico via Torino (edificio Zeta)
SUMMARY:ADDITIONAL LEARNING REQUIREMENTS OF MATHEMATICS [ET2101] - BATTAIA LUCIANO\, Lezione
URL;VALUE=URI://www.unive.it/data/insegnamento/558825
DTSTART:20250918T173000
END:VEVENT
BEGIN:VEVENT
DTEND:20250919T190000
UID:69e92d7718bf9
DTSTAMP:20260422T202007
LOCATION:Aula 2 Campus scientifico via Torino (edificio Zeta)
SUMMARY:ADDITIONAL LEARNING REQUIREMENTS OF MATHEMATICS [ET2101] - BATTAIA LUCIANO\, Lezione
URL;VALUE=URI://www.unive.it/data/insegnamento/558825
DTSTART:20250919T173000
END:VEVENT
BEGIN:VEVENT
DTEND:20250922T190000
UID:69e92d7718c67
DTSTAMP:20260422T202007
LOCATION:Aula 4A San Giobbe
SUMMARY:ADDITIONAL LEARNING REQUIREMENTS OF MATHEMATICS [ET2101] - BATTAIA LUCIANO\, Lezione
URL;VALUE=URI://www.unive.it/data/insegnamento/558825
DTSTART:20250922T173000
END:VEVENT
BEGIN:VEVENT
DTEND:20250923T190000
UID:69e92d7718cbd
DTSTAMP:20260422T202007
LOCATION:Aula 4A San Giobbe
SUMMARY:ADDITIONAL LEARNING REQUIREMENTS OF MATHEMATICS [ET2101] - BATTAIA LUCIANO\, Lezione
URL;VALUE=URI://www.unive.it/data/insegnamento/558825
DTSTART:20250923T173000
END:VEVENT
BEGIN:VEVENT
DTEND:20250925T190000
UID:69e92d7718d24
DTSTAMP:20260422T202007
LOCATION:Aula 4A San Giobbe
SUMMARY:ADDITIONAL LEARNING REQUIREMENTS OF MATHEMATICS [ET2101] - BATTAIA LUCIANO\, Lezione
URL;VALUE=URI://www.unive.it/data/insegnamento/558825
DTSTART:20250925T173000
END:VEVENT
BEGIN:VEVENT
DTEND:20250929T190000
UID:69e92d7718d89
DTSTAMP:20260422T202007
LOCATION:Aula 4A San Giobbe
SUMMARY:ADDITIONAL LEARNING REQUIREMENTS OF MATHEMATICS [ET2101] - BATTAIA LUCIANO\, Lezione
URL;VALUE=URI://www.unive.it/data/insegnamento/558825
DTSTART:20250929T173000
END:VEVENT
BEGIN:VEVENT
DTEND:20250930T190000
UID:69e92d7718de5
DTSTAMP:20260422T202007
LOCATION:Aula 4A San Giobbe
SUMMARY:ADDITIONAL LEARNING REQUIREMENTS OF MATHEMATICS [ET2101] - BATTAIA LUCIANO\, Lezione
URL;VALUE=URI://www.unive.it/data/insegnamento/558825
DTSTART:20250930T173000
END:VEVENT
BEGIN:VEVENT
DTEND:20251002T190000
UID:69e92d7718e54
DTSTAMP:20260422T202007
LOCATION:Aula 4A San Giobbe
SUMMARY:ADDITIONAL LEARNING REQUIREMENTS OF MATHEMATICS [ET2101] - BATTAIA LUCIANO\, Lezione
URL;VALUE=URI://www.unive.it/data/insegnamento/558825
DTSTART:20251002T173000
END:VEVENT
BEGIN:VEVENT
DTEND:20251006T190000
UID:69e92d7718ead
DTSTAMP:20260422T202007
LOCATION:Aula 4A San Giobbe
SUMMARY:ADDITIONAL LEARNING REQUIREMENTS OF MATHEMATICS [ET2101] - BATTAIA LUCIANO\, Lezione
URL;VALUE=URI://www.unive.it/data/insegnamento/558825
DTSTART:20251006T173000
END:VEVENT
BEGIN:VEVENT
DTEND:20251007T190000
UID:69e92d7718f26
DTSTAMP:20260422T202007
LOCATION:Aula 4A San Giobbe
SUMMARY:ADDITIONAL LEARNING REQUIREMENTS OF MATHEMATICS [ET2101] - BATTAIA LUCIANO\, Lezione
URL;VALUE=URI://www.unive.it/data/insegnamento/558825
DTSTART:20251007T173000
END:VEVENT
BEGIN:VEVENT
DTEND:20251009T190000
UID:69e92d7718f82
DTSTAMP:20260422T202007
LOCATION:Aula 4A San Giobbe
SUMMARY:ADDITIONAL LEARNING REQUIREMENTS OF MATHEMATICS [ET2101] - BATTAIA LUCIANO\, Lezione
URL;VALUE=URI://www.unive.it/data/insegnamento/558825
DTSTART:20251009T173000
END:VEVENT
END:VCALENDAR