BEGIN:VCALENDAR
VERSION:2.0
PRODID:-//hacksw/handcal//NONSGML v1.0//EN
CALSCALE:GREGORIAN
X-WR-CALNAME:PROBABILITY AND STATISTICS-PRACTICE [ET7007]
DESCRIPTION:PROBABILITY AND STATISTICS-PRACTICE [ET7007]
REFRESH-INTERVAL;VALUE=DURATION:P1D
X-WR-TIMEZONE:Europe/Rome
BEGIN:VEVENT
DTEND:20260220T130000
UID:69e7127c9988c
DTSTAMP:20260421T060028
LOCATION:Aula B1 H-Campus
SUMMARY:PROBABILITY AND STATISTICS-PRACTICE [ET7007] - GIUMMOLE' Federica\, Lezione
URL;VALUE=URI://www.unive.it/data/insegnamento/558839
DTSTART:20260220T113000
END:VEVENT
BEGIN:VEVENT
DTEND:20260227T130000
UID:69e7127c9990e
DTSTAMP:20260421T060028
LOCATION:Aula B1 H-Campus
SUMMARY:PROBABILITY AND STATISTICS-PRACTICE [ET7007] - GIUMMOLE' Federica\, Lezione
URL;VALUE=URI://www.unive.it/data/insegnamento/558839
DTSTART:20260227T113000
END:VEVENT
BEGIN:VEVENT
DTEND:20260306T130000
UID:69e7127c99960
DTSTAMP:20260421T060028
LOCATION:Aula B1 H-Campus
SUMMARY:PROBABILITY AND STATISTICS-PRACTICE [ET7007] - GIUMMOLE' Federica\, Lezione
URL;VALUE=URI://www.unive.it/data/insegnamento/558839
DTSTART:20260306T113000
END:VEVENT
BEGIN:VEVENT
DTEND:20260313T130000
UID:69e7127c999b0
DTSTAMP:20260421T060028
LOCATION:Aula B1 H-Campus
SUMMARY:PROBABILITY AND STATISTICS-PRACTICE [ET7007] - GIUMMOLE' Federica\, Lezione
URL;VALUE=URI://www.unive.it/data/insegnamento/558839
DTSTART:20260313T113000
END:VEVENT
BEGIN:VEVENT
DTEND:20260320T130000
UID:69e7127c999fc
DTSTAMP:20260421T060028
LOCATION:Aula B1 H-Campus
SUMMARY:PROBABILITY AND STATISTICS-PRACTICE [ET7007] - GIUMMOLE' Federica\, Lezione
URL;VALUE=URI://www.unive.it/data/insegnamento/558839
DTSTART:20260320T113000
END:VEVENT
BEGIN:VEVENT
DTEND:20260327T130000
UID:69e7127c99a46
DTSTAMP:20260421T060028
LOCATION:Aula B1 H-Campus
SUMMARY:PROBABILITY AND STATISTICS-PRACTICE [ET7007] - GIUMMOLE' Federica\, Lezione
URL;VALUE=URI://www.unive.it/data/insegnamento/558839
DTSTART:20260327T113000
END:VEVENT
END:VCALENDAR