BEGIN:VCALENDAR
VERSION:2.0
PRODID:-//hacksw/handcal//NONSGML v1.0//EN
CALSCALE:GREGORIAN
X-WR-CALNAME:COMPARATIVE HISTORY OF THE GERMANIC LANGUAGES MOD. 1 [LMJ510]
DESCRIPTION:COMPARATIVE HISTORY OF THE GERMANIC LANGUAGES MOD. 1 [LMJ510]
REFRESH-INTERVAL;VALUE=DURATION:P1D
X-WR-TIMEZONE:Europe/Rome
BEGIN:VEVENT
DTEND:20260224T120000
UID:69e74c1c1efca
DTSTAMP:20260421T100620
LOCATION:Aula 1G Polo didattico San Basilio (Magazzino 5)
SUMMARY:COMPARATIVE HISTORY OF THE GERMANIC LANGUAGES MOD. 1 [LMJ510] - BUZZONI Marina\, Lezione
URL;VALUE=URI://www.unive.it/data/insegnamento/559943
DTSTART:20260224T103000
END:VEVENT
BEGIN:VEVENT
DTEND:20260303T171500
UID:69e74c1c1f08d
DTSTAMP:20260421T100620
LOCATION:Aula Saoneria Ca' Dolfin - Saoneria
SUMMARY:COMPARATIVE HISTORY OF THE GERMANIC LANGUAGES MOD. 1 [LMJ510] - BUZZONI Marina\, Lezione
URL;VALUE=URI://www.unive.it/data/insegnamento/559943
DTSTART:20260303T154500
END:VEVENT
BEGIN:VEVENT
DTEND:20260310T171500
UID:69e74c1c1f0ef
DTSTAMP:20260421T100620
LOCATION:Aula Saoneria Ca' Dolfin - Saoneria
SUMMARY:COMPARATIVE HISTORY OF THE GERMANIC LANGUAGES MOD. 1 [LMJ510] - BUZZONI Marina\, Lezione
URL;VALUE=URI://www.unive.it/data/insegnamento/559943
DTSTART:20260310T154500
END:VEVENT
BEGIN:VEVENT
DTEND:20260317T171500
UID:69e74c1c1f150
DTSTAMP:20260421T100620
LOCATION:Aula Saoneria Ca' Dolfin - Saoneria
SUMMARY:COMPARATIVE HISTORY OF THE GERMANIC LANGUAGES MOD. 1 [LMJ510] - BUZZONI Marina\, Lezione
URL;VALUE=URI://www.unive.it/data/insegnamento/559943
DTSTART:20260317T154500
END:VEVENT
BEGIN:VEVENT
DTEND:20260324T171500
UID:69e74c1c1f1a9
DTSTAMP:20260421T100620
LOCATION:Aula Saoneria Ca' Dolfin - Saoneria
SUMMARY:COMPARATIVE HISTORY OF THE GERMANIC LANGUAGES MOD. 1 [LMJ510] - BUZZONI Marina\, Lezione
URL;VALUE=URI://www.unive.it/data/insegnamento/559943
DTSTART:20260324T154500
END:VEVENT
BEGIN:VEVENT
DTEND:20260331T171500
UID:69e74c1c1f203
DTSTAMP:20260421T100620
LOCATION:Aula Saoneria Ca' Dolfin - Saoneria
SUMMARY:COMPARATIVE HISTORY OF THE GERMANIC LANGUAGES MOD. 1 [LMJ510] - BUZZONI Marina\, Lezione
URL;VALUE=URI://www.unive.it/data/insegnamento/559943
DTSTART:20260331T154500
END:VEVENT
BEGIN:VEVENT
DTEND:20260407T171500
UID:69e74c1c1f243
DTSTAMP:20260421T100620
LOCATION:Aula Saoneria Ca' Dolfin - Saoneria
SUMMARY:COMPARATIVE HISTORY OF THE GERMANIC LANGUAGES MOD. 1 [LMJ510] - BUZZONI Marina\, Lezione
URL;VALUE=URI://www.unive.it/data/insegnamento/559943
DTSTART:20260407T154500
END:VEVENT
BEGIN:VEVENT
DTEND:20260414T171500
UID:69e74c1c1f29f
DTSTAMP:20260421T100620
LOCATION:Aula Saoneria Ca' Dolfin - Saoneria
SUMMARY:COMPARATIVE HISTORY OF THE GERMANIC LANGUAGES MOD. 1 [LMJ510] - BUZZONI Marina\, Lezione
URL;VALUE=URI://www.unive.it/data/insegnamento/559943
DTSTART:20260414T154500
END:VEVENT
BEGIN:VEVENT
DTEND:20260421T171500
UID:69e74c1c1f2f9
DTSTAMP:20260421T100620
LOCATION:Aula Saoneria Ca' Dolfin - Saoneria
SUMMARY:COMPARATIVE HISTORY OF THE GERMANIC LANGUAGES MOD. 1 [LMJ510] - BUZZONI Marina\, Lezione
URL;VALUE=URI://www.unive.it/data/insegnamento/559943
DTSTART:20260421T154500
END:VEVENT
BEGIN:VEVENT
DTEND:20260428T171500
UID:69e74c1c1f353
DTSTAMP:20260421T100620
LOCATION:Aula Saoneria Ca' Dolfin - Saoneria
SUMMARY:COMPARATIVE HISTORY OF THE GERMANIC LANGUAGES MOD. 1 [LMJ510] - BUZZONI Marina\, Lezione
URL;VALUE=URI://www.unive.it/data/insegnamento/559943
DTSTART:20260428T154500
END:VEVENT
BEGIN:VEVENT
DTEND:20260505T171500
UID:69e74c1c1f3ab
DTSTAMP:20260421T100620
LOCATION:Aula Saoneria Ca' Dolfin - Saoneria
SUMMARY:COMPARATIVE HISTORY OF THE GERMANIC LANGUAGES MOD. 1 [LMJ510] - BUZZONI Marina\, Lezione
URL;VALUE=URI://www.unive.it/data/insegnamento/559943
DTSTART:20260505T154500
END:VEVENT
BEGIN:VEVENT
DTEND:20260512T171500
UID:69e74c1c1f403
DTSTAMP:20260421T100620
LOCATION:Aula Saoneria Ca' Dolfin - Saoneria
SUMMARY:COMPARATIVE HISTORY OF THE GERMANIC LANGUAGES MOD. 1 [LMJ510] - BUZZONI Marina\, Lezione
URL;VALUE=URI://www.unive.it/data/insegnamento/559943
DTSTART:20260512T154500
END:VEVENT
BEGIN:VEVENT
DTEND:20260519T171500
UID:69e74c1c1f45f
DTSTAMP:20260421T100620
LOCATION:Aula Saoneria Ca' Dolfin - Saoneria
SUMMARY:COMPARATIVE HISTORY OF THE GERMANIC LANGUAGES MOD. 1 [LMJ510] - BUZZONI Marina\, Lezione
URL;VALUE=URI://www.unive.it/data/insegnamento/559943
DTSTART:20260519T154500
END:VEVENT
BEGIN:VEVENT
DTEND:20260526T171500
UID:69e74c1c1f4b8
DTSTAMP:20260421T100620
LOCATION:Aula Saoneria Ca' Dolfin - Saoneria
SUMMARY:COMPARATIVE HISTORY OF THE GERMANIC LANGUAGES MOD. 1 [LMJ510] - BUZZONI Marina\, Lezione
URL;VALUE=URI://www.unive.it/data/insegnamento/559943
DTSTART:20260526T154500
END:VEVENT
END:VCALENDAR