BEGIN:VCALENDAR
VERSION:2.0
PRODID:-//hacksw/handcal//NONSGML v1.0//EN
CALSCALE:GREGORIAN
X-WR-CALNAME:AMERICAN LITERATURE 1 MOD. 1 [LMJ260]
DESCRIPTION:AMERICAN LITERATURE 1 MOD. 1 [LMJ260]
REFRESH-INTERVAL;VALUE=DURATION:P1D
X-WR-TIMEZONE:Europe/Rome
BEGIN:VEVENT
DTEND:20250925T153000
UID:69e819323d6fa
DTSTAMP:20260422T004122
LOCATION:Aula Azzurra Ca' Bernardo
SUMMARY:AMERICAN LITERATURE 1 MOD. 1 [LMJ260] - BORDIN Elisa\, Lezione
URL;VALUE=URI://www.unive.it/data/insegnamento/560098
DTSTART:20250925T140000
END:VEVENT
BEGIN:VEVENT
DTEND:20251002T153000
UID:69e819323d786
DTSTAMP:20260422T004122
LOCATION:Aula Azzurra Ca' Bernardo
SUMMARY:AMERICAN LITERATURE 1 MOD. 1 [LMJ260] - BORDIN Elisa\, Lezione
URL;VALUE=URI://www.unive.it/data/insegnamento/560098
DTSTART:20251002T140000
END:VEVENT
BEGIN:VEVENT
DTEND:20251009T153000
UID:69e819323d7d9
DTSTAMP:20260422T004122
LOCATION:Aula Azzurra Ca' Bernardo
SUMMARY:AMERICAN LITERATURE 1 MOD. 1 [LMJ260] - BORDIN Elisa\, Lezione
URL;VALUE=URI://www.unive.it/data/insegnamento/560098
DTSTART:20251009T140000
END:VEVENT
BEGIN:VEVENT
DTEND:20251016T153000
UID:69e819323d827
DTSTAMP:20260422T004122
LOCATION:Aula Azzurra Ca' Bernardo
SUMMARY:AMERICAN LITERATURE 1 MOD. 1 [LMJ260] - BORDIN Elisa\, Lezione
URL;VALUE=URI://www.unive.it/data/insegnamento/560098
DTSTART:20251016T140000
END:VEVENT
BEGIN:VEVENT
DTEND:20251023T153000
UID:69e819323d871
DTSTAMP:20260422T004122
LOCATION:Aula Azzurra Ca' Bernardo
SUMMARY:AMERICAN LITERATURE 1 MOD. 1 [LMJ260] - BORDIN Elisa\, Lezione
URL;VALUE=URI://www.unive.it/data/insegnamento/560098
DTSTART:20251023T140000
END:VEVENT
BEGIN:VEVENT
DTEND:20251030T153000
UID:69e819323d8ba
DTSTAMP:20260422T004122
LOCATION:Aula Azzurra Ca' Bernardo
SUMMARY:AMERICAN LITERATURE 1 MOD. 1 [LMJ260] - BORDIN Elisa\, Lezione
URL;VALUE=URI://www.unive.it/data/insegnamento/560098
DTSTART:20251030T140000
END:VEVENT
BEGIN:VEVENT
DTEND:20251106T153000
UID:69e819323d905
DTSTAMP:20260422T004122
LOCATION:Aula Azzurra Ca' Bernardo
SUMMARY:AMERICAN LITERATURE 1 MOD. 1 [LMJ260] - BORDIN Elisa\, Lezione
URL;VALUE=URI://www.unive.it/data/insegnamento/560098
DTSTART:20251106T140000
END:VEVENT
BEGIN:VEVENT
DTEND:20251113T153000
UID:69e819323d94f
DTSTAMP:20260422T004122
LOCATION:Aula Azzurra Ca' Bernardo
SUMMARY:AMERICAN LITERATURE 1 MOD. 1 [LMJ260] - BORDIN Elisa\, Lezione
URL;VALUE=URI://www.unive.it/data/insegnamento/560098
DTSTART:20251113T140000
END:VEVENT
BEGIN:VEVENT
DTEND:20251120T153000
UID:69e819323d999
DTSTAMP:20260422T004122
LOCATION:Aula Azzurra Ca' Bernardo
SUMMARY:AMERICAN LITERATURE 1 MOD. 1 [LMJ260] - BORDIN Elisa\, Lezione
URL;VALUE=URI://www.unive.it/data/insegnamento/560098
DTSTART:20251120T140000
END:VEVENT
BEGIN:VEVENT
DTEND:20251127T153000
UID:69e819323d9e3
DTSTAMP:20260422T004122
LOCATION:Aula Azzurra Ca' Bernardo
SUMMARY:AMERICAN LITERATURE 1 MOD. 1 [LMJ260] - BORDIN Elisa\, Lezione
URL;VALUE=URI://www.unive.it/data/insegnamento/560098
DTSTART:20251127T140000
END:VEVENT
BEGIN:VEVENT
DTEND:20251204T153000
UID:69e819323da2e
DTSTAMP:20260422T004122
LOCATION:Aula Azzurra Ca' Bernardo
SUMMARY:AMERICAN LITERATURE 1 MOD. 1 [LMJ260] - BORDIN Elisa\, Lezione
URL;VALUE=URI://www.unive.it/data/insegnamento/560098
DTSTART:20251204T140000
END:VEVENT
BEGIN:VEVENT
DTEND:20251211T153000
UID:69e819323da77
DTSTAMP:20260422T004122
LOCATION:Aula Azzurra Ca' Bernardo
SUMMARY:AMERICAN LITERATURE 1 MOD. 1 [LMJ260] - BORDIN Elisa\, Lezione
URL;VALUE=URI://www.unive.it/data/insegnamento/560098
DTSTART:20251211T140000
END:VEVENT
BEGIN:VEVENT
DTEND:20251218T153000
UID:69e819323dacc
DTSTAMP:20260422T004122
LOCATION:Aula Azzurra Ca' Bernardo
SUMMARY:AMERICAN LITERATURE 1 MOD. 1 [LMJ260] - BORDIN Elisa\, Lezione
URL;VALUE=URI://www.unive.it/data/insegnamento/560098
DTSTART:20251218T140000
END:VEVENT
BEGIN:VEVENT
DTEND:20260115T153000
UID:69e819323db17
DTSTAMP:20260422T004122
LOCATION:Aula Azzurra Ca' Bernardo
SUMMARY:AMERICAN LITERATURE 1 MOD. 1 [LMJ260] - BORDIN Elisa\, Lezione
URL;VALUE=URI://www.unive.it/data/insegnamento/560098
DTSTART:20260115T140000
END:VEVENT
BEGIN:VEVENT
DTEND:20260122T153000
UID:69e819323db60
DTSTAMP:20260422T004122
LOCATION:Aula Azzurra Ca' Bernardo
SUMMARY:AMERICAN LITERATURE 1 MOD. 1 [LMJ260] - BORDIN Elisa\, Lezione
URL;VALUE=URI://www.unive.it/data/insegnamento/560098
DTSTART:20260122T140000
END:VEVENT
END:VCALENDAR