BEGIN:VCALENDAR
VERSION:2.0
PRODID:-//hacksw/handcal//NONSGML v1.0//EN
CALSCALE:GREGORIAN
X-WR-CALNAME:LINGUA NEOGRECA - LINGUA E TRADUZIONE 1 [LM003S]
DESCRIPTION:LINGUA NEOGRECA - LINGUA E TRADUZIONE 1 [LM003S]
REFRESH-INTERVAL;VALUE=DURATION:P1D
X-WR-TIMEZONE:Europe/Rome
BEGIN:VEVENT
DTEND:20250924T101500
UID:69e7986ca76f3
DTSTAMP:20260421T153156
LOCATION:Aula B Ca' Cappello
SUMMARY:LINGUA NEOGRECA - LINGUA E TRADUZIONE 1 [LM003S] - CARPINATO Caterina\, Lezione
URL;VALUE=URI://www.unive.it/data/insegnamento/560152
DTSTART:20250924T084500
END:VEVENT
BEGIN:VEVENT
DTEND:20251001T101500
UID:69e7986ca77af
DTSTAMP:20260421T153156
LOCATION:Aula B Ca' Cappello
SUMMARY:LINGUA NEOGRECA - LINGUA E TRADUZIONE 1 [LM003S] - CARPINATO Caterina\, Lezione
URL;VALUE=URI://www.unive.it/data/insegnamento/560152
DTSTART:20251001T084500
END:VEVENT
BEGIN:VEVENT
DTEND:20251008T101500
UID:69e7986ca77ff
DTSTAMP:20260421T153156
LOCATION:Aula B Ca' Cappello
SUMMARY:LINGUA NEOGRECA - LINGUA E TRADUZIONE 1 [LM003S] - CARPINATO Caterina\, Lezione
URL;VALUE=URI://www.unive.it/data/insegnamento/560152
DTSTART:20251008T084500
END:VEVENT
BEGIN:VEVENT
DTEND:20251015T101500
UID:69e7986ca784c
DTSTAMP:20260421T153156
LOCATION:Aula B Ca' Cappello
SUMMARY:LINGUA NEOGRECA - LINGUA E TRADUZIONE 1 [LM003S] - CARPINATO Caterina\, Lezione
URL;VALUE=URI://www.unive.it/data/insegnamento/560152
DTSTART:20251015T084500
END:VEVENT
BEGIN:VEVENT
DTEND:20251022T101500
UID:69e7986ca7897
DTSTAMP:20260421T153156
LOCATION:Aula B Ca' Cappello
SUMMARY:LINGUA NEOGRECA - LINGUA E TRADUZIONE 1 [LM003S] - CARPINATO Caterina\, Lezione
URL;VALUE=URI://www.unive.it/data/insegnamento/560152
DTSTART:20251022T084500
END:VEVENT
BEGIN:VEVENT
DTEND:20251029T101500
UID:69e7986ca78e2
DTSTAMP:20260421T153156
LOCATION:Aula B Ca' Cappello
SUMMARY:LINGUA NEOGRECA - LINGUA E TRADUZIONE 1 [LM003S] - CARPINATO Caterina\, Lezione
URL;VALUE=URI://www.unive.it/data/insegnamento/560152
DTSTART:20251029T084500
END:VEVENT
BEGIN:VEVENT
DTEND:20251105T101500
UID:69e7986ca792c
DTSTAMP:20260421T153156
LOCATION:Aula B Ca' Cappello
SUMMARY:LINGUA NEOGRECA - LINGUA E TRADUZIONE 1 [LM003S] - CARPINATO Caterina\, Lezione
URL;VALUE=URI://www.unive.it/data/insegnamento/560152
DTSTART:20251105T084500
END:VEVENT
BEGIN:VEVENT
DTEND:20251112T101500
UID:69e7986ca7978
DTSTAMP:20260421T153156
LOCATION:Aula B Ca' Cappello
SUMMARY:LINGUA NEOGRECA - LINGUA E TRADUZIONE 1 [LM003S] - CARPINATO Caterina\, Lezione
URL;VALUE=URI://www.unive.it/data/insegnamento/560152
DTSTART:20251112T084500
END:VEVENT
BEGIN:VEVENT
DTEND:20251119T101500
UID:69e7986ca79c2
DTSTAMP:20260421T153156
LOCATION:Aula B Ca' Cappello
SUMMARY:LINGUA NEOGRECA - LINGUA E TRADUZIONE 1 [LM003S] - CARPINATO Caterina\, Lezione
URL;VALUE=URI://www.unive.it/data/insegnamento/560152
DTSTART:20251119T084500
END:VEVENT
BEGIN:VEVENT
DTEND:20251126T101500
UID:69e7986ca7a20
DTSTAMP:20260421T153156
LOCATION:Aula B Ca' Cappello
SUMMARY:LINGUA NEOGRECA - LINGUA E TRADUZIONE 1 [LM003S] - CARPINATO Caterina\, Lezione
URL;VALUE=URI://www.unive.it/data/insegnamento/560152
DTSTART:20251126T084500
END:VEVENT
BEGIN:VEVENT
DTEND:20251203T101500
UID:69e7986ca7a6c
DTSTAMP:20260421T153156
LOCATION:Aula B Ca' Cappello
SUMMARY:LINGUA NEOGRECA - LINGUA E TRADUZIONE 1 [LM003S] - CARPINATO Caterina\, Lezione
URL;VALUE=URI://www.unive.it/data/insegnamento/560152
DTSTART:20251203T084500
END:VEVENT
BEGIN:VEVENT
DTEND:20251210T101500
UID:69e7986ca7ab8
DTSTAMP:20260421T153156
LOCATION:Aula B Ca' Cappello
SUMMARY:LINGUA NEOGRECA - LINGUA E TRADUZIONE 1 [LM003S] - CARPINATO Caterina\, Lezione
URL;VALUE=URI://www.unive.it/data/insegnamento/560152
DTSTART:20251210T084500
END:VEVENT
BEGIN:VEVENT
DTEND:20251217T101500
UID:69e7986ca7b02
DTSTAMP:20260421T153156
LOCATION:Aula B Ca' Cappello
SUMMARY:LINGUA NEOGRECA - LINGUA E TRADUZIONE 1 [LM003S] - CARPINATO Caterina\, Lezione
URL;VALUE=URI://www.unive.it/data/insegnamento/560152
DTSTART:20251217T084500
END:VEVENT
BEGIN:VEVENT
DTEND:20260114T101500
UID:69e7986ca7b5f
DTSTAMP:20260421T153156
LOCATION:Aula B Ca' Cappello
SUMMARY:LINGUA NEOGRECA - LINGUA E TRADUZIONE 1 [LM003S] - CARPINATO Caterina\, Lezione
URL;VALUE=URI://www.unive.it/data/insegnamento/560152
DTSTART:20260114T084500
END:VEVENT
BEGIN:VEVENT
DTEND:20260121T101500
UID:69e7986ca7bab
DTSTAMP:20260421T153156
LOCATION:Aula B Ca' Cappello
SUMMARY:LINGUA NEOGRECA - LINGUA E TRADUZIONE 1 [LM003S] - CARPINATO Caterina\, Lezione
URL;VALUE=URI://www.unive.it/data/insegnamento/560152
DTSTART:20260121T084500
END:VEVENT
END:VCALENDAR