BEGIN:VCALENDAR
VERSION:2.0
PRODID:-//hacksw/handcal//NONSGML v1.0//EN
CALSCALE:GREGORIAN
X-WR-CALNAME:ELEMENTS OF DIGITAL EDITING [LM1610]
DESCRIPTION:ELEMENTS OF DIGITAL EDITING [LM1610]
REFRESH-INTERVAL;VALUE=DURATION:P1D
X-WR-TIMEZONE:Europe/Rome
BEGIN:VEVENT
DTEND:20250922T101500
UID:69e91229ba12e
DTSTAMP:20260422T182337
LOCATION:Aula A Ca' Bembo
SUMMARY:ELEMENTS OF DIGITAL EDITING [LM1610] - DE BASTIANI Chiara\, Lezione
URL;VALUE=URI://www.unive.it/data/insegnamento/560212
DTSTART:20250922T084500
END:VEVENT
BEGIN:VEVENT
DTEND:20250929T101500
UID:69e91229ba1c6
DTSTAMP:20260422T182337
LOCATION:Aula A Ca' Bembo
SUMMARY:ELEMENTS OF DIGITAL EDITING [LM1610] - DE BASTIANI Chiara\, Lezione
URL;VALUE=URI://www.unive.it/data/insegnamento/560212
DTSTART:20250929T084500
END:VEVENT
BEGIN:VEVENT
DTEND:20251006T101500
UID:69e91229ba218
DTSTAMP:20260422T182337
LOCATION:Aula A Ca' Bembo
SUMMARY:ELEMENTS OF DIGITAL EDITING [LM1610] - DE BASTIANI Chiara\, Lezione
URL;VALUE=URI://www.unive.it/data/insegnamento/560212
DTSTART:20251006T084500
END:VEVENT
BEGIN:VEVENT
DTEND:20251013T101500
UID:69e91229ba267
DTSTAMP:20260422T182337
LOCATION:Aula A Ca' Bembo
SUMMARY:ELEMENTS OF DIGITAL EDITING [LM1610] - DE BASTIANI Chiara\, Lezione
URL;VALUE=URI://www.unive.it/data/insegnamento/560212
DTSTART:20251013T084500
END:VEVENT
BEGIN:VEVENT
DTEND:20251020T101500
UID:69e91229ba2b5
DTSTAMP:20260422T182337
LOCATION:Aula A Ca' Bembo
SUMMARY:ELEMENTS OF DIGITAL EDITING [LM1610] - DE BASTIANI Chiara\, Lezione
URL;VALUE=URI://www.unive.it/data/insegnamento/560212
DTSTART:20251020T084500
END:VEVENT
BEGIN:VEVENT
DTEND:20251027T101500
UID:69e91229ba301
DTSTAMP:20260422T182337
LOCATION:Aula A Ca' Bembo
SUMMARY:ELEMENTS OF DIGITAL EDITING [LM1610] - DE BASTIANI Chiara\, Lezione
URL;VALUE=URI://www.unive.it/data/insegnamento/560212
DTSTART:20251027T084500
END:VEVENT
BEGIN:VEVENT
DTEND:20251103T101500
UID:69e91229ba34b
DTSTAMP:20260422T182337
LOCATION:Aula A Ca' Bembo
SUMMARY:ELEMENTS OF DIGITAL EDITING [LM1610] - DE BASTIANI Chiara\, Lezione
URL;VALUE=URI://www.unive.it/data/insegnamento/560212
DTSTART:20251103T084500
END:VEVENT
BEGIN:VEVENT
DTEND:20251110T101500
UID:69e91229ba396
DTSTAMP:20260422T182337
LOCATION:Aula A Ca' Bembo
SUMMARY:ELEMENTS OF DIGITAL EDITING [LM1610] - DE BASTIANI Chiara\, Lezione
URL;VALUE=URI://www.unive.it/data/insegnamento/560212
DTSTART:20251110T084500
END:VEVENT
BEGIN:VEVENT
DTEND:20251113T190000
UID:69e91229ba3e1
DTSTAMP:20260422T182337
LOCATION:Aula Elena Cornaro Ca' Bembo
SUMMARY:ELEMENTS OF DIGITAL EDITING [LM1610] - DE BASTIANI Chiara\, Lezione
URL;VALUE=URI://www.unive.it/data/insegnamento/560212
DTSTART:20251113T173000
END:VEVENT
BEGIN:VEVENT
DTEND:20251117T101500
UID:69e91229ba42c
DTSTAMP:20260422T182337
LOCATION:Aula A Ca' Bembo
SUMMARY:ELEMENTS OF DIGITAL EDITING [LM1610] - DE BASTIANI Chiara\, Lezione
URL;VALUE=URI://www.unive.it/data/insegnamento/560212
DTSTART:20251117T084500
END:VEVENT
BEGIN:VEVENT
DTEND:20251124T101500
UID:69e91229ba476
DTSTAMP:20260422T182337
LOCATION:Aula A Ca' Bembo
SUMMARY:ELEMENTS OF DIGITAL EDITING [LM1610] - DE BASTIANI Chiara\, Lezione
URL;VALUE=URI://www.unive.it/data/insegnamento/560212
DTSTART:20251124T084500
END:VEVENT
BEGIN:VEVENT
DTEND:20251201T101500
UID:69e91229ba4c0
DTSTAMP:20260422T182337
LOCATION:Aula A Ca' Bembo
SUMMARY:ELEMENTS OF DIGITAL EDITING [LM1610] - DE BASTIANI Chiara\, Lezione
URL;VALUE=URI://www.unive.it/data/insegnamento/560212
DTSTART:20251201T084500
END:VEVENT
BEGIN:VEVENT
DTEND:20251218T190000
UID:69e91229ba50a
DTSTAMP:20260422T182337
LOCATION:Aula Elena Cornaro Ca' Bembo
SUMMARY:ELEMENTS OF DIGITAL EDITING [LM1610] - DE BASTIANI Chiara\, Lezione
URL;VALUE=URI://www.unive.it/data/insegnamento/560212
DTSTART:20251218T173000
END:VEVENT
BEGIN:VEVENT
DTEND:20260112T101500
UID:69e91229ba554
DTSTAMP:20260422T182337
LOCATION:Aula A Ca' Bembo
SUMMARY:ELEMENTS OF DIGITAL EDITING [LM1610] - DE BASTIANI Chiara\, Lezione
URL;VALUE=URI://www.unive.it/data/insegnamento/560212
DTSTART:20260112T084500
END:VEVENT
BEGIN:VEVENT
DTEND:20260115T190000
UID:69e91229ba59d
DTSTAMP:20260422T182337
LOCATION:Aula A Ca' Bembo
SUMMARY:ELEMENTS OF DIGITAL EDITING [LM1610] - DE BASTIANI Chiara\, Lezione
URL;VALUE=URI://www.unive.it/data/insegnamento/560212
DTSTART:20260115T173000
END:VEVENT
BEGIN:VEVENT
DTEND:20260119T101500
UID:69e91229ba5e7
DTSTAMP:20260422T182337
LOCATION:Aula A Ca' Bembo
SUMMARY:ELEMENTS OF DIGITAL EDITING [LM1610] - DE BASTIANI Chiara\, Lezione
URL;VALUE=URI://www.unive.it/data/insegnamento/560212
DTSTART:20260119T084500
END:VEVENT
END:VCALENDAR