BEGIN:VCALENDAR
VERSION:2.0
PRODID:-//hacksw/handcal//NONSGML v1.0//EN
CALSCALE:GREGORIAN
X-WR-CALNAME:LETTERATURA NEOGRECA 1 [LT001S]
DESCRIPTION:LETTERATURA NEOGRECA 1 [LT001S]
REFRESH-INTERVAL;VALUE=DURATION:P1D
X-WR-TIMEZONE:Europe/Rome
BEGIN:VEVENT
DTEND:20250922T171500
UID:69e775a43af08
DTSTAMP:20260421T130332
LOCATION:Aula 4 Rio Novo
SUMMARY:LETTERATURA NEOGRECA 1 [LT001S] - CARPINATO Caterina\, Lezione
URL;VALUE=URI://www.unive.it/data/insegnamento/560316
DTSTART:20250922T154500
END:VEVENT
BEGIN:VEVENT
DTEND:20250929T171500
UID:69e775a43af95
DTSTAMP:20260421T130332
LOCATION:Aula 4 Rio Novo
SUMMARY:LETTERATURA NEOGRECA 1 [LT001S] - CARPINATO Caterina\, Lezione
URL;VALUE=URI://www.unive.it/data/insegnamento/560316
DTSTART:20250929T154500
END:VEVENT
BEGIN:VEVENT
DTEND:20251006T171500
UID:69e775a43afe8
DTSTAMP:20260421T130332
LOCATION:Aula 4 Rio Novo
SUMMARY:LETTERATURA NEOGRECA 1 [LT001S] - CARPINATO Caterina\, Lezione
URL;VALUE=URI://www.unive.it/data/insegnamento/560316
DTSTART:20251006T154500
END:VEVENT
BEGIN:VEVENT
DTEND:20251013T171500
UID:69e775a43b036
DTSTAMP:20260421T130332
LOCATION:Aula 4 Rio Novo
SUMMARY:LETTERATURA NEOGRECA 1 [LT001S] - CARPINATO Caterina\, Lezione
URL;VALUE=URI://www.unive.it/data/insegnamento/560316
DTSTART:20251013T154500
END:VEVENT
BEGIN:VEVENT
DTEND:20251020T171500
UID:69e775a43b081
DTSTAMP:20260421T130332
LOCATION:Aula 4 Rio Novo
SUMMARY:LETTERATURA NEOGRECA 1 [LT001S] - CARPINATO Caterina\, Lezione
URL;VALUE=URI://www.unive.it/data/insegnamento/560316
DTSTART:20251020T154500
END:VEVENT
BEGIN:VEVENT
DTEND:20251027T171500
UID:69e775a43b0cc
DTSTAMP:20260421T130332
LOCATION:Aula 4 Rio Novo
SUMMARY:LETTERATURA NEOGRECA 1 [LT001S] - CARPINATO Caterina\, Lezione
URL;VALUE=URI://www.unive.it/data/insegnamento/560316
DTSTART:20251027T154500
END:VEVENT
BEGIN:VEVENT
DTEND:20251103T171500
UID:69e775a43b115
DTSTAMP:20260421T130332
LOCATION:Aula 4 Rio Novo
SUMMARY:LETTERATURA NEOGRECA 1 [LT001S] - CARPINATO Caterina\, Lezione
URL;VALUE=URI://www.unive.it/data/insegnamento/560316
DTSTART:20251103T154500
END:VEVENT
BEGIN:VEVENT
DTEND:20251110T171500
UID:69e775a43b15f
DTSTAMP:20260421T130332
LOCATION:Aula 4 Rio Novo
SUMMARY:LETTERATURA NEOGRECA 1 [LT001S] - CARPINATO Caterina\, Lezione
URL;VALUE=URI://www.unive.it/data/insegnamento/560316
DTSTART:20251110T154500
END:VEVENT
BEGIN:VEVENT
DTEND:20251117T171500
UID:69e775a43b1a9
DTSTAMP:20260421T130332
LOCATION:Aula 4 Rio Novo
SUMMARY:LETTERATURA NEOGRECA 1 [LT001S] - CARPINATO Caterina\, Lezione
URL;VALUE=URI://www.unive.it/data/insegnamento/560316
DTSTART:20251117T154500
END:VEVENT
BEGIN:VEVENT
DTEND:20251124T171500
UID:69e775a43b1f2
DTSTAMP:20260421T130332
LOCATION:Aula 4 Rio Novo
SUMMARY:LETTERATURA NEOGRECA 1 [LT001S] - CARPINATO Caterina\, Lezione
URL;VALUE=URI://www.unive.it/data/insegnamento/560316
DTSTART:20251124T154500
END:VEVENT
BEGIN:VEVENT
DTEND:20251201T171500
UID:69e775a43b23c
DTSTAMP:20260421T130332
LOCATION:Aula 4 Rio Novo
SUMMARY:LETTERATURA NEOGRECA 1 [LT001S] - CARPINATO Caterina\, Lezione
URL;VALUE=URI://www.unive.it/data/insegnamento/560316
DTSTART:20251201T154500
END:VEVENT
BEGIN:VEVENT
DTEND:20251215T171500
UID:69e775a43b286
DTSTAMP:20260421T130332
LOCATION:Aula 4 Rio Novo
SUMMARY:LETTERATURA NEOGRECA 1 [LT001S] - CARPINATO Caterina\, Lezione
URL;VALUE=URI://www.unive.it/data/insegnamento/560316
DTSTART:20251215T154500
END:VEVENT
BEGIN:VEVENT
DTEND:20260112T171500
UID:69e775a43b2d0
DTSTAMP:20260421T130332
LOCATION:Aula 4 Rio Novo
SUMMARY:LETTERATURA NEOGRECA 1 [LT001S] - CARPINATO Caterina\, Lezione
URL;VALUE=URI://www.unive.it/data/insegnamento/560316
DTSTART:20260112T154500
END:VEVENT
BEGIN:VEVENT
DTEND:20260119T171500
UID:69e775a43b31b
DTSTAMP:20260421T130332
LOCATION:Aula 4 Rio Novo
SUMMARY:LETTERATURA NEOGRECA 1 [LT001S] - CARPINATO Caterina\, Lezione
URL;VALUE=URI://www.unive.it/data/insegnamento/560316
DTSTART:20260119T154500
END:VEVENT
END:VCALENDAR