BEGIN:VCALENDAR
VERSION:2.0
PRODID:-//hacksw/handcal//NONSGML v1.0//EN
CALSCALE:GREGORIAN
X-WR-CALNAME:LABORATORIO SUL RISCHIO DI RICICLAGGIO E AUTORICICLAGGIO NEI REATI TRIBUTARI E FRODI FISCALI [EM2083]
DESCRIPTION:LABORATORIO SUL RISCHIO DI RICICLAGGIO E AUTORICICLAGGIO NEI REATI TRIBUTARI E FRODI FISCALI [EM2083]
REFRESH-INTERVAL;VALUE=DURATION:P1D
X-WR-TIMEZONE:Europe/Rome
BEGIN:VEVENT
DTEND:20260218T120000
UID:69e819321986e
DTSTAMP:20260422T004122
LOCATION:Aula 8B San Giobbe
SUMMARY:LABORATORIO SUL RISCHIO DI RICICLAGGIO E AUTORICICLAGGIO NEI REATI TRIBUTARI E FRODI FISCALI [EM2083] - Mazzonetto Simone\, Lezione
URL;VALUE=URI://www.unive.it/data/insegnamento/561423
DTSTART:20260218T103000
END:VEVENT
BEGIN:VEVENT
DTEND:20260219T171500
UID:69e8193219906
DTSTAMP:20260422T004122
LOCATION:Aula 9C San Giobbe
SUMMARY:LABORATORIO SUL RISCHIO DI RICICLAGGIO E AUTORICICLAGGIO NEI REATI TRIBUTARI E FRODI FISCALI [EM2083] - Mazzonetto Simone\, Lezione
URL;VALUE=URI://www.unive.it/data/insegnamento/561423
DTSTART:20260219T154500
END:VEVENT
BEGIN:VEVENT
DTEND:20260220T171500
UID:69e819321995c
DTSTAMP:20260422T004122
LOCATION:Aula 8B San Giobbe
SUMMARY:LABORATORIO SUL RISCHIO DI RICICLAGGIO E AUTORICICLAGGIO NEI REATI TRIBUTARI E FRODI FISCALI [EM2083] - Mazzonetto Simone\, Lezione
URL;VALUE=URI://www.unive.it/data/insegnamento/561423
DTSTART:20260220T154500
END:VEVENT
BEGIN:VEVENT
DTEND:20260225T120000
UID:69e81932199ac
DTSTAMP:20260422T004122
LOCATION:Aula 8B San Giobbe
SUMMARY:LABORATORIO SUL RISCHIO DI RICICLAGGIO E AUTORICICLAGGIO NEI REATI TRIBUTARI E FRODI FISCALI [EM2083] - Mazzonetto Simone\, Lezione
URL;VALUE=URI://www.unive.it/data/insegnamento/561423
DTSTART:20260225T103000
END:VEVENT
BEGIN:VEVENT
DTEND:20260226T171500
UID:69e81932199f9
DTSTAMP:20260422T004122
LOCATION:Aula 9C San Giobbe
SUMMARY:LABORATORIO SUL RISCHIO DI RICICLAGGIO E AUTORICICLAGGIO NEI REATI TRIBUTARI E FRODI FISCALI [EM2083] - Mazzonetto Simone\, Lezione
URL;VALUE=URI://www.unive.it/data/insegnamento/561423
DTSTART:20260226T154500
END:VEVENT
BEGIN:VEVENT
DTEND:20260227T171500
UID:69e8193219a47
DTSTAMP:20260422T004122
LOCATION:Aula 8B San Giobbe
SUMMARY:LABORATORIO SUL RISCHIO DI RICICLAGGIO E AUTORICICLAGGIO NEI REATI TRIBUTARI E FRODI FISCALI [EM2083] - Mazzonetto Simone\, Lezione
URL;VALUE=URI://www.unive.it/data/insegnamento/561423
DTSTART:20260227T154500
END:VEVENT
BEGIN:VEVENT
DTEND:20260304T120000
UID:69e8193219a93
DTSTAMP:20260422T004122
LOCATION:Aula 8B San Giobbe
SUMMARY:LABORATORIO SUL RISCHIO DI RICICLAGGIO E AUTORICICLAGGIO NEI REATI TRIBUTARI E FRODI FISCALI [EM2083] - Mazzonetto Simone\, Lezione
URL;VALUE=URI://www.unive.it/data/insegnamento/561423
DTSTART:20260304T103000
END:VEVENT
BEGIN:VEVENT
DTEND:20260305T171500
UID:69e8193219ae7
DTSTAMP:20260422T004122
LOCATION:Aula 9C San Giobbe
SUMMARY:LABORATORIO SUL RISCHIO DI RICICLAGGIO E AUTORICICLAGGIO NEI REATI TRIBUTARI E FRODI FISCALI [EM2083] - Mazzonetto Simone\, Lezione
URL;VALUE=URI://www.unive.it/data/insegnamento/561423
DTSTART:20260305T154500
END:VEVENT
BEGIN:VEVENT
DTEND:20260306T171500
UID:69e8193219b33
DTSTAMP:20260422T004122
LOCATION:Aula 8B San Giobbe
SUMMARY:LABORATORIO SUL RISCHIO DI RICICLAGGIO E AUTORICICLAGGIO NEI REATI TRIBUTARI E FRODI FISCALI [EM2083] - Mazzonetto Simone\, Lezione
URL;VALUE=URI://www.unive.it/data/insegnamento/561423
DTSTART:20260306T154500
END:VEVENT
BEGIN:VEVENT
DTEND:20260311T120000
UID:69e8193219b7f
DTSTAMP:20260422T004122
LOCATION:Aula 8B San Giobbe
SUMMARY:LABORATORIO SUL RISCHIO DI RICICLAGGIO E AUTORICICLAGGIO NEI REATI TRIBUTARI E FRODI FISCALI [EM2083] - Mazzonetto Simone\, Lezione
URL;VALUE=URI://www.unive.it/data/insegnamento/561423
DTSTART:20260311T103000
END:VEVENT
BEGIN:VEVENT
DTEND:20260312T171500
UID:69e8193219bcb
DTSTAMP:20260422T004122
LOCATION:Aula 9C San Giobbe
SUMMARY:LABORATORIO SUL RISCHIO DI RICICLAGGIO E AUTORICICLAGGIO NEI REATI TRIBUTARI E FRODI FISCALI [EM2083] - Mazzonetto Simone\, Lezione
URL;VALUE=URI://www.unive.it/data/insegnamento/561423
DTSTART:20260312T154500
END:VEVENT
BEGIN:VEVENT
DTEND:20260313T171500
UID:69e8193219c17
DTSTAMP:20260422T004122
LOCATION:Aula 8B San Giobbe
SUMMARY:LABORATORIO SUL RISCHIO DI RICICLAGGIO E AUTORICICLAGGIO NEI REATI TRIBUTARI E FRODI FISCALI [EM2083] - Mazzonetto Simone\, Lezione
URL;VALUE=URI://www.unive.it/data/insegnamento/561423
DTSTART:20260313T154500
END:VEVENT
BEGIN:VEVENT
DTEND:20260318T120000
UID:69e8193219c50
DTSTAMP:20260422T004122
LOCATION:Aula 8B San Giobbe
SUMMARY:LABORATORIO SUL RISCHIO DI RICICLAGGIO E AUTORICICLAGGIO NEI REATI TRIBUTARI E FRODI FISCALI [EM2083] - Mazzonetto Simone\, Lezione
URL;VALUE=URI://www.unive.it/data/insegnamento/561423
DTSTART:20260318T103000
END:VEVENT
BEGIN:VEVENT
DTEND:20260319T171500
UID:69e8193219c9c
DTSTAMP:20260422T004122
LOCATION:Aula 9C San Giobbe
SUMMARY:LABORATORIO SUL RISCHIO DI RICICLAGGIO E AUTORICICLAGGIO NEI REATI TRIBUTARI E FRODI FISCALI [EM2083] - Mazzonetto Simone\, Lezione
URL;VALUE=URI://www.unive.it/data/insegnamento/561423
DTSTART:20260319T154500
END:VEVENT
BEGIN:VEVENT
DTEND:20260320T171500
UID:69e8193219ce9
DTSTAMP:20260422T004122
LOCATION:Aula 9A San Giobbe
SUMMARY:LABORATORIO SUL RISCHIO DI RICICLAGGIO E AUTORICICLAGGIO NEI REATI TRIBUTARI E FRODI FISCALI [EM2083] - Mazzonetto Simone\, Lezione
URL;VALUE=URI://www.unive.it/data/insegnamento/561423
DTSTART:20260320T154500
END:VEVENT
BEGIN:VEVENT
DTEND:20260325T120000
UID:69e8193219d35
DTSTAMP:20260422T004122
LOCATION:Aula 8B San Giobbe
SUMMARY:LABORATORIO SUL RISCHIO DI RICICLAGGIO E AUTORICICLAGGIO NEI REATI TRIBUTARI E FRODI FISCALI [EM2083] - Mazzonetto Simone\, Lezione
URL;VALUE=URI://www.unive.it/data/insegnamento/561423
DTSTART:20260325T103000
END:VEVENT
BEGIN:VEVENT
DTEND:20260326T171500
UID:69e8193219d82
DTSTAMP:20260422T004122
LOCATION:Aula 9C San Giobbe
SUMMARY:LABORATORIO SUL RISCHIO DI RICICLAGGIO E AUTORICICLAGGIO NEI REATI TRIBUTARI E FRODI FISCALI [EM2083] - Mazzonetto Simone\, Lezione
URL;VALUE=URI://www.unive.it/data/insegnamento/561423
DTSTART:20260326T154500
END:VEVENT
BEGIN:VEVENT
DTEND:20260327T171500
UID:69e8193219dce
DTSTAMP:20260422T004122
LOCATION:Aula 8B San Giobbe
SUMMARY:LABORATORIO SUL RISCHIO DI RICICLAGGIO E AUTORICICLAGGIO NEI REATI TRIBUTARI E FRODI FISCALI [EM2083] - Mazzonetto Simone\, Lezione
URL;VALUE=URI://www.unive.it/data/insegnamento/561423
DTSTART:20260327T154500
END:VEVENT
END:VCALENDAR