BEGIN:VCALENDAR
VERSION:2.0
PRODID:-//hacksw/handcal//NONSGML v1.0//EN
CALSCALE:GREGORIAN
X-WR-CALNAME:STORIA DELL'EUROPA CENTRALE E ORIENTALE [LM6650]
DESCRIPTION:STORIA DELL'EUROPA CENTRALE E ORIENTALE [LM6650]
REFRESH-INTERVAL;VALUE=DURATION:P1D
X-WR-TIMEZONE:Europe/Rome
BEGIN:VEVENT
DTEND:20260304T120000
UID:69e905b75f00e
DTSTAMP:20260422T173031
LOCATION:Aula Rio Novo Rio Novo
SUMMARY:STORIA DELL'EUROPA CENTRALE E ORIENTALE [LM6650] - PETRUNGARO Stefano\, Lezione
URL;VALUE=URI://www.unive.it/data/insegnamento/561836
DTSTART:20260304T103000
END:VEVENT
BEGIN:VEVENT
DTEND:20260311T120000
UID:69e905b75f09f
DTSTAMP:20260422T173031
LOCATION:Aula Rio Novo Rio Novo
SUMMARY:STORIA DELL'EUROPA CENTRALE E ORIENTALE [LM6650] - PETRUNGARO Stefano\, Lezione
URL;VALUE=URI://www.unive.it/data/insegnamento/561836
DTSTART:20260311T103000
END:VEVENT
BEGIN:VEVENT
DTEND:20260318T120000
UID:69e905b75f0ee
DTSTAMP:20260422T173031
LOCATION:Aula Rio Novo Rio Novo
SUMMARY:STORIA DELL'EUROPA CENTRALE E ORIENTALE [LM6650] - PETRUNGARO Stefano\, Lezione
URL;VALUE=URI://www.unive.it/data/insegnamento/561836
DTSTART:20260318T103000
END:VEVENT
BEGIN:VEVENT
DTEND:20260325T120000
UID:69e905b75f13a
DTSTAMP:20260422T173031
LOCATION:Aula Rio Novo Rio Novo
SUMMARY:STORIA DELL'EUROPA CENTRALE E ORIENTALE [LM6650] - PETRUNGARO Stefano\, Lezione
URL;VALUE=URI://www.unive.it/data/insegnamento/561836
DTSTART:20260325T103000
END:VEVENT
BEGIN:VEVENT
DTEND:20260325T134500
UID:69e905b75f186
DTSTAMP:20260422T173031
LOCATION:Sala audio 1 Palazzo Cosulich
SUMMARY:STORIA DELL'EUROPA CENTRALE E ORIENTALE [LM6650] - PETRUNGARO Stefano\, Lezione
URL;VALUE=URI://www.unive.it/data/insegnamento/561836
DTSTART:20260325T121500
END:VEVENT
BEGIN:VEVENT
DTEND:20260401T120000
UID:69e905b75f1b3
DTSTAMP:20260422T173031
LOCATION:Aula Rio Novo Rio Novo
SUMMARY:STORIA DELL'EUROPA CENTRALE E ORIENTALE [LM6650] - PETRUNGARO Stefano\, Lezione
URL;VALUE=URI://www.unive.it/data/insegnamento/561836
DTSTART:20260401T103000
END:VEVENT
BEGIN:VEVENT
DTEND:20260408T120000
UID:69e905b75f200
DTSTAMP:20260422T173031
LOCATION:Aula Rio Novo Rio Novo
SUMMARY:STORIA DELL'EUROPA CENTRALE E ORIENTALE [LM6650] - PETRUNGARO Stefano\, Lezione
URL;VALUE=URI://www.unive.it/data/insegnamento/561836
DTSTART:20260408T103000
END:VEVENT
BEGIN:VEVENT
DTEND:20260415T120000
UID:69e905b75f24a
DTSTAMP:20260422T173031
LOCATION:Aula Rio Novo Rio Novo
SUMMARY:STORIA DELL'EUROPA CENTRALE E ORIENTALE [LM6650] - PETRUNGARO Stefano\, Lezione
URL;VALUE=URI://www.unive.it/data/insegnamento/561836
DTSTART:20260415T103000
END:VEVENT
BEGIN:VEVENT
DTEND:20260422T120000
UID:69e905b75f296
DTSTAMP:20260422T173031
LOCATION:Aula Rio Novo Rio Novo
SUMMARY:STORIA DELL'EUROPA CENTRALE E ORIENTALE [LM6650] - PETRUNGARO Stefano\, Lezione
URL;VALUE=URI://www.unive.it/data/insegnamento/561836
DTSTART:20260422T103000
END:VEVENT
BEGIN:VEVENT
DTEND:20260429T120000
UID:69e905b75f2e1
DTSTAMP:20260422T173031
LOCATION:Aula Rio Novo Rio Novo
SUMMARY:STORIA DELL'EUROPA CENTRALE E ORIENTALE [LM6650] - PETRUNGARO Stefano\, Lezione
URL;VALUE=URI://www.unive.it/data/insegnamento/561836
DTSTART:20260429T103000
END:VEVENT
BEGIN:VEVENT
DTEND:20260506T120000
UID:69e905b75f334
DTSTAMP:20260422T173031
LOCATION:Aula Rio Novo Rio Novo
SUMMARY:STORIA DELL'EUROPA CENTRALE E ORIENTALE [LM6650] - PETRUNGARO Stefano\, Lezione
URL;VALUE=URI://www.unive.it/data/insegnamento/561836
DTSTART:20260506T103000
END:VEVENT
BEGIN:VEVENT
DTEND:20260513T120000
UID:69e905b75f37e
DTSTAMP:20260422T173031
LOCATION:Aula Rio Novo Rio Novo
SUMMARY:STORIA DELL'EUROPA CENTRALE E ORIENTALE [LM6650] - PETRUNGARO Stefano\, Lezione
URL;VALUE=URI://www.unive.it/data/insegnamento/561836
DTSTART:20260513T103000
END:VEVENT
BEGIN:VEVENT
DTEND:20260520T120000
UID:69e905b75f3c8
DTSTAMP:20260422T173031
LOCATION:Aula Rio Novo Rio Novo
SUMMARY:STORIA DELL'EUROPA CENTRALE E ORIENTALE [LM6650] - PETRUNGARO Stefano\, Lezione
URL;VALUE=URI://www.unive.it/data/insegnamento/561836
DTSTART:20260520T103000
END:VEVENT
BEGIN:VEVENT
DTEND:20260527T120000
UID:69e905b75f412
DTSTAMP:20260422T173031
LOCATION:Aula Rio Novo Rio Novo
SUMMARY:STORIA DELL'EUROPA CENTRALE E ORIENTALE [LM6650] - PETRUNGARO Stefano\, Lezione
URL;VALUE=URI://www.unive.it/data/insegnamento/561836
DTSTART:20260527T103000
END:VEVENT
BEGIN:VEVENT
DTEND:20260603T120000
UID:69e905b75f45c
DTSTAMP:20260422T173031
LOCATION:Aula Rio Novo Rio Novo
SUMMARY:STORIA DELL'EUROPA CENTRALE E ORIENTALE [LM6650] - PETRUNGARO Stefano\, Lezione
URL;VALUE=URI://www.unive.it/data/insegnamento/561836
DTSTART:20260603T103000
END:VEVENT
END:VCALENDAR