BEGIN:VCALENDAR
VERSION:2.0
PRODID:-//hacksw/handcal//NONSGML v1.0//EN
CALSCALE:GREGORIAN
X-WR-CALNAME:COMPUTATIONAL TOOLS FOR ECONOMICS AND MANAGEMENT [ET2003]
DESCRIPTION:COMPUTATIONAL TOOLS FOR ECONOMICS AND MANAGEMENT [ET2003]
REFRESH-INTERVAL;VALUE=DURATION:P1D
X-WR-TIMEZONE:Europe/Rome
BEGIN:VEVENT
DTEND:20260217T101500
UID:69e95b9c849d2
DTSTAMP:20260422T233700
LOCATION:Aula 6A San Giobbe
SUMMARY:COMPUTATIONAL TOOLS FOR ECONOMICS AND MANAGEMENT [ET2003] - FASANO Giovanni\, Lezione
URL;VALUE=URI://www.unive.it/data/insegnamento/562760
DTSTART:20260217T084500
END:VEVENT
BEGIN:VEVENT
DTEND:20260218T120000
UID:69e95b9c84a62
DTSTAMP:20260422T233700
LOCATION:Aula 6A San Giobbe
SUMMARY:COMPUTATIONAL TOOLS FOR ECONOMICS AND MANAGEMENT [ET2003] - FASANO Giovanni\, Lezione
URL;VALUE=URI://www.unive.it/data/insegnamento/562760
DTSTART:20260218T103000
END:VEVENT
BEGIN:VEVENT
DTEND:20260223T153000
UID:69e95b9c84ab5
DTSTAMP:20260422T233700
LOCATION:Aula 6A San Giobbe
SUMMARY:COMPUTATIONAL TOOLS FOR ECONOMICS AND MANAGEMENT [ET2003] - FASANO Giovanni\, Lezione
URL;VALUE=URI://www.unive.it/data/insegnamento/562760
DTSTART:20260223T140000
END:VEVENT
BEGIN:VEVENT
DTEND:20260224T101500
UID:69e95b9c84b05
DTSTAMP:20260422T233700
LOCATION:Aula 6A San Giobbe
SUMMARY:COMPUTATIONAL TOOLS FOR ECONOMICS AND MANAGEMENT [ET2003] - FASANO Giovanni\, Lezione
URL;VALUE=URI://www.unive.it/data/insegnamento/562760
DTSTART:20260224T084500
END:VEVENT
BEGIN:VEVENT
DTEND:20260225T120000
UID:69e95b9c84b47
DTSTAMP:20260422T233700
LOCATION:Aula 6A San Giobbe
SUMMARY:COMPUTATIONAL TOOLS FOR ECONOMICS AND MANAGEMENT [ET2003] - FASANO Giovanni\, Lezione
URL;VALUE=URI://www.unive.it/data/insegnamento/562760
DTSTART:20260225T103000
END:VEVENT
BEGIN:VEVENT
DTEND:20260302T153000
UID:69e95b9c84b91
DTSTAMP:20260422T233700
LOCATION:Aula 6A San Giobbe
SUMMARY:COMPUTATIONAL TOOLS FOR ECONOMICS AND MANAGEMENT [ET2003] - FASANO Giovanni\, Lezione
URL;VALUE=URI://www.unive.it/data/insegnamento/562760
DTSTART:20260302T140000
END:VEVENT
BEGIN:VEVENT
DTEND:20260303T101500
UID:69e95b9c84bdd
DTSTAMP:20260422T233700
LOCATION:Aula 6A San Giobbe
SUMMARY:COMPUTATIONAL TOOLS FOR ECONOMICS AND MANAGEMENT [ET2003] - FASANO Giovanni\, Lezione
URL;VALUE=URI://www.unive.it/data/insegnamento/562760
DTSTART:20260303T084500
END:VEVENT
BEGIN:VEVENT
DTEND:20260304T120000
UID:69e95b9c84c28
DTSTAMP:20260422T233700
LOCATION:Aula 6A San Giobbe
SUMMARY:COMPUTATIONAL TOOLS FOR ECONOMICS AND MANAGEMENT [ET2003] - FASANO Giovanni\, Lezione
URL;VALUE=URI://www.unive.it/data/insegnamento/562760
DTSTART:20260304T103000
END:VEVENT
BEGIN:VEVENT
DTEND:20260309T153000
UID:69e95b9c84c73
DTSTAMP:20260422T233700
LOCATION:Aula 6A San Giobbe
SUMMARY:COMPUTATIONAL TOOLS FOR ECONOMICS AND MANAGEMENT [ET2003] - FASANO Giovanni\, Lezione
URL;VALUE=URI://www.unive.it/data/insegnamento/562760
DTSTART:20260309T140000
END:VEVENT
BEGIN:VEVENT
DTEND:20260310T101500
UID:69e95b9c84cbd
DTSTAMP:20260422T233700
LOCATION:Aula 6A San Giobbe
SUMMARY:COMPUTATIONAL TOOLS FOR ECONOMICS AND MANAGEMENT [ET2003] - FASANO Giovanni\, Lezione
URL;VALUE=URI://www.unive.it/data/insegnamento/562760
DTSTART:20260310T084500
END:VEVENT
BEGIN:VEVENT
DTEND:20260311T120000
UID:69e95b9c84d0d
DTSTAMP:20260422T233700
LOCATION:Aula 6A San Giobbe
SUMMARY:COMPUTATIONAL TOOLS FOR ECONOMICS AND MANAGEMENT [ET2003] - FASANO Giovanni\, Lezione
URL;VALUE=URI://www.unive.it/data/insegnamento/562760
DTSTART:20260311T103000
END:VEVENT
BEGIN:VEVENT
DTEND:20260316T153000
UID:69e95b9c84d57
DTSTAMP:20260422T233700
LOCATION:Aula 6A San Giobbe
SUMMARY:COMPUTATIONAL TOOLS FOR ECONOMICS AND MANAGEMENT [ET2003] - FASANO Giovanni\, Lezione
URL;VALUE=URI://www.unive.it/data/insegnamento/562760
DTSTART:20260316T140000
END:VEVENT
BEGIN:VEVENT
DTEND:20260317T101500
UID:69e95b9c84da2
DTSTAMP:20260422T233700
LOCATION:Aula 6A San Giobbe
SUMMARY:COMPUTATIONAL TOOLS FOR ECONOMICS AND MANAGEMENT [ET2003] - FASANO Giovanni\, Lezione
URL;VALUE=URI://www.unive.it/data/insegnamento/562760
DTSTART:20260317T084500
END:VEVENT
BEGIN:VEVENT
DTEND:20260318T120000
UID:69e95b9c84ded
DTSTAMP:20260422T233700
LOCATION:Aula 6A San Giobbe
SUMMARY:COMPUTATIONAL TOOLS FOR ECONOMICS AND MANAGEMENT [ET2003] - FASANO Giovanni\, Lezione
URL;VALUE=URI://www.unive.it/data/insegnamento/562760
DTSTART:20260318T103000
END:VEVENT
BEGIN:VEVENT
DTEND:20260323T153000
UID:69e95b9c84e38
DTSTAMP:20260422T233700
LOCATION:Aula 6A San Giobbe
SUMMARY:COMPUTATIONAL TOOLS FOR ECONOMICS AND MANAGEMENT [ET2003] - FASANO Giovanni\, Lezione
URL;VALUE=URI://www.unive.it/data/insegnamento/562760
DTSTART:20260323T140000
END:VEVENT
BEGIN:VEVENT
DTEND:20260324T101500
UID:69e95b9c84e82
DTSTAMP:20260422T233700
LOCATION:Aula 6A San Giobbe
SUMMARY:COMPUTATIONAL TOOLS FOR ECONOMICS AND MANAGEMENT [ET2003] - FASANO Giovanni\, Lezione
URL;VALUE=URI://www.unive.it/data/insegnamento/562760
DTSTART:20260324T084500
END:VEVENT
BEGIN:VEVENT
DTEND:20260325T120000
UID:69e95b9c84ecd
DTSTAMP:20260422T233700
LOCATION:Aula 6A San Giobbe
SUMMARY:COMPUTATIONAL TOOLS FOR ECONOMICS AND MANAGEMENT [ET2003] - FASANO Giovanni\, Lezione
URL;VALUE=URI://www.unive.it/data/insegnamento/562760
DTSTART:20260325T103000
END:VEVENT
END:VCALENDAR