BEGIN:VCALENDAR
VERSION:2.0
PRODID:-//hacksw/handcal//NONSGML v1.0//EN
CALSCALE:GREGORIAN
X-WR-CALNAME:STORIA DELL'ARTE CINESE 1 [LT0380]
DESCRIPTION:STORIA DELL'ARTE CINESE 1 [LT0380]
REFRESH-INTERVAL;VALUE=DURATION:P1D
X-WR-TIMEZONE:Europe/Rome
BEGIN:VEVENT
DTEND:20260223T134500
UID:69e74c122c0c0
DTSTAMP:20260421T100610
LOCATION:Aula 2B Polo didattico San Basilio (Magazzino 5)
SUMMARY:STORIA DELL'ARTE CINESE 1 [LT0380] - RASTELLI Sabrina\, Lezione
URL;VALUE=URI://www.unive.it/data/insegnamento/564519
DTSTART:20260223T121500
END:VEVENT
BEGIN:VEVENT
DTEND:20260302T134500
UID:69e74c122c14d
DTSTAMP:20260421T100610
LOCATION:Aula 2B Polo didattico San Basilio (Magazzino 5)
SUMMARY:STORIA DELL'ARTE CINESE 1 [LT0380] - RASTELLI Sabrina\, Lezione
URL;VALUE=URI://www.unive.it/data/insegnamento/564519
DTSTART:20260302T121500
END:VEVENT
BEGIN:VEVENT
DTEND:20260309T134500
UID:69e74c122c1af
DTSTAMP:20260421T100610
LOCATION:Aula 2B Polo didattico San Basilio (Magazzino 5)
SUMMARY:STORIA DELL'ARTE CINESE 1 [LT0380] - RASTELLI Sabrina\, Lezione
URL;VALUE=URI://www.unive.it/data/insegnamento/564519
DTSTART:20260309T121500
END:VEVENT
BEGIN:VEVENT
DTEND:20260316T134500
UID:69e74c122c20e
DTSTAMP:20260421T100610
LOCATION:Aula 2B Polo didattico San Basilio (Magazzino 5)
SUMMARY:STORIA DELL'ARTE CINESE 1 [LT0380] - RASTELLI Sabrina\, Lezione
URL;VALUE=URI://www.unive.it/data/insegnamento/564519
DTSTART:20260316T121500
END:VEVENT
BEGIN:VEVENT
DTEND:20260323T134500
UID:69e74c122c26c
DTSTAMP:20260421T100610
LOCATION:Aula 2B Polo didattico San Basilio (Magazzino 5)
SUMMARY:STORIA DELL'ARTE CINESE 1 [LT0380] - RASTELLI Sabrina\, Lezione
URL;VALUE=URI://www.unive.it/data/insegnamento/564519
DTSTART:20260323T121500
END:VEVENT
BEGIN:VEVENT
DTEND:20260330T134500
UID:69e74c122c2ca
DTSTAMP:20260421T100610
LOCATION:Aula 2B Polo didattico San Basilio (Magazzino 5)
SUMMARY:STORIA DELL'ARTE CINESE 1 [LT0380] - RASTELLI Sabrina\, Lezione
URL;VALUE=URI://www.unive.it/data/insegnamento/564519
DTSTART:20260330T121500
END:VEVENT
BEGIN:VEVENT
DTEND:20260410T190000
UID:69e74c122c327
DTSTAMP:20260421T100610
LOCATION:ALTRO Altro
SUMMARY:STORIA DELL'ARTE CINESE 1 [LT0380] - RASTELLI Sabrina\, Lezione
URL;VALUE=URI://www.unive.it/data/insegnamento/564519
DTSTART:20260410T173000
END:VEVENT
BEGIN:VEVENT
DTEND:20260413T134500
UID:69e74c122c382
DTSTAMP:20260421T100610
LOCATION:Aula 2B Polo didattico San Basilio (Magazzino 5)
SUMMARY:STORIA DELL'ARTE CINESE 1 [LT0380] - RASTELLI Sabrina\, Lezione
URL;VALUE=URI://www.unive.it/data/insegnamento/564519
DTSTART:20260413T121500
END:VEVENT
BEGIN:VEVENT
DTEND:20260420T134500
UID:69e74c122c3df
DTSTAMP:20260421T100610
LOCATION:Aula 2B Polo didattico San Basilio (Magazzino 5)
SUMMARY:STORIA DELL'ARTE CINESE 1 [LT0380] - RASTELLI Sabrina\, Lezione
URL;VALUE=URI://www.unive.it/data/insegnamento/564519
DTSTART:20260420T121500
END:VEVENT
BEGIN:VEVENT
DTEND:20260427T134500
UID:69e74c122c43b
DTSTAMP:20260421T100610
LOCATION:Aula 2B Polo didattico San Basilio (Magazzino 5)
SUMMARY:STORIA DELL'ARTE CINESE 1 [LT0380] - RASTELLI Sabrina\, Lezione
URL;VALUE=URI://www.unive.it/data/insegnamento/564519
DTSTART:20260427T121500
END:VEVENT
BEGIN:VEVENT
DTEND:20260504T134500
UID:69e74c122c498
DTSTAMP:20260421T100610
LOCATION:Aula 2B Polo didattico San Basilio (Magazzino 5)
SUMMARY:STORIA DELL'ARTE CINESE 1 [LT0380] - RASTELLI Sabrina\, Lezione
URL;VALUE=URI://www.unive.it/data/insegnamento/564519
DTSTART:20260504T121500
END:VEVENT
BEGIN:VEVENT
DTEND:20260511T134500
UID:69e74c122c4f6
DTSTAMP:20260421T100610
LOCATION:Aula 2B Polo didattico San Basilio (Magazzino 5)
SUMMARY:STORIA DELL'ARTE CINESE 1 [LT0380] - RASTELLI Sabrina\, Lezione
URL;VALUE=URI://www.unive.it/data/insegnamento/564519
DTSTART:20260511T121500
END:VEVENT
BEGIN:VEVENT
DTEND:20260518T134500
UID:69e74c122c53b
DTSTAMP:20260421T100610
LOCATION:Aula 2B Polo didattico San Basilio (Magazzino 5)
SUMMARY:STORIA DELL'ARTE CINESE 1 [LT0380] - RASTELLI Sabrina\, Lezione
URL;VALUE=URI://www.unive.it/data/insegnamento/564519
DTSTART:20260518T121500
END:VEVENT
BEGIN:VEVENT
DTEND:20260525T134500
UID:69e74c122c598
DTSTAMP:20260421T100610
LOCATION:Aula 2B Polo didattico San Basilio (Magazzino 5)
SUMMARY:STORIA DELL'ARTE CINESE 1 [LT0380] - RASTELLI Sabrina\, Lezione
URL;VALUE=URI://www.unive.it/data/insegnamento/564519
DTSTART:20260525T121500
END:VEVENT
END:VCALENDAR