BEGIN:VCALENDAR
VERSION:2.0
PRODID:-//hacksw/handcal//NONSGML v1.0//EN
CALSCALE:GREGORIAN
X-WR-CALNAME:LETTERATURA ITALIANA [LT0180]
DESCRIPTION:LETTERATURA ITALIANA [LT0180]
REFRESH-INTERVAL;VALUE=DURATION:P1D
X-WR-TIMEZONE:Europe/Rome
BEGIN:VEVENT
DTEND:20251003T101500
UID:69e7962e4abff
DTSTAMP:20260421T152222
LOCATION:Aula gradoni Santa Marta
SUMMARY:LETTERATURA ITALIANA [LT0180] - \, Lezione
URL;VALUE=URI://www.unive.it/data/insegnamento/564528
DTSTART:20251003T084500
END:VEVENT
BEGIN:VEVENT
DTEND:20251010T101500
UID:69e7962e4aca2
DTSTAMP:20260421T152222
LOCATION:Aula gradoni Santa Marta
SUMMARY:LETTERATURA ITALIANA [LT0180] - \, Lezione
URL;VALUE=URI://www.unive.it/data/insegnamento/564528
DTSTART:20251010T084500
END:VEVENT
BEGIN:VEVENT
DTEND:20251017T101500
UID:69e7962e4acf7
DTSTAMP:20260421T152222
LOCATION:Aula gradoni Santa Marta
SUMMARY:LETTERATURA ITALIANA [LT0180] - \, Lezione
URL;VALUE=URI://www.unive.it/data/insegnamento/564528
DTSTART:20251017T084500
END:VEVENT
BEGIN:VEVENT
DTEND:20251024T101500
UID:69e7962e4ad49
DTSTAMP:20260421T152222
LOCATION:Aula gradoni Santa Marta
SUMMARY:LETTERATURA ITALIANA [LT0180] - \, Lezione
URL;VALUE=URI://www.unive.it/data/insegnamento/564528
DTSTART:20251024T084500
END:VEVENT
BEGIN:VEVENT
DTEND:20251031T101500
UID:69e7962e4ad8f
DTSTAMP:20260421T152222
LOCATION:Aula gradoni Santa Marta
SUMMARY:LETTERATURA ITALIANA [LT0180] - \, Lezione
URL;VALUE=URI://www.unive.it/data/insegnamento/564528
DTSTART:20251031T084500
END:VEVENT
BEGIN:VEVENT
DTEND:20251107T101500
UID:69e7962e4ade2
DTSTAMP:20260421T152222
LOCATION:Aula gradoni Santa Marta
SUMMARY:LETTERATURA ITALIANA [LT0180] - \, Lezione
URL;VALUE=URI://www.unive.it/data/insegnamento/564528
DTSTART:20251107T084500
END:VEVENT
BEGIN:VEVENT
DTEND:20251114T101500
UID:69e7962e4ae33
DTSTAMP:20260421T152222
LOCATION:Aula gradoni Santa Marta
SUMMARY:LETTERATURA ITALIANA [LT0180] - \, Lezione
URL;VALUE=URI://www.unive.it/data/insegnamento/564528
DTSTART:20251114T084500
END:VEVENT
BEGIN:VEVENT
DTEND:20251128T101500
UID:69e7962e4ae86
DTSTAMP:20260421T152222
LOCATION:Aula gradoni Santa Marta
SUMMARY:LETTERATURA ITALIANA [LT0180] - \, Lezione
URL;VALUE=URI://www.unive.it/data/insegnamento/564528
DTSTART:20251128T084500
END:VEVENT
BEGIN:VEVENT
DTEND:20251205T101500
UID:69e7962e4aed8
DTSTAMP:20260421T152222
LOCATION:Aula gradoni Santa Marta
SUMMARY:LETTERATURA ITALIANA [LT0180] - \, Lezione
URL;VALUE=URI://www.unive.it/data/insegnamento/564528
DTSTART:20251205T084500
END:VEVENT
BEGIN:VEVENT
DTEND:20251210T190000
UID:69e7962e4af2a
DTSTAMP:20260421T152222
LOCATION:Aula gradoni Santa Marta
SUMMARY:LETTERATURA ITALIANA [LT0180] - ACCIARINO Damiano\, Lezione
URL;VALUE=URI://www.unive.it/data/insegnamento/564528
DTSTART:20251210T173000
END:VEVENT
BEGIN:VEVENT
DTEND:20251212T101500
UID:69e7962e4af7e
DTSTAMP:20260421T152222
LOCATION:Aula gradoni Santa Marta
SUMMARY:LETTERATURA ITALIANA [LT0180] - \, Lezione
URL;VALUE=URI://www.unive.it/data/insegnamento/564528
DTSTART:20251212T084500
END:VEVENT
BEGIN:VEVENT
DTEND:20251219T101500
UID:69e7962e4afcf
DTSTAMP:20260421T152222
LOCATION:Aula gradoni Santa Marta
SUMMARY:LETTERATURA ITALIANA [LT0180] - \, Lezione
URL;VALUE=URI://www.unive.it/data/insegnamento/564528
DTSTART:20251219T084500
END:VEVENT
BEGIN:VEVENT
DTEND:20260114T190000
UID:69e7962e4b021
DTSTAMP:20260421T152222
LOCATION:Aula MF6 Polo didattico San Basilio (MF - Magazzini Frigoriferi)
SUMMARY:LETTERATURA ITALIANA [LT0180] - ACCIARINO Damiano\, Lezione
URL;VALUE=URI://www.unive.it/data/insegnamento/564528
DTSTART:20260114T173000
END:VEVENT
BEGIN:VEVENT
DTEND:20260116T101500
UID:69e7962e4b075
DTSTAMP:20260421T152222
LOCATION:Aula gradoni Santa Marta
SUMMARY:LETTERATURA ITALIANA [LT0180] - \, Lezione
URL;VALUE=URI://www.unive.it/data/insegnamento/564528
DTSTART:20260116T084500
END:VEVENT
BEGIN:VEVENT
DTEND:20260123T101500
UID:69e7962e4b0c8
DTSTAMP:20260421T152222
LOCATION:Aula gradoni Santa Marta
SUMMARY:LETTERATURA ITALIANA [LT0180] - \, Lezione
URL;VALUE=URI://www.unive.it/data/insegnamento/564528
DTSTART:20260123T084500
END:VEVENT
END:VCALENDAR