BEGIN:VCALENDAR
VERSION:2.0
PRODID:-//hacksw/handcal//NONSGML v1.0//EN
CALSCALE:GREGORIAN
X-WR-CALNAME:THE ANTHROPOCENE: DETECTION AND ATTRIBUTION OF CURRENT CLIMATE CHANGES IN A GLOBAL PERSPECTIVE [LMH320]
DESCRIPTION:THE ANTHROPOCENE: DETECTION AND ATTRIBUTION OF CURRENT CLIMATE CHANGES IN A GLOBAL PERSPECTIVE [LMH320]
REFRESH-INTERVAL;VALUE=DURATION:P1D
X-WR-TIMEZONE:Europe/Rome
BEGIN:VEVENT
DTEND:20250922T120000
UID:69e7aea4e291e
DTSTAMP:20260421T170644
LOCATION:Aula 1D Polo didattico San Basilio (Magazzino 5)
SUMMARY:THE ANTHROPOCENE: DETECTION AND ATTRIBUTION OF CURRENT CLIMATE CHANGES IN A GLOBAL PERSPECTIVE [LMH320] - BARBANTE Carlo\, Lezione
URL;VALUE=URI://www.unive.it/data/insegnamento/565404
DTSTART:20250922T103000
END:VEVENT
BEGIN:VEVENT
DTEND:20250923T190000
UID:69e7aea4e29a7
DTSTAMP:20260421T170644
LOCATION:Aula 3 Rio Novo
SUMMARY:THE ANTHROPOCENE: DETECTION AND ATTRIBUTION OF CURRENT CLIMATE CHANGES IN A GLOBAL PERSPECTIVE [LMH320] - BARBANTE Carlo\, Lezione
URL;VALUE=URI://www.unive.it/data/insegnamento/565404
DTSTART:20250923T173000
END:VEVENT
BEGIN:VEVENT
DTEND:20250926T120000
UID:69e7aea4e29fc
DTSTAMP:20260421T170644
LOCATION:Aula 1A Palazzo Moro
SUMMARY:THE ANTHROPOCENE: DETECTION AND ATTRIBUTION OF CURRENT CLIMATE CHANGES IN A GLOBAL PERSPECTIVE [LMH320] - BARBANTE Carlo\, Lezione
URL;VALUE=URI://www.unive.it/data/insegnamento/565404
DTSTART:20250926T103000
END:VEVENT
BEGIN:VEVENT
DTEND:20250929T120000
UID:69e7aea4e2a4d
DTSTAMP:20260421T170644
LOCATION:Aula 1D Polo didattico San Basilio (Magazzino 5)
SUMMARY:THE ANTHROPOCENE: DETECTION AND ATTRIBUTION OF CURRENT CLIMATE CHANGES IN A GLOBAL PERSPECTIVE [LMH320] - BARBANTE Carlo\, Lezione
URL;VALUE=URI://www.unive.it/data/insegnamento/565404
DTSTART:20250929T103000
END:VEVENT
BEGIN:VEVENT
DTEND:20250930T190000
UID:69e7aea4e2a9d
DTSTAMP:20260421T170644
LOCATION:Aula 3 Rio Novo
SUMMARY:THE ANTHROPOCENE: DETECTION AND ATTRIBUTION OF CURRENT CLIMATE CHANGES IN A GLOBAL PERSPECTIVE [LMH320] - BARBANTE Carlo\, Lezione
URL;VALUE=URI://www.unive.it/data/insegnamento/565404
DTSTART:20250930T173000
END:VEVENT
BEGIN:VEVENT
DTEND:20251003T120000
UID:69e7aea4e2aea
DTSTAMP:20260421T170644
LOCATION:Aula 1A Palazzo Moro
SUMMARY:THE ANTHROPOCENE: DETECTION AND ATTRIBUTION OF CURRENT CLIMATE CHANGES IN A GLOBAL PERSPECTIVE [LMH320] - BARBANTE Carlo\, Lezione
URL;VALUE=URI://www.unive.it/data/insegnamento/565404
DTSTART:20251003T103000
END:VEVENT
BEGIN:VEVENT
DTEND:20251006T120000
UID:69e7aea4e2b29
DTSTAMP:20260421T170644
LOCATION:Aula 1D Polo didattico San Basilio (Magazzino 5)
SUMMARY:THE ANTHROPOCENE: DETECTION AND ATTRIBUTION OF CURRENT CLIMATE CHANGES IN A GLOBAL PERSPECTIVE [LMH320] - BARBANTE Carlo\, Lezione
URL;VALUE=URI://www.unive.it/data/insegnamento/565404
DTSTART:20251006T103000
END:VEVENT
BEGIN:VEVENT
DTEND:20251007T190000
UID:69e7aea4e2b76
DTSTAMP:20260421T170644
LOCATION:Aula 3 Rio Novo
SUMMARY:THE ANTHROPOCENE: DETECTION AND ATTRIBUTION OF CURRENT CLIMATE CHANGES IN A GLOBAL PERSPECTIVE [LMH320] - BARBANTE Carlo\, Lezione
URL;VALUE=URI://www.unive.it/data/insegnamento/565404
DTSTART:20251007T173000
END:VEVENT
BEGIN:VEVENT
DTEND:20251010T120000
UID:69e7aea4e2bc3
DTSTAMP:20260421T170644
LOCATION:Aula 1A Palazzo Moro
SUMMARY:THE ANTHROPOCENE: DETECTION AND ATTRIBUTION OF CURRENT CLIMATE CHANGES IN A GLOBAL PERSPECTIVE [LMH320] - BARBANTE Carlo\, Lezione
URL;VALUE=URI://www.unive.it/data/insegnamento/565404
DTSTART:20251010T103000
END:VEVENT
BEGIN:VEVENT
DTEND:20251013T120000
UID:69e7aea4e2c0f
DTSTAMP:20260421T170644
LOCATION:Aula 1D Polo didattico San Basilio (Magazzino 5)
SUMMARY:THE ANTHROPOCENE: DETECTION AND ATTRIBUTION OF CURRENT CLIMATE CHANGES IN A GLOBAL PERSPECTIVE [LMH320] - BARBANTE Carlo\, Lezione
URL;VALUE=URI://www.unive.it/data/insegnamento/565404
DTSTART:20251013T103000
END:VEVENT
BEGIN:VEVENT
DTEND:20251014T190000
UID:69e7aea4e2c5d
DTSTAMP:20260421T170644
LOCATION:Aula 3 Rio Novo
SUMMARY:THE ANTHROPOCENE: DETECTION AND ATTRIBUTION OF CURRENT CLIMATE CHANGES IN A GLOBAL PERSPECTIVE [LMH320] - BARBANTE Carlo\, Lezione
URL;VALUE=URI://www.unive.it/data/insegnamento/565404
DTSTART:20251014T173000
END:VEVENT
BEGIN:VEVENT
DTEND:20251017T120000
UID:69e7aea4e2ca9
DTSTAMP:20260421T170644
LOCATION:Aula 1A Palazzo Moro
SUMMARY:THE ANTHROPOCENE: DETECTION AND ATTRIBUTION OF CURRENT CLIMATE CHANGES IN A GLOBAL PERSPECTIVE [LMH320] - BARBANTE Carlo\, Lezione
URL;VALUE=URI://www.unive.it/data/insegnamento/565404
DTSTART:20251017T103000
END:VEVENT
BEGIN:VEVENT
DTEND:20251020T120000
UID:69e7aea4e2cf6
DTSTAMP:20260421T170644
LOCATION:Aula 1D Polo didattico San Basilio (Magazzino 5)
SUMMARY:THE ANTHROPOCENE: DETECTION AND ATTRIBUTION OF CURRENT CLIMATE CHANGES IN A GLOBAL PERSPECTIVE [LMH320] - BARBANTE Carlo\, Lezione
URL;VALUE=URI://www.unive.it/data/insegnamento/565404
DTSTART:20251020T103000
END:VEVENT
BEGIN:VEVENT
DTEND:20251021T190000
UID:69e7aea4e2d42
DTSTAMP:20260421T170644
LOCATION:Aula 3 Rio Novo
SUMMARY:THE ANTHROPOCENE: DETECTION AND ATTRIBUTION OF CURRENT CLIMATE CHANGES IN A GLOBAL PERSPECTIVE [LMH320] - BARBANTE Carlo\, Lezione
URL;VALUE=URI://www.unive.it/data/insegnamento/565404
DTSTART:20251021T173000
END:VEVENT
BEGIN:VEVENT
DTEND:20251024T120000
UID:69e7aea4e2d94
DTSTAMP:20260421T170644
LOCATION:Aula 1A Palazzo Moro
SUMMARY:THE ANTHROPOCENE: DETECTION AND ATTRIBUTION OF CURRENT CLIMATE CHANGES IN A GLOBAL PERSPECTIVE [LMH320] - BARBANTE Carlo\, Lezione
URL;VALUE=URI://www.unive.it/data/insegnamento/565404
DTSTART:20251024T103000
END:VEVENT
BEGIN:VEVENT
DTEND:20251027T120000
UID:69e7aea4e2de0
DTSTAMP:20260421T170644
LOCATION:Aula 1D Polo didattico San Basilio (Magazzino 5)
SUMMARY:THE ANTHROPOCENE: DETECTION AND ATTRIBUTION OF CURRENT CLIMATE CHANGES IN A GLOBAL PERSPECTIVE [LMH320] - BARBANTE Carlo\, Lezione
URL;VALUE=URI://www.unive.it/data/insegnamento/565404
DTSTART:20251027T103000
END:VEVENT
BEGIN:VEVENT
DTEND:20251028T190000
UID:69e7aea4e2e2d
DTSTAMP:20260421T170644
LOCATION:Aula 3 Rio Novo
SUMMARY:THE ANTHROPOCENE: DETECTION AND ATTRIBUTION OF CURRENT CLIMATE CHANGES IN A GLOBAL PERSPECTIVE [LMH320] - BARBANTE Carlo\, Lezione
URL;VALUE=URI://www.unive.it/data/insegnamento/565404
DTSTART:20251028T173000
END:VEVENT
BEGIN:VEVENT
DTEND:20251031T120000
UID:69e7aea4e2e79
DTSTAMP:20260421T170644
LOCATION:Aula 1A Palazzo Moro
SUMMARY:THE ANTHROPOCENE: DETECTION AND ATTRIBUTION OF CURRENT CLIMATE CHANGES IN A GLOBAL PERSPECTIVE [LMH320] - BARBANTE Carlo\, Lezione
URL;VALUE=URI://www.unive.it/data/insegnamento/565404
DTSTART:20251031T103000
END:VEVENT
END:VCALENDAR