BEGIN:VCALENDAR
VERSION:2.0
PRODID:-//hacksw/handcal//NONSGML v1.0//EN
CALSCALE:GREGORIAN
X-WR-CALNAME:LINGUA E LETTERATURA SIRIACA [LM2515]
DESCRIPTION:LINGUA E LETTERATURA SIRIACA [LM2515]
REFRESH-INTERVAL;VALUE=DURATION:P1D
X-WR-TIMEZONE:Europe/Rome
BEGIN:VEVENT
DTEND:20260223T153000
UID:69e905b7ba043
DTSTAMP:20260422T173031
LOCATION:Aula Elena Cornaro Ca' Bembo
SUMMARY:LINGUA E LETTERATURA SIRIACA [LM2515] - FIORI Emiliano Bronislaw\, Lezione
URL;VALUE=URI://www.unive.it/data/insegnamento/565913
DTSTART:20260223T140000
END:VEVENT
BEGIN:VEVENT
DTEND:20260302T153000
UID:69e905b7ba0f9
DTSTAMP:20260422T173031
LOCATION:Aula Elena Cornaro Ca' Bembo
SUMMARY:LINGUA E LETTERATURA SIRIACA [LM2515] - FIORI Emiliano Bronislaw\, Lezione
URL;VALUE=URI://www.unive.it/data/insegnamento/565913
DTSTART:20260302T140000
END:VEVENT
BEGIN:VEVENT
DTEND:20260309T153000
UID:69e905b7ba15d
DTSTAMP:20260422T173031
LOCATION:Aula Elena Cornaro Ca' Bembo
SUMMARY:LINGUA E LETTERATURA SIRIACA [LM2515] - FIORI Emiliano Bronislaw\, Lezione
URL;VALUE=URI://www.unive.it/data/insegnamento/565913
DTSTART:20260309T140000
END:VEVENT
BEGIN:VEVENT
DTEND:20260316T153000
UID:69e905b7ba1bb
DTSTAMP:20260422T173031
LOCATION:Aula 2C Polo didattico San Basilio (Magazzino 5)
SUMMARY:LINGUA E LETTERATURA SIRIACA [LM2515] - FIORI Emiliano Bronislaw\, Lezione
URL;VALUE=URI://www.unive.it/data/insegnamento/565913
DTSTART:20260316T140000
END:VEVENT
BEGIN:VEVENT
DTEND:20260323T153000
UID:69e905b7ba215
DTSTAMP:20260422T173031
LOCATION:Aula Elena Cornaro Ca' Bembo
SUMMARY:LINGUA E LETTERATURA SIRIACA [LM2515] - FIORI Emiliano Bronislaw\, Lezione
URL;VALUE=URI://www.unive.it/data/insegnamento/565913
DTSTART:20260323T140000
END:VEVENT
BEGIN:VEVENT
DTEND:20260330T153000
UID:69e905b7ba264
DTSTAMP:20260422T173031
LOCATION:Aula Elena Cornaro Ca' Bembo
SUMMARY:LINGUA E LETTERATURA SIRIACA [LM2515] - FIORI Emiliano Bronislaw\, Lezione
URL;VALUE=URI://www.unive.it/data/insegnamento/565913
DTSTART:20260330T140000
END:VEVENT
BEGIN:VEVENT
DTEND:20260413T153000
UID:69e905b7ba2b9
DTSTAMP:20260422T173031
LOCATION:Aula Elena Cornaro Ca' Bembo
SUMMARY:LINGUA E LETTERATURA SIRIACA [LM2515] - FIORI Emiliano Bronislaw\, Lezione
URL;VALUE=URI://www.unive.it/data/insegnamento/565913
DTSTART:20260413T140000
END:VEVENT
BEGIN:VEVENT
DTEND:20260420T153000
UID:69e905b7ba313
DTSTAMP:20260422T173031
LOCATION:Aula Elena Cornaro Ca' Bembo
SUMMARY:LINGUA E LETTERATURA SIRIACA [LM2515] - FIORI Emiliano Bronislaw\, Lezione
URL;VALUE=URI://www.unive.it/data/insegnamento/565913
DTSTART:20260420T140000
END:VEVENT
BEGIN:VEVENT
DTEND:20260421T153000
UID:69e905b7ba36e
DTSTAMP:20260422T173031
LOCATION:Aula C Ca' Bembo
SUMMARY:LINGUA E LETTERATURA SIRIACA [LM2515] - FIORI Emiliano Bronislaw\, Lezione
URL;VALUE=URI://www.unive.it/data/insegnamento/565913
DTSTART:20260421T140000
END:VEVENT
BEGIN:VEVENT
DTEND:20260427T153000
UID:69e905b7ba3c6
DTSTAMP:20260422T173031
LOCATION:Aula Elena Cornaro Ca' Bembo
SUMMARY:LINGUA E LETTERATURA SIRIACA [LM2515] - FIORI Emiliano Bronislaw\, Lezione
URL;VALUE=URI://www.unive.it/data/insegnamento/565913
DTSTART:20260427T140000
END:VEVENT
BEGIN:VEVENT
DTEND:20260428T153000
UID:69e905b7ba422
DTSTAMP:20260422T173031
LOCATION:Aula 0P Polo didattico San Basilio (Magazzino 4)
SUMMARY:LINGUA E LETTERATURA SIRIACA [LM2515] - FIORI Emiliano Bronislaw\, Lezione
URL;VALUE=URI://www.unive.it/data/insegnamento/565913
DTSTART:20260428T140000
END:VEVENT
BEGIN:VEVENT
DTEND:20260504T153000
UID:69e905b7ba47f
DTSTAMP:20260422T173031
LOCATION:Aula Elena Cornaro Ca' Bembo
SUMMARY:LINGUA E LETTERATURA SIRIACA [LM2515] - FIORI Emiliano Bronislaw\, Lezione
URL;VALUE=URI://www.unive.it/data/insegnamento/565913
DTSTART:20260504T140000
END:VEVENT
BEGIN:VEVENT
DTEND:20260511T153000
UID:69e905b7ba4ca
DTSTAMP:20260422T173031
LOCATION:Aula Elena Cornaro Ca' Bembo
SUMMARY:LINGUA E LETTERATURA SIRIACA [LM2515] - FIORI Emiliano Bronislaw\, Lezione
URL;VALUE=URI://www.unive.it/data/insegnamento/565913
DTSTART:20260511T140000
END:VEVENT
BEGIN:VEVENT
DTEND:20260518T153000
UID:69e905b7ba516
DTSTAMP:20260422T173031
LOCATION:Aula Elena Cornaro Ca' Bembo
SUMMARY:LINGUA E LETTERATURA SIRIACA [LM2515] - FIORI Emiliano Bronislaw\, Lezione
URL;VALUE=URI://www.unive.it/data/insegnamento/565913
DTSTART:20260518T140000
END:VEVENT
BEGIN:VEVENT
DTEND:20260525T153000
UID:69e905b7ba562
DTSTAMP:20260422T173031
LOCATION:Aula Elena Cornaro Ca' Bembo
SUMMARY:LINGUA E LETTERATURA SIRIACA [LM2515] - FIORI Emiliano Bronislaw\, Lezione
URL;VALUE=URI://www.unive.it/data/insegnamento/565913
DTSTART:20260525T140000
END:VEVENT
END:VCALENDAR