BEGIN:VCALENDAR
VERSION:2.0
PRODID:-//hacksw/handcal//NONSGML v1.0//EN
CALSCALE:GREGORIAN
X-WR-CALNAME:ANCIENT MEDITERRANEAN RELIGION AND MAGIC [LM4100]
DESCRIPTION:ANCIENT MEDITERRANEAN RELIGION AND MAGIC [LM4100]
REFRESH-INTERVAL;VALUE=DURATION:P1D
X-WR-TIMEZONE:Europe/Rome
BEGIN:VEVENT
DTEND:20260223T171500
UID:69e9468aa4c66
DTSTAMP:20260422T220706
LOCATION:Sala audio 2 Palazzo Cosulich
SUMMARY:ANCIENT MEDITERRANEAN RELIGION AND MAGIC [LM4100] - SANZO Joseph Emanuel\, Lezione
URL;VALUE=URI://www.unive.it/data/insegnamento/565928
DTSTART:20260223T154500
END:VEVENT
BEGIN:VEVENT
DTEND:20260302T171500
UID:69e9468aa4d1f
DTSTAMP:20260422T220706
LOCATION:Sala audio 2 Palazzo Cosulich
SUMMARY:ANCIENT MEDITERRANEAN RELIGION AND MAGIC [LM4100] - SANZO Joseph Emanuel\, Lezione
URL;VALUE=URI://www.unive.it/data/insegnamento/565928
DTSTART:20260302T154500
END:VEVENT
BEGIN:VEVENT
DTEND:20260309T171500
UID:69e9468aa4d75
DTSTAMP:20260422T220706
LOCATION:Sala audio 2 Palazzo Cosulich
SUMMARY:ANCIENT MEDITERRANEAN RELIGION AND MAGIC [LM4100] - SANZO Joseph Emanuel\, Lezione
URL;VALUE=URI://www.unive.it/data/insegnamento/565928
DTSTART:20260309T154500
END:VEVENT
BEGIN:VEVENT
DTEND:20260316T171500
UID:69e9468aa4dcc
DTSTAMP:20260422T220706
LOCATION:Sala audio 2 Palazzo Cosulich
SUMMARY:ANCIENT MEDITERRANEAN RELIGION AND MAGIC [LM4100] - SANZO Joseph Emanuel\, Lezione
URL;VALUE=URI://www.unive.it/data/insegnamento/565928
DTSTART:20260316T154500
END:VEVENT
BEGIN:VEVENT
DTEND:20260323T171500
UID:69e9468aa4e25
DTSTAMP:20260422T220706
LOCATION:Sala audio 2 Palazzo Cosulich
SUMMARY:ANCIENT MEDITERRANEAN RELIGION AND MAGIC [LM4100] - SANZO Joseph Emanuel\, Lezione
URL;VALUE=URI://www.unive.it/data/insegnamento/565928
DTSTART:20260323T154500
END:VEVENT
BEGIN:VEVENT
DTEND:20260328T101500
UID:69e9468aa4e83
DTSTAMP:20260422T220706
LOCATION:Aula Padoan San Sebastiano
SUMMARY:ANCIENT MEDITERRANEAN RELIGION AND MAGIC [LM4100] - SANZO Joseph Emanuel\, Lezione
URL;VALUE=URI://www.unive.it/data/insegnamento/565928
DTSTART:20260328T084500
END:VEVENT
BEGIN:VEVENT
DTEND:20260330T171500
UID:69e9468aa4ed3
DTSTAMP:20260422T220706
LOCATION:Sala audio 2 Palazzo Cosulich
SUMMARY:ANCIENT MEDITERRANEAN RELIGION AND MAGIC [LM4100] - SANZO Joseph Emanuel\, Lezione
URL;VALUE=URI://www.unive.it/data/insegnamento/565928
DTSTART:20260330T154500
END:VEVENT
BEGIN:VEVENT
DTEND:20260413T171500
UID:69e9468aa4f3d
DTSTAMP:20260422T220706
LOCATION:Sala audio 2 Palazzo Cosulich
SUMMARY:ANCIENT MEDITERRANEAN RELIGION AND MAGIC [LM4100] - SANZO Joseph Emanuel\, Lezione
URL;VALUE=URI://www.unive.it/data/insegnamento/565928
DTSTART:20260413T154500
END:VEVENT
BEGIN:VEVENT
DTEND:20260418T101500
UID:69e9468aa4f99
DTSTAMP:20260422T220706
LOCATION:Aula Padoan San Sebastiano
SUMMARY:ANCIENT MEDITERRANEAN RELIGION AND MAGIC [LM4100] - SANZO Joseph Emanuel\, Lezione
URL;VALUE=URI://www.unive.it/data/insegnamento/565928
DTSTART:20260418T084500
END:VEVENT
BEGIN:VEVENT
DTEND:20260420T171500
UID:69e9468aa4ff3
DTSTAMP:20260422T220706
LOCATION:Sala audio 2 Palazzo Cosulich
SUMMARY:ANCIENT MEDITERRANEAN RELIGION AND MAGIC [LM4100] - SANZO Joseph Emanuel\, Lezione
URL;VALUE=URI://www.unive.it/data/insegnamento/565928
DTSTART:20260420T154500
END:VEVENT
BEGIN:VEVENT
DTEND:20260427T171500
UID:69e9468aa5049
DTSTAMP:20260422T220706
LOCATION:Sala audio 2 Palazzo Cosulich
SUMMARY:ANCIENT MEDITERRANEAN RELIGION AND MAGIC [LM4100] - SANZO Joseph Emanuel\, Lezione
URL;VALUE=URI://www.unive.it/data/insegnamento/565928
DTSTART:20260427T154500
END:VEVENT
BEGIN:VEVENT
DTEND:20260504T171500
UID:69e9468aa5096
DTSTAMP:20260422T220706
LOCATION:Sala audio 2 Palazzo Cosulich
SUMMARY:ANCIENT MEDITERRANEAN RELIGION AND MAGIC [LM4100] - SANZO Joseph Emanuel\, Lezione
URL;VALUE=URI://www.unive.it/data/insegnamento/565928
DTSTART:20260504T154500
END:VEVENT
BEGIN:VEVENT
DTEND:20260511T171500
UID:69e9468aa50e6
DTSTAMP:20260422T220706
LOCATION:Sala audio 2 Palazzo Cosulich
SUMMARY:ANCIENT MEDITERRANEAN RELIGION AND MAGIC [LM4100] - SANZO Joseph Emanuel\, Lezione
URL;VALUE=URI://www.unive.it/data/insegnamento/565928
DTSTART:20260511T154500
END:VEVENT
BEGIN:VEVENT
DTEND:20260518T171500
UID:69e9468aa5141
DTSTAMP:20260422T220706
LOCATION:Sala audio 2 Palazzo Cosulich
SUMMARY:ANCIENT MEDITERRANEAN RELIGION AND MAGIC [LM4100] - SANZO Joseph Emanuel\, Lezione
URL;VALUE=URI://www.unive.it/data/insegnamento/565928
DTSTART:20260518T154500
END:VEVENT
BEGIN:VEVENT
DTEND:20260525T171500
UID:69e9468aa519b
DTSTAMP:20260422T220706
LOCATION:Sala audio 2 Palazzo Cosulich
SUMMARY:ANCIENT MEDITERRANEAN RELIGION AND MAGIC [LM4100] - SANZO Joseph Emanuel\, Lezione
URL;VALUE=URI://www.unive.it/data/insegnamento/565928
DTSTART:20260525T154500
END:VEVENT
END:VCALENDAR