BEGIN:VCALENDAR
VERSION:2.0
PRODID:-//hacksw/handcal//NONSGML v1.0//EN
CALSCALE:GREGORIAN
X-WR-CALNAME:ESERCITAZIONI 2B DI NARRAZIONI E DINAMICHE CULTURALI (TURCO) [LM2504]
DESCRIPTION:ESERCITAZIONI 2B DI NARRAZIONI E DINAMICHE CULTURALI (TURCO) [LM2504]
REFRESH-INTERVAL;VALUE=DURATION:P1D
X-WR-TIMEZONE:Europe/Rome
BEGIN:VEVENT
DTEND:20260226T101500
UID:69e7962edb84f
DTSTAMP:20260421T152222
LOCATION:Aula C Ca' Cappello
SUMMARY:ESERCITAZIONI 2B DI NARRAZIONI E DINAMICHE CULTURALI (TURCO) [LM2504] - OZKAN GURSES MERAL\, Esercitazione
URL;VALUE=URI://www.unive.it/data/insegnamento/565949
DTSTART:20260226T084500
END:VEVENT
BEGIN:VEVENT
DTEND:20260305T101500
UID:69e7962edb8d2
DTSTAMP:20260421T152222
LOCATION:Aula C Ca' Cappello
SUMMARY:ESERCITAZIONI 2B DI NARRAZIONI E DINAMICHE CULTURALI (TURCO) [LM2504] - OZKAN GURSES MERAL\, Esercitazione
URL;VALUE=URI://www.unive.it/data/insegnamento/565949
DTSTART:20260305T084500
END:VEVENT
BEGIN:VEVENT
DTEND:20260312T101500
UID:69e7962edb926
DTSTAMP:20260421T152222
LOCATION:Aula A Ca' Bottacin
SUMMARY:ESERCITAZIONI 2B DI NARRAZIONI E DINAMICHE CULTURALI (TURCO) [LM2504] - OZKAN GURSES MERAL\, Esercitazione
URL;VALUE=URI://www.unive.it/data/insegnamento/565949
DTSTART:20260312T084500
END:VEVENT
BEGIN:VEVENT
DTEND:20260319T101500
UID:69e7962edb976
DTSTAMP:20260421T152222
LOCATION:Aula C Ca' Cappello
SUMMARY:ESERCITAZIONI 2B DI NARRAZIONI E DINAMICHE CULTURALI (TURCO) [LM2504] - OZKAN GURSES MERAL\, Esercitazione
URL;VALUE=URI://www.unive.it/data/insegnamento/565949
DTSTART:20260319T084500
END:VEVENT
BEGIN:VEVENT
DTEND:20260326T101500
UID:69e7962edb9c4
DTSTAMP:20260421T152222
LOCATION:Aula C Ca' Cappello
SUMMARY:ESERCITAZIONI 2B DI NARRAZIONI E DINAMICHE CULTURALI (TURCO) [LM2504] - OZKAN GURSES MERAL\, Esercitazione
URL;VALUE=URI://www.unive.it/data/insegnamento/565949
DTSTART:20260326T084500
END:VEVENT
BEGIN:VEVENT
DTEND:20260402T101500
UID:69e7962edba1a
DTSTAMP:20260421T152222
LOCATION:Aula C Ca' Cappello
SUMMARY:ESERCITAZIONI 2B DI NARRAZIONI E DINAMICHE CULTURALI (TURCO) [LM2504] - OZKAN GURSES MERAL\, Esercitazione
URL;VALUE=URI://www.unive.it/data/insegnamento/565949
DTSTART:20260402T084500
END:VEVENT
BEGIN:VEVENT
DTEND:20260409T101500
UID:69e7962edba66
DTSTAMP:20260421T152222
LOCATION:Aula C Ca' Cappello
SUMMARY:ESERCITAZIONI 2B DI NARRAZIONI E DINAMICHE CULTURALI (TURCO) [LM2504] - OZKAN GURSES MERAL\, Esercitazione
URL;VALUE=URI://www.unive.it/data/insegnamento/565949
DTSTART:20260409T084500
END:VEVENT
BEGIN:VEVENT
DTEND:20260416T101500
UID:69e7962edbab2
DTSTAMP:20260421T152222
LOCATION:Aula C Ca' Cappello
SUMMARY:ESERCITAZIONI 2B DI NARRAZIONI E DINAMICHE CULTURALI (TURCO) [LM2504] - OZKAN GURSES MERAL\, Esercitazione
URL;VALUE=URI://www.unive.it/data/insegnamento/565949
DTSTART:20260416T084500
END:VEVENT
BEGIN:VEVENT
DTEND:20260423T101500
UID:69e7962edbafe
DTSTAMP:20260421T152222
LOCATION:Aula C Ca' Cappello
SUMMARY:ESERCITAZIONI 2B DI NARRAZIONI E DINAMICHE CULTURALI (TURCO) [LM2504] - OZKAN GURSES MERAL\, Esercitazione
URL;VALUE=URI://www.unive.it/data/insegnamento/565949
DTSTART:20260423T084500
END:VEVENT
BEGIN:VEVENT
DTEND:20260430T101500
UID:69e7962edbb4a
DTSTAMP:20260421T152222
LOCATION:Aula C Ca' Cappello
SUMMARY:ESERCITAZIONI 2B DI NARRAZIONI E DINAMICHE CULTURALI (TURCO) [LM2504] - OZKAN GURSES MERAL\, Esercitazione
URL;VALUE=URI://www.unive.it/data/insegnamento/565949
DTSTART:20260430T084500
END:VEVENT
BEGIN:VEVENT
DTEND:20260507T101500
UID:69e7962edbb95
DTSTAMP:20260421T152222
LOCATION:Aula C Ca' Cappello
SUMMARY:ESERCITAZIONI 2B DI NARRAZIONI E DINAMICHE CULTURALI (TURCO) [LM2504] - OZKAN GURSES MERAL\, Esercitazione
URL;VALUE=URI://www.unive.it/data/insegnamento/565949
DTSTART:20260507T084500
END:VEVENT
BEGIN:VEVENT
DTEND:20260514T101500
UID:69e7962edbbe1
DTSTAMP:20260421T152222
LOCATION:Aula C Ca' Cappello
SUMMARY:ESERCITAZIONI 2B DI NARRAZIONI E DINAMICHE CULTURALI (TURCO) [LM2504] - OZKAN GURSES MERAL\, Esercitazione
URL;VALUE=URI://www.unive.it/data/insegnamento/565949
DTSTART:20260514T084500
END:VEVENT
BEGIN:VEVENT
DTEND:20260521T101500
UID:69e7962edbc2c
DTSTAMP:20260421T152222
LOCATION:Aula C Ca' Cappello
SUMMARY:ESERCITAZIONI 2B DI NARRAZIONI E DINAMICHE CULTURALI (TURCO) [LM2504] - OZKAN GURSES MERAL\, Esercitazione
URL;VALUE=URI://www.unive.it/data/insegnamento/565949
DTSTART:20260521T084500
END:VEVENT
BEGIN:VEVENT
DTEND:20260528T101500
UID:69e7962edbc78
DTSTAMP:20260421T152222
LOCATION:Aula C Ca' Cappello
SUMMARY:ESERCITAZIONI 2B DI NARRAZIONI E DINAMICHE CULTURALI (TURCO) [LM2504] - OZKAN GURSES MERAL\, Esercitazione
URL;VALUE=URI://www.unive.it/data/insegnamento/565949
DTSTART:20260528T084500
END:VEVENT
BEGIN:VEVENT
DTEND:20260604T101500
UID:69e7962edbcc3
DTSTAMP:20260421T152222
LOCATION:Aula C Ca' Cappello
SUMMARY:ESERCITAZIONI 2B DI NARRAZIONI E DINAMICHE CULTURALI (TURCO) [LM2504] - OZKAN GURSES MERAL\, Esercitazione
URL;VALUE=URI://www.unive.it/data/insegnamento/565949
DTSTART:20260604T084500
END:VEVENT
END:VCALENDAR