BEGIN:VCALENDAR
VERSION:2.0
PRODID:-//hacksw/handcal//NONSGML v1.0//EN
CALSCALE:GREGORIAN
X-WR-CALNAME:STRATEGY AND MARKETING FOR TOURISM SERVICES - 2 [EM9041]
DESCRIPTION:STRATEGY AND MARKETING FOR TOURISM SERVICES - 2 [EM9041]
REFRESH-INTERVAL;VALUE=DURATION:P1D
X-WR-TIMEZONE:Europe/Rome
BEGIN:VEVENT
DTEND:20251113T101500
UID:69e91218230b4
DTSTAMP:20260422T182320
LOCATION:Aula 3A San Giobbe
SUMMARY:STRATEGY AND MARKETING FOR TOURISM SERVICES - 2 [EM9041] - Checchinato Francesca\, Lezione
URL;VALUE=URI://www.unive.it/data/insegnamento/566637
DTSTART:20251113T084500
END:VEVENT
BEGIN:VEVENT
DTEND:20251114T134500
UID:69e9121823155
DTSTAMP:20260422T182320
LOCATION:Aula 3A San Giobbe
SUMMARY:STRATEGY AND MARKETING FOR TOURISM SERVICES - 2 [EM9041] - Checchinato Francesca\, Lezione
URL;VALUE=URI://www.unive.it/data/insegnamento/566637
DTSTART:20251114T121500
END:VEVENT
BEGIN:VEVENT
DTEND:20251118T171500
UID:69e91218231a8
DTSTAMP:20260422T182320
LOCATION:Aula 3A San Giobbe
SUMMARY:STRATEGY AND MARKETING FOR TOURISM SERVICES - 2 [EM9041] - Checchinato Francesca\, Lezione
URL;VALUE=URI://www.unive.it/data/insegnamento/566637
DTSTART:20251118T154500
END:VEVENT
BEGIN:VEVENT
DTEND:20251120T101500
UID:69e91218231fa
DTSTAMP:20260422T182320
LOCATION:Aula 3A San Giobbe
SUMMARY:STRATEGY AND MARKETING FOR TOURISM SERVICES - 2 [EM9041] - Checchinato Francesca\, Lezione
URL;VALUE=URI://www.unive.it/data/insegnamento/566637
DTSTART:20251120T084500
END:VEVENT
BEGIN:VEVENT
DTEND:20251125T153000
UID:69e9121823246
DTSTAMP:20260422T182320
LOCATION:Aula 7A San Giobbe
SUMMARY:STRATEGY AND MARKETING FOR TOURISM SERVICES - 2 [EM9041] - Checchinato Francesca\, Lezione
URL;VALUE=URI://www.unive.it/data/insegnamento/566637
DTSTART:20251125T140000
END:VEVENT
BEGIN:VEVENT
DTEND:20251125T171500
UID:69e9121823293
DTSTAMP:20260422T182320
LOCATION:Aula 3A San Giobbe
SUMMARY:STRATEGY AND MARKETING FOR TOURISM SERVICES - 2 [EM9041] - Checchinato Francesca\, Lezione
URL;VALUE=URI://www.unive.it/data/insegnamento/566637
DTSTART:20251125T154500
END:VEVENT
BEGIN:VEVENT
DTEND:20251127T101500
UID:69e91218232e3
DTSTAMP:20260422T182320
LOCATION:Aula 3A San Giobbe
SUMMARY:STRATEGY AND MARKETING FOR TOURISM SERVICES - 2 [EM9041] - Checchinato Francesca\, Lezione
URL;VALUE=URI://www.unive.it/data/insegnamento/566637
DTSTART:20251127T084500
END:VEVENT
BEGIN:VEVENT
DTEND:20251202T171500
UID:69e912182332f
DTSTAMP:20260422T182320
LOCATION:Aula 3A San Giobbe
SUMMARY:STRATEGY AND MARKETING FOR TOURISM SERVICES - 2 [EM9041] - Checchinato Francesca\, Lezione
URL;VALUE=URI://www.unive.it/data/insegnamento/566637
DTSTART:20251202T154500
END:VEVENT
BEGIN:VEVENT
DTEND:20251204T101500
UID:69e912182337a
DTSTAMP:20260422T182320
LOCATION:Aula 3A San Giobbe
SUMMARY:STRATEGY AND MARKETING FOR TOURISM SERVICES - 2 [EM9041] - Checchinato Francesca\, Lezione
URL;VALUE=URI://www.unive.it/data/insegnamento/566637
DTSTART:20251204T084500
END:VEVENT
BEGIN:VEVENT
DTEND:20251205T134500
UID:69e91218233c6
DTSTAMP:20260422T182320
LOCATION:Aula 3A San Giobbe
SUMMARY:STRATEGY AND MARKETING FOR TOURISM SERVICES - 2 [EM9041] - Checchinato Francesca\, Lezione
URL;VALUE=URI://www.unive.it/data/insegnamento/566637
DTSTART:20251205T121500
END:VEVENT
BEGIN:VEVENT
DTEND:20251209T171500
UID:69e9121823411
DTSTAMP:20260422T182320
LOCATION:Aula 3A San Giobbe
SUMMARY:STRATEGY AND MARKETING FOR TOURISM SERVICES - 2 [EM9041] - Checchinato Francesca\, Lezione
URL;VALUE=URI://www.unive.it/data/insegnamento/566637
DTSTART:20251209T154500
END:VEVENT
BEGIN:VEVENT
DTEND:20251211T101500
UID:69e912182345c
DTSTAMP:20260422T182320
LOCATION:Aula 3A San Giobbe
SUMMARY:STRATEGY AND MARKETING FOR TOURISM SERVICES - 2 [EM9041] - Checchinato Francesca\, Lezione
URL;VALUE=URI://www.unive.it/data/insegnamento/566637
DTSTART:20251211T084500
END:VEVENT
BEGIN:VEVENT
DTEND:20251212T134500
UID:69e91218234a8
DTSTAMP:20260422T182320
LOCATION:Aula 3A San Giobbe
SUMMARY:STRATEGY AND MARKETING FOR TOURISM SERVICES - 2 [EM9041] - Checchinato Francesca\, Lezione
URL;VALUE=URI://www.unive.it/data/insegnamento/566637
DTSTART:20251212T121500
END:VEVENT
BEGIN:VEVENT
DTEND:20251216T171500
UID:69e91218234f4
DTSTAMP:20260422T182320
LOCATION:Aula 3A San Giobbe
SUMMARY:STRATEGY AND MARKETING FOR TOURISM SERVICES - 2 [EM9041] - Checchinato Francesca\, Lezione
URL;VALUE=URI://www.unive.it/data/insegnamento/566637
DTSTART:20251216T154500
END:VEVENT
BEGIN:VEVENT
DTEND:20251216T190000
UID:69e912182353e
DTSTAMP:20260422T182320
LOCATION:Aula 3A San Giobbe
SUMMARY:STRATEGY AND MARKETING FOR TOURISM SERVICES - 2 [EM9041] - Checchinato Francesca\, Recupero Lezioni
URL;VALUE=URI://www.unive.it/data/insegnamento/566637
DTSTART:20251216T173000
END:VEVENT
BEGIN:VEVENT
DTEND:20251218T101500
UID:69e9121823589
DTSTAMP:20260422T182320
LOCATION:Aula 3A San Giobbe
SUMMARY:STRATEGY AND MARKETING FOR TOURISM SERVICES - 2 [EM9041] - Checchinato Francesca\, Lezione
URL;VALUE=URI://www.unive.it/data/insegnamento/566637
DTSTART:20251218T084500
END:VEVENT
BEGIN:VEVENT
DTEND:20251219T134500
UID:69e91218235d3
DTSTAMP:20260422T182320
LOCATION:Aula 3A San Giobbe
SUMMARY:STRATEGY AND MARKETING FOR TOURISM SERVICES - 2 [EM9041] - Checchinato Francesca\, Lezione
URL;VALUE=URI://www.unive.it/data/insegnamento/566637
DTSTART:20251219T121500
END:VEVENT
END:VCALENDAR