BEGIN:VCALENDAR
VERSION:2.0
PRODID:-//hacksw/handcal//NONSGML v1.0//EN
CALSCALE:GREGORIAN
X-WR-CALNAME:STORIA INTELLETTUALE E MODELLI TESTUALI (EBRAICO) [LM251K]
DESCRIPTION:STORIA INTELLETTUALE E MODELLI TESTUALI (EBRAICO) [LM251K]
REFRESH-INTERVAL;VALUE=DURATION:P1D
X-WR-TIMEZONE:Europe/Rome
BEGIN:VEVENT
DTEND:20260224T153000
UID:69e7962f15277
DTSTAMP:20260421T152223
LOCATION:Aula F (Aula AM C) Ca' Cappello
SUMMARY:STORIA INTELLETTUALE E MODELLI TESTUALI (EBRAICO) [LM251K] - CAPELLI Piero\, Lezione
URL;VALUE=URI://www.unive.it/data/insegnamento/568143
DTSTART:20260224T140000
END:VEVENT
BEGIN:VEVENT
DTEND:20260303T153000
UID:69e7962f152f2
DTSTAMP:20260421T152223
LOCATION:Aula F (Aula AM C) Ca' Cappello
SUMMARY:STORIA INTELLETTUALE E MODELLI TESTUALI (EBRAICO) [LM251K] - CAPELLI Piero\, Lezione
URL;VALUE=URI://www.unive.it/data/insegnamento/568143
DTSTART:20260303T140000
END:VEVENT
BEGIN:VEVENT
DTEND:20260310T153000
UID:69e7962f15345
DTSTAMP:20260421T152223
LOCATION:Aula F (Aula AM C) Ca' Cappello
SUMMARY:STORIA INTELLETTUALE E MODELLI TESTUALI (EBRAICO) [LM251K] - CAPELLI Piero\, Lezione
URL;VALUE=URI://www.unive.it/data/insegnamento/568143
DTSTART:20260310T140000
END:VEVENT
BEGIN:VEVENT
DTEND:20260317T153000
UID:69e7962f15393
DTSTAMP:20260421T152223
LOCATION:Aula F (Aula AM C) Ca' Cappello
SUMMARY:STORIA INTELLETTUALE E MODELLI TESTUALI (EBRAICO) [LM251K] - CAPELLI Piero\, Lezione
URL;VALUE=URI://www.unive.it/data/insegnamento/568143
DTSTART:20260317T140000
END:VEVENT
BEGIN:VEVENT
DTEND:20260324T153000
UID:69e7962f153de
DTSTAMP:20260421T152223
LOCATION:Aula F (Aula AM C) Ca' Cappello
SUMMARY:STORIA INTELLETTUALE E MODELLI TESTUALI (EBRAICO) [LM251K] - CAPELLI Piero\, Lezione
URL;VALUE=URI://www.unive.it/data/insegnamento/568143
DTSTART:20260324T140000
END:VEVENT
BEGIN:VEVENT
DTEND:20260331T153000
UID:69e7962f15429
DTSTAMP:20260421T152223
LOCATION:Aula F (Aula AM C) Ca' Cappello
SUMMARY:STORIA INTELLETTUALE E MODELLI TESTUALI (EBRAICO) [LM251K] - CAPELLI Piero\, Lezione
URL;VALUE=URI://www.unive.it/data/insegnamento/568143
DTSTART:20260331T140000
END:VEVENT
BEGIN:VEVENT
DTEND:20260407T153000
UID:69e7962f15474
DTSTAMP:20260421T152223
LOCATION:Aula F (Aula AM C) Ca' Cappello
SUMMARY:STORIA INTELLETTUALE E MODELLI TESTUALI (EBRAICO) [LM251K] - CAPELLI Piero\, Lezione
URL;VALUE=URI://www.unive.it/data/insegnamento/568143
DTSTART:20260407T140000
END:VEVENT
BEGIN:VEVENT
DTEND:20260414T153000
UID:69e7962f154bf
DTSTAMP:20260421T152223
LOCATION:Aula F (Aula AM C) Ca' Cappello
SUMMARY:STORIA INTELLETTUALE E MODELLI TESTUALI (EBRAICO) [LM251K] - CAPELLI Piero\, Lezione
URL;VALUE=URI://www.unive.it/data/insegnamento/568143
DTSTART:20260414T140000
END:VEVENT
BEGIN:VEVENT
DTEND:20260421T153000
UID:69e7962f1550a
DTSTAMP:20260421T152223
LOCATION:Aula F (Aula AM C) Ca' Cappello
SUMMARY:STORIA INTELLETTUALE E MODELLI TESTUALI (EBRAICO) [LM251K] - CAPELLI Piero\, Lezione
URL;VALUE=URI://www.unive.it/data/insegnamento/568143
DTSTART:20260421T140000
END:VEVENT
BEGIN:VEVENT
DTEND:20260428T153000
UID:69e7962f15555
DTSTAMP:20260421T152223
LOCATION:Aula F (Aula AM C) Ca' Cappello
SUMMARY:STORIA INTELLETTUALE E MODELLI TESTUALI (EBRAICO) [LM251K] - CAPELLI Piero\, Lezione
URL;VALUE=URI://www.unive.it/data/insegnamento/568143
DTSTART:20260428T140000
END:VEVENT
BEGIN:VEVENT
DTEND:20260505T153000
UID:69e7962f1559f
DTSTAMP:20260421T152223
LOCATION:Aula F (Aula AM C) Ca' Cappello
SUMMARY:STORIA INTELLETTUALE E MODELLI TESTUALI (EBRAICO) [LM251K] - CAPELLI Piero\, Lezione
URL;VALUE=URI://www.unive.it/data/insegnamento/568143
DTSTART:20260505T140000
END:VEVENT
BEGIN:VEVENT
DTEND:20260512T153000
UID:69e7962f155eb
DTSTAMP:20260421T152223
LOCATION:Aula F (Aula AM C) Ca' Cappello
SUMMARY:STORIA INTELLETTUALE E MODELLI TESTUALI (EBRAICO) [LM251K] - CAPELLI Piero\, Lezione
URL;VALUE=URI://www.unive.it/data/insegnamento/568143
DTSTART:20260512T140000
END:VEVENT
BEGIN:VEVENT
DTEND:20260519T153000
UID:69e7962f15649
DTSTAMP:20260421T152223
LOCATION:Aula F (Aula AM C) Ca' Cappello
SUMMARY:STORIA INTELLETTUALE E MODELLI TESTUALI (EBRAICO) [LM251K] - CAPELLI Piero\, Lezione
URL;VALUE=URI://www.unive.it/data/insegnamento/568143
DTSTART:20260519T140000
END:VEVENT
BEGIN:VEVENT
DTEND:20260526T153000
UID:69e7962f15694
DTSTAMP:20260421T152223
LOCATION:Aula F (Aula AM C) Ca' Cappello
SUMMARY:STORIA INTELLETTUALE E MODELLI TESTUALI (EBRAICO) [LM251K] - CAPELLI Piero\, Lezione
URL;VALUE=URI://www.unive.it/data/insegnamento/568143
DTSTART:20260526T140000
END:VEVENT
END:VCALENDAR