BEGIN:VCALENDAR
VERSION:2.0
PRODID:-//hacksw/handcal//NONSGML v1.0//EN
CALSCALE:GREGORIAN
X-WR-CALNAME:INFORMATICA PER LO STUDIO DEL LATINO [FM0304]
DESCRIPTION:INFORMATICA PER LO STUDIO DEL LATINO [FM0304]
REFRESH-INTERVAL;VALUE=DURATION:P1D
X-WR-TIMEZONE:Europe/Rome
BEGIN:VEVENT
DTEND:20260219T134500
UID:69e4cf20be6bd
DTSTAMP:20260419T124832
LOCATION:Aula 1D Polo didattico San Basilio (Magazzino 5)
SUMMARY:INFORMATICA PER LO STUDIO DEL LATINO [FM0304] - ADAMIK Béla\, Lezione
URL;VALUE=URI://www.unive.it/data/insegnamento/568326
DTSTART:20260219T121500
END:VEVENT
BEGIN:VEVENT
DTEND:20260226T134500
UID:69e4cf20be749
DTSTAMP:20260419T124832
LOCATION:Aula 1D Polo didattico San Basilio (Magazzino 5)
SUMMARY:INFORMATICA PER LO STUDIO DEL LATINO [FM0304] - ADAMIK Béla\, Lezione
URL;VALUE=URI://www.unive.it/data/insegnamento/568326
DTSTART:20260226T121500
END:VEVENT
BEGIN:VEVENT
DTEND:20260305T134500
UID:69e4cf20be79d
DTSTAMP:20260419T124832
LOCATION:Aula 1D Polo didattico San Basilio (Magazzino 5)
SUMMARY:INFORMATICA PER LO STUDIO DEL LATINO [FM0304] - ADAMIK Béla\, Lezione
URL;VALUE=URI://www.unive.it/data/insegnamento/568326
DTSTART:20260305T121500
END:VEVENT
BEGIN:VEVENT
DTEND:20260312T134500
UID:69e4cf20be7ed
DTSTAMP:20260419T124832
LOCATION:Aula 1D Polo didattico San Basilio (Magazzino 5)
SUMMARY:INFORMATICA PER LO STUDIO DEL LATINO [FM0304] - ADAMIK Béla\, Lezione
URL;VALUE=URI://www.unive.it/data/insegnamento/568326
DTSTART:20260312T121500
END:VEVENT
BEGIN:VEVENT
DTEND:20260319T134500
UID:69e4cf20be83b
DTSTAMP:20260419T124832
LOCATION:ALTRO Altro
SUMMARY:INFORMATICA PER LO STUDIO DEL LATINO [FM0304] - ADAMIK Béla\, Lezione
URL;VALUE=URI://www.unive.it/data/insegnamento/568326
DTSTART:20260319T121500
END:VEVENT
BEGIN:VEVENT
DTEND:20260326T134500
UID:69e4cf20be885
DTSTAMP:20260419T124832
LOCATION:Aula 1D Polo didattico San Basilio (Magazzino 5)
SUMMARY:INFORMATICA PER LO STUDIO DEL LATINO [FM0304] - ADAMIK Béla\, Lezione
URL;VALUE=URI://www.unive.it/data/insegnamento/568326
DTSTART:20260326T121500
END:VEVENT
BEGIN:VEVENT
DTEND:20260410T120000
UID:69e4cf20be8d1
DTSTAMP:20260419T124832
LOCATION:Aula 0D Polo didattico San Basilio (Magazzino 5)
SUMMARY:INFORMATICA PER LO STUDIO DEL LATINO [FM0304] - ADAMIK Béla\, Lezione
URL;VALUE=URI://www.unive.it/data/insegnamento/568326
DTSTART:20260410T103000
END:VEVENT
BEGIN:VEVENT
DTEND:20260413T171500
UID:69e4cf20be909
DTSTAMP:20260419T124832
LOCATION:Sala audio 1 Palazzo Cosulich
SUMMARY:INFORMATICA PER LO STUDIO DEL LATINO [FM0304] - ADAMIK Béla\, Lezione
URL;VALUE=URI://www.unive.it/data/insegnamento/568326
DTSTART:20260413T154500
END:VEVENT
BEGIN:VEVENT
DTEND:20260417T120000
UID:69e4cf20be955
DTSTAMP:20260419T124832
LOCATION:Aula 0D Polo didattico San Basilio (Magazzino 5)
SUMMARY:INFORMATICA PER LO STUDIO DEL LATINO [FM0304] - ADAMIK Béla\, Lezione
URL;VALUE=URI://www.unive.it/data/insegnamento/568326
DTSTART:20260417T103000
END:VEVENT
BEGIN:VEVENT
DTEND:20260420T171500
UID:69e4cf20be99f
DTSTAMP:20260419T124832
LOCATION:Sala audio 1 Palazzo Cosulich
SUMMARY:INFORMATICA PER LO STUDIO DEL LATINO [FM0304] - ADAMIK Béla\, Lezione
URL;VALUE=URI://www.unive.it/data/insegnamento/568326
DTSTART:20260420T154500
END:VEVENT
BEGIN:VEVENT
DTEND:20260424T120000
UID:69e4cf20be9ea
DTSTAMP:20260419T124832
LOCATION:Aula 0D Polo didattico San Basilio (Magazzino 5)
SUMMARY:INFORMATICA PER LO STUDIO DEL LATINO [FM0304] - ADAMIK Béla\, Lezione
URL;VALUE=URI://www.unive.it/data/insegnamento/568326
DTSTART:20260424T103000
END:VEVENT
BEGIN:VEVENT
DTEND:20260427T171500
UID:69e4cf20bea35
DTSTAMP:20260419T124832
LOCATION:Sala audio 1 Palazzo Cosulich
SUMMARY:INFORMATICA PER LO STUDIO DEL LATINO [FM0304] - ADAMIK Béla\, Lezione
URL;VALUE=URI://www.unive.it/data/insegnamento/568326
DTSTART:20260427T154500
END:VEVENT
BEGIN:VEVENT
DTEND:20260504T171500
UID:69e4cf20bea80
DTSTAMP:20260419T124832
LOCATION:Sala audio 1 Palazzo Cosulich
SUMMARY:INFORMATICA PER LO STUDIO DEL LATINO [FM0304] - ADAMIK Béla\, Lezione
URL;VALUE=URI://www.unive.it/data/insegnamento/568326
DTSTART:20260504T154500
END:VEVENT
BEGIN:VEVENT
DTEND:20260508T120000
UID:69e4cf20beaca
DTSTAMP:20260419T124832
LOCATION:Aula 0D Polo didattico San Basilio (Magazzino 5)
SUMMARY:INFORMATICA PER LO STUDIO DEL LATINO [FM0304] - ADAMIK Béla\, Lezione
URL;VALUE=URI://www.unive.it/data/insegnamento/568326
DTSTART:20260508T103000
END:VEVENT
BEGIN:VEVENT
DTEND:20260511T171500
UID:69e4cf20beb17
DTSTAMP:20260419T124832
LOCATION:Sala audio 1 Palazzo Cosulich
SUMMARY:INFORMATICA PER LO STUDIO DEL LATINO [FM0304] - ADAMIK Béla\, Lezione
URL;VALUE=URI://www.unive.it/data/insegnamento/568326
DTSTART:20260511T154500
END:VEVENT
BEGIN:VEVENT
DTEND:20260515T120000
UID:69e4cf20beb61
DTSTAMP:20260419T124832
LOCATION:Aula 0D Polo didattico San Basilio (Magazzino 5)
SUMMARY:INFORMATICA PER LO STUDIO DEL LATINO [FM0304] - ADAMIK Béla\, Lezione
URL;VALUE=URI://www.unive.it/data/insegnamento/568326
DTSTART:20260515T103000
END:VEVENT
END:VCALENDAR