BEGIN:VCALENDAR
VERSION:2.0
PRODID:-//hacksw/handcal//NONSGML v1.0//EN
CALSCALE:GREGORIAN
X-WR-CALNAME:LINGUA E SOCIETA' NEL MONDO GRECO [FM0586]
DESCRIPTION:LINGUA E SOCIETA' NEL MONDO GRECO [FM0586]
REFRESH-INTERVAL;VALUE=DURATION:P1D
X-WR-TIMEZONE:Europe/Rome
BEGIN:VEVENT
DTEND:20260216T134500
UID:69e4cefc1c632
DTSTAMP:20260419T124756
LOCATION:Aula MF2 Polo didattico San Basilio (MF - Magazzini Frigoriferi)
SUMMARY:LINGUA E SOCIETA' NEL MONDO GRECO [FM0586] - LUPI Francesco\, Lezione
URL;VALUE=URI://www.unive.it/data/insegnamento/568332
DTSTART:20260216T121500
END:VEVENT
BEGIN:VEVENT
DTEND:20260220T134500
UID:69e4cefc1c6c0
DTSTAMP:20260419T124756
LOCATION:Aula 0M Polo didattico San Basilio (Magazzino 4)
SUMMARY:LINGUA E SOCIETA' NEL MONDO GRECO [FM0586] - LUPI Francesco\, Lezione
URL;VALUE=URI://www.unive.it/data/insegnamento/568332
DTSTART:20260220T121500
END:VEVENT
BEGIN:VEVENT
DTEND:20260223T134500
UID:69e4cefc1c713
DTSTAMP:20260419T124756
LOCATION:Aula MF2 Polo didattico San Basilio (MF - Magazzini Frigoriferi)
SUMMARY:LINGUA E SOCIETA' NEL MONDO GRECO [FM0586] - LUPI Francesco\, Lezione
URL;VALUE=URI://www.unive.it/data/insegnamento/568332
DTSTART:20260223T121500
END:VEVENT
BEGIN:VEVENT
DTEND:20260227T134500
UID:69e4cefc1c749
DTSTAMP:20260419T124756
LOCATION:Aula 0M Polo didattico San Basilio (Magazzino 4)
SUMMARY:LINGUA E SOCIETA' NEL MONDO GRECO [FM0586] - LUPI Francesco\, Lezione
URL;VALUE=URI://www.unive.it/data/insegnamento/568332
DTSTART:20260227T121500
END:VEVENT
BEGIN:VEVENT
DTEND:20260302T134500
UID:69e4cefc1c798
DTSTAMP:20260419T124756
LOCATION:Aula MF2 Polo didattico San Basilio (MF - Magazzini Frigoriferi)
SUMMARY:LINGUA E SOCIETA' NEL MONDO GRECO [FM0586] - LUPI Francesco\, Lezione
URL;VALUE=URI://www.unive.it/data/insegnamento/568332
DTSTART:20260302T121500
END:VEVENT
BEGIN:VEVENT
DTEND:20260306T134500
UID:69e4cefc1c7e6
DTSTAMP:20260419T124756
LOCATION:Aula 0M Polo didattico San Basilio (Magazzino 4)
SUMMARY:LINGUA E SOCIETA' NEL MONDO GRECO [FM0586] - LUPI Francesco\, Lezione
URL;VALUE=URI://www.unive.it/data/insegnamento/568332
DTSTART:20260306T121500
END:VEVENT
BEGIN:VEVENT
DTEND:20260309T134500
UID:69e4cefc1c832
DTSTAMP:20260419T124756
LOCATION:Aula MF2 Polo didattico San Basilio (MF - Magazzini Frigoriferi)
SUMMARY:LINGUA E SOCIETA' NEL MONDO GRECO [FM0586] - LUPI Francesco\, Lezione
URL;VALUE=URI://www.unive.it/data/insegnamento/568332
DTSTART:20260309T121500
END:VEVENT
BEGIN:VEVENT
DTEND:20260313T134500
UID:69e4cefc1c87e
DTSTAMP:20260419T124756
LOCATION:Aula 0M Polo didattico San Basilio (Magazzino 4)
SUMMARY:LINGUA E SOCIETA' NEL MONDO GRECO [FM0586] - LUPI Francesco\, Lezione
URL;VALUE=URI://www.unive.it/data/insegnamento/568332
DTSTART:20260313T121500
END:VEVENT
BEGIN:VEVENT
DTEND:20260316T134500
UID:69e4cefc1c8c9
DTSTAMP:20260419T124756
LOCATION:Aula MF2 Polo didattico San Basilio (MF - Magazzini Frigoriferi)
SUMMARY:LINGUA E SOCIETA' NEL MONDO GRECO [FM0586] - LUPI Francesco\, Lezione
URL;VALUE=URI://www.unive.it/data/insegnamento/568332
DTSTART:20260316T121500
END:VEVENT
BEGIN:VEVENT
DTEND:20260320T134500
UID:69e4cefc1c918
DTSTAMP:20260419T124756
LOCATION:Aula 0M Polo didattico San Basilio (Magazzino 4)
SUMMARY:LINGUA E SOCIETA' NEL MONDO GRECO [FM0586] - LUPI Francesco\, Lezione
URL;VALUE=URI://www.unive.it/data/insegnamento/568332
DTSTART:20260320T121500
END:VEVENT
BEGIN:VEVENT
DTEND:20260323T134500
UID:69e4cefc1c963
DTSTAMP:20260419T124756
LOCATION:Aula MF2 Polo didattico San Basilio (MF - Magazzini Frigoriferi)
SUMMARY:LINGUA E SOCIETA' NEL MONDO GRECO [FM0586] - LUPI Francesco\, Lezione
URL;VALUE=URI://www.unive.it/data/insegnamento/568332
DTSTART:20260323T121500
END:VEVENT
BEGIN:VEVENT
DTEND:20260327T134500
UID:69e4cefc1c9af
DTSTAMP:20260419T124756
LOCATION:Aula 0M Polo didattico San Basilio (Magazzino 4)
SUMMARY:LINGUA E SOCIETA' NEL MONDO GRECO [FM0586] - LUPI Francesco\, Lezione
URL;VALUE=URI://www.unive.it/data/insegnamento/568332
DTSTART:20260327T121500
END:VEVENT
BEGIN:VEVENT
DTEND:20260409T134500
UID:69e4cefc1c9f9
DTSTAMP:20260419T124756
LOCATION:Aula 0D Polo didattico San Basilio (Magazzino 5)
SUMMARY:LINGUA E SOCIETA' NEL MONDO GRECO [FM0586] - LUPI Francesco\, Lezione
URL;VALUE=URI://www.unive.it/data/insegnamento/568332
DTSTART:20260409T121500
END:VEVENT
BEGIN:VEVENT
DTEND:20260416T134500
UID:69e4cefc1ca44
DTSTAMP:20260419T124756
LOCATION:Aula 0D Polo didattico San Basilio (Magazzino 5)
SUMMARY:LINGUA E SOCIETA' NEL MONDO GRECO [FM0586] - LUPI Francesco\, Lezione
URL;VALUE=URI://www.unive.it/data/insegnamento/568332
DTSTART:20260416T121500
END:VEVENT
BEGIN:VEVENT
DTEND:20260423T134500
UID:69e4cefc1ca8f
DTSTAMP:20260419T124756
LOCATION:Aula 0D Polo didattico San Basilio (Magazzino 5)
SUMMARY:LINGUA E SOCIETA' NEL MONDO GRECO [FM0586] - LUPI Francesco\, Lezione
URL;VALUE=URI://www.unive.it/data/insegnamento/568332
DTSTART:20260423T121500
END:VEVENT
BEGIN:VEVENT
DTEND:20260430T134500
UID:69e4cefc1cada
DTSTAMP:20260419T124756
LOCATION:Aula 0D Polo didattico San Basilio (Magazzino 5)
SUMMARY:LINGUA E SOCIETA' NEL MONDO GRECO [FM0586] - LUPI Francesco\, Lezione
URL;VALUE=URI://www.unive.it/data/insegnamento/568332
DTSTART:20260430T121500
END:VEVENT
BEGIN:VEVENT
DTEND:20260507T134500
UID:69e4cefc1cb2c
DTSTAMP:20260419T124756
LOCATION:Aula 0D Polo didattico San Basilio (Magazzino 5)
SUMMARY:LINGUA E SOCIETA' NEL MONDO GRECO [FM0586] - LUPI Francesco\, Lezione
URL;VALUE=URI://www.unive.it/data/insegnamento/568332
DTSTART:20260507T121500
END:VEVENT
BEGIN:VEVENT
DTEND:20260514T134500
UID:69e4cefc1cb78
DTSTAMP:20260419T124756
LOCATION:Aula 0D Polo didattico San Basilio (Magazzino 5)
SUMMARY:LINGUA E SOCIETA' NEL MONDO GRECO [FM0586] - LUPI Francesco\, Lezione
URL;VALUE=URI://www.unive.it/data/insegnamento/568332
DTSTART:20260514T121500
END:VEVENT
END:VCALENDAR