BEGIN:VCALENDAR
VERSION:2.0
PRODID:-//hacksw/handcal//NONSGML v1.0//EN
CALSCALE:GREGORIAN
X-WR-CALNAME:PALEOGRAFIA LATINA SP. [FM0145]
DESCRIPTION:PALEOGRAFIA LATINA SP. [FM0145]
REFRESH-INTERVAL;VALUE=DURATION:P1D
X-WR-TIMEZONE:Europe/Rome
BEGIN:VEVENT
DTEND:20250924T134500
UID:69e7962ec6675
DTSTAMP:20260421T152222
LOCATION:Aula 8 Rio Novo
SUMMARY:PALEOGRAFIA LATINA SP. [FM0145] - De Rubeis Flavia\, Lezione
URL;VALUE=URI://www.unive.it/data/insegnamento/568363
DTSTART:20250924T121500
END:VEVENT
BEGIN:VEVENT
DTEND:20250925T101500
UID:69e7962ec66f6
DTSTAMP:20260421T152222
LOCATION:Aula 1G Polo didattico San Basilio (Magazzino 5)
SUMMARY:PALEOGRAFIA LATINA SP. [FM0145] - De Rubeis Flavia\, Lezione
URL;VALUE=URI://www.unive.it/data/insegnamento/568363
DTSTART:20250925T084500
END:VEVENT
BEGIN:VEVENT
DTEND:20251001T134500
UID:69e7962ec6748
DTSTAMP:20260421T152222
LOCATION:Aula 8 Rio Novo
SUMMARY:PALEOGRAFIA LATINA SP. [FM0145] - De Rubeis Flavia\, Lezione
URL;VALUE=URI://www.unive.it/data/insegnamento/568363
DTSTART:20251001T121500
END:VEVENT
BEGIN:VEVENT
DTEND:20251002T101500
UID:69e7962ec6796
DTSTAMP:20260421T152222
LOCATION:Aula 1G Polo didattico San Basilio (Magazzino 5)
SUMMARY:PALEOGRAFIA LATINA SP. [FM0145] - De Rubeis Flavia\, Lezione
URL;VALUE=URI://www.unive.it/data/insegnamento/568363
DTSTART:20251002T084500
END:VEVENT
BEGIN:VEVENT
DTEND:20251008T134500
UID:69e7962ec67e1
DTSTAMP:20260421T152222
LOCATION:Aula 8 Rio Novo
SUMMARY:PALEOGRAFIA LATINA SP. [FM0145] - De Rubeis Flavia\, Lezione
URL;VALUE=URI://www.unive.it/data/insegnamento/568363
DTSTART:20251008T121500
END:VEVENT
BEGIN:VEVENT
DTEND:20251009T101500
UID:69e7962ec682c
DTSTAMP:20260421T152222
LOCATION:Aula 1G Polo didattico San Basilio (Magazzino 5)
SUMMARY:PALEOGRAFIA LATINA SP. [FM0145] - De Rubeis Flavia\, Lezione
URL;VALUE=URI://www.unive.it/data/insegnamento/568363
DTSTART:20251009T084500
END:VEVENT
BEGIN:VEVENT
DTEND:20251015T134500
UID:69e7962ec6878
DTSTAMP:20260421T152222
LOCATION:Aula 8 Rio Novo
SUMMARY:PALEOGRAFIA LATINA SP. [FM0145] - De Rubeis Flavia\, Lezione
URL;VALUE=URI://www.unive.it/data/insegnamento/568363
DTSTART:20251015T121500
END:VEVENT
BEGIN:VEVENT
DTEND:20251016T101500
UID:69e7962ec68c1
DTSTAMP:20260421T152222
LOCATION:Aula 1G Polo didattico San Basilio (Magazzino 5)
SUMMARY:PALEOGRAFIA LATINA SP. [FM0145] - De Rubeis Flavia\, Lezione
URL;VALUE=URI://www.unive.it/data/insegnamento/568363
DTSTART:20251016T084500
END:VEVENT
BEGIN:VEVENT
DTEND:20251022T134500
UID:69e7962ec690c
DTSTAMP:20260421T152222
LOCATION:Aula 8 Rio Novo
SUMMARY:PALEOGRAFIA LATINA SP. [FM0145] - De Rubeis Flavia\, Lezione
URL;VALUE=URI://www.unive.it/data/insegnamento/568363
DTSTART:20251022T121500
END:VEVENT
BEGIN:VEVENT
DTEND:20251023T101500
UID:69e7962ec6956
DTSTAMP:20260421T152222
LOCATION:Aula 1G Polo didattico San Basilio (Magazzino 5)
SUMMARY:PALEOGRAFIA LATINA SP. [FM0145] - De Rubeis Flavia\, Lezione
URL;VALUE=URI://www.unive.it/data/insegnamento/568363
DTSTART:20251023T084500
END:VEVENT
BEGIN:VEVENT
DTEND:20251029T134500
UID:69e7962ec69a1
DTSTAMP:20260421T152222
LOCATION:Aula 8 Rio Novo
SUMMARY:PALEOGRAFIA LATINA SP. [FM0145] - De Rubeis Flavia\, Lezione
URL;VALUE=URI://www.unive.it/data/insegnamento/568363
DTSTART:20251029T121500
END:VEVENT
BEGIN:VEVENT
DTEND:20251030T101500
UID:69e7962ec69ee
DTSTAMP:20260421T152222
LOCATION:Aula 1G Polo didattico San Basilio (Magazzino 5)
SUMMARY:PALEOGRAFIA LATINA SP. [FM0145] - De Rubeis Flavia\, Lezione
URL;VALUE=URI://www.unive.it/data/insegnamento/568363
DTSTART:20251030T084500
END:VEVENT
BEGIN:VEVENT
DTEND:20251112T153000
UID:69e7962ec6a3a
DTSTAMP:20260421T152222
LOCATION:Aula MF1 Polo didattico San Basilio (MF - Magazzini Frigoriferi)
SUMMARY:PALEOGRAFIA LATINA SP. [FM0145] - De Rubeis Flavia\, Lezione
URL;VALUE=URI://www.unive.it/data/insegnamento/568363
DTSTART:20251112T140000
END:VEVENT
BEGIN:VEVENT
DTEND:20251119T153000
UID:69e7962ec6a91
DTSTAMP:20260421T152222
LOCATION:Aula MF1 Polo didattico San Basilio (MF - Magazzini Frigoriferi)
SUMMARY:PALEOGRAFIA LATINA SP. [FM0145] - De Rubeis Flavia\, Lezione
URL;VALUE=URI://www.unive.it/data/insegnamento/568363
DTSTART:20251119T140000
END:VEVENT
BEGIN:VEVENT
DTEND:20251126T153000
UID:69e7962ec6add
DTSTAMP:20260421T152222
LOCATION:Aula MF1 Polo didattico San Basilio (MF - Magazzini Frigoriferi)
SUMMARY:PALEOGRAFIA LATINA SP. [FM0145] - De Rubeis Flavia\, Lezione
URL;VALUE=URI://www.unive.it/data/insegnamento/568363
DTSTART:20251126T140000
END:VEVENT
BEGIN:VEVENT
DTEND:20251203T153000
UID:69e7962ec6b29
DTSTAMP:20260421T152222
LOCATION:Aula MF1 Polo didattico San Basilio (MF - Magazzini Frigoriferi)
SUMMARY:PALEOGRAFIA LATINA SP. [FM0145] - De Rubeis Flavia\, Lezione
URL;VALUE=URI://www.unive.it/data/insegnamento/568363
DTSTART:20251203T140000
END:VEVENT
BEGIN:VEVENT
DTEND:20251210T153000
UID:69e7962ec6b75
DTSTAMP:20260421T152222
LOCATION:Aula MF1 Polo didattico San Basilio (MF - Magazzini Frigoriferi)
SUMMARY:PALEOGRAFIA LATINA SP. [FM0145] - De Rubeis Flavia\, Lezione
URL;VALUE=URI://www.unive.it/data/insegnamento/568363
DTSTART:20251210T140000
END:VEVENT
BEGIN:VEVENT
DTEND:20251217T153000
UID:69e7962ec6bc0
DTSTAMP:20260421T152222
LOCATION:Aula MF1 Polo didattico San Basilio (MF - Magazzini Frigoriferi)
SUMMARY:PALEOGRAFIA LATINA SP. [FM0145] - De Rubeis Flavia\, Lezione
URL;VALUE=URI://www.unive.it/data/insegnamento/568363
DTSTART:20251217T140000
END:VEVENT
END:VCALENDAR