BEGIN:VCALENDAR
VERSION:2.0
PRODID:-//hacksw/handcal//NONSGML v1.0//EN
CALSCALE:GREGORIAN
X-WR-CALNAME:CONSERVAZIONE E RESTAURO DEL LIBRO E DEL DOCUMENTO [FM0549]
DESCRIPTION:CONSERVAZIONE E RESTAURO DEL LIBRO E DEL DOCUMENTO [FM0549]
REFRESH-INTERVAL;VALUE=DURATION:P1D
X-WR-TIMEZONE:Europe/Rome
BEGIN:VEVENT
DTEND:20260216T101500
UID:69e72391037de
DTSTAMP:20260421T071321
LOCATION:Aula 0M Polo didattico San Basilio (Magazzino 4)
SUMMARY:CONSERVAZIONE E RESTAURO DEL LIBRO E DEL DOCUMENTO [FM0549] - BARBERO Giulia\, Lezione
URL;VALUE=URI://www.unive.it/data/insegnamento/568383
DTSTART:20260216T084500
END:VEVENT
BEGIN:VEVENT
DTEND:20260217T171500
UID:69e7239103866
DTSTAMP:20260421T071321
LOCATION:Aula 1D Polo didattico San Basilio (Magazzino 5)
SUMMARY:CONSERVAZIONE E RESTAURO DEL LIBRO E DEL DOCUMENTO [FM0549] - BARBERO Giulia\, Lezione
URL;VALUE=URI://www.unive.it/data/insegnamento/568383
DTSTART:20260217T154500
END:VEVENT
BEGIN:VEVENT
DTEND:20260223T101500
UID:69e72391038b5
DTSTAMP:20260421T071321
LOCATION:Aula 0M Polo didattico San Basilio (Magazzino 4)
SUMMARY:CONSERVAZIONE E RESTAURO DEL LIBRO E DEL DOCUMENTO [FM0549] - BARBERO Giulia\, Lezione
URL;VALUE=URI://www.unive.it/data/insegnamento/568383
DTSTART:20260223T084500
END:VEVENT
BEGIN:VEVENT
DTEND:20260224T171500
UID:69e72391038d8
DTSTAMP:20260421T071321
LOCATION:Aula 1D Polo didattico San Basilio (Magazzino 5)
SUMMARY:CONSERVAZIONE E RESTAURO DEL LIBRO E DEL DOCUMENTO [FM0549] - BARBERO Giulia\, Lezione
URL;VALUE=URI://www.unive.it/data/insegnamento/568383
DTSTART:20260224T154500
END:VEVENT
BEGIN:VEVENT
DTEND:20260302T101500
UID:69e7239103924
DTSTAMP:20260421T071321
LOCATION:Aula 0M Polo didattico San Basilio (Magazzino 4)
SUMMARY:CONSERVAZIONE E RESTAURO DEL LIBRO E DEL DOCUMENTO [FM0549] - BARBERO Giulia\, Lezione
URL;VALUE=URI://www.unive.it/data/insegnamento/568383
DTSTART:20260302T084500
END:VEVENT
BEGIN:VEVENT
DTEND:20260303T171500
UID:69e723910396f
DTSTAMP:20260421T071321
LOCATION:Aula 1D Polo didattico San Basilio (Magazzino 5)
SUMMARY:CONSERVAZIONE E RESTAURO DEL LIBRO E DEL DOCUMENTO [FM0549] - BARBERO Giulia\, Lezione
URL;VALUE=URI://www.unive.it/data/insegnamento/568383
DTSTART:20260303T154500
END:VEVENT
BEGIN:VEVENT
DTEND:20260309T101500
UID:69e72391039ba
DTSTAMP:20260421T071321
LOCATION:Aula 0M Polo didattico San Basilio (Magazzino 4)
SUMMARY:CONSERVAZIONE E RESTAURO DEL LIBRO E DEL DOCUMENTO [FM0549] - BARBERO Giulia\, Lezione
URL;VALUE=URI://www.unive.it/data/insegnamento/568383
DTSTART:20260309T084500
END:VEVENT
BEGIN:VEVENT
DTEND:20260310T171500
UID:69e7239103a05
DTSTAMP:20260421T071321
LOCATION:Aula 1D Polo didattico San Basilio (Magazzino 5)
SUMMARY:CONSERVAZIONE E RESTAURO DEL LIBRO E DEL DOCUMENTO [FM0549] - BARBERO Giulia\, Lezione
URL;VALUE=URI://www.unive.it/data/insegnamento/568383
DTSTART:20260310T154500
END:VEVENT
BEGIN:VEVENT
DTEND:20260316T101500
UID:69e7239103a51
DTSTAMP:20260421T071321
LOCATION:Aula 0M Polo didattico San Basilio (Magazzino 4)
SUMMARY:CONSERVAZIONE E RESTAURO DEL LIBRO E DEL DOCUMENTO [FM0549] - BARBERO Giulia\, Lezione
URL;VALUE=URI://www.unive.it/data/insegnamento/568383
DTSTART:20260316T084500
END:VEVENT
BEGIN:VEVENT
DTEND:20260317T171500
UID:69e7239103a9c
DTSTAMP:20260421T071321
LOCATION:Aula 1D Polo didattico San Basilio (Magazzino 5)
SUMMARY:CONSERVAZIONE E RESTAURO DEL LIBRO E DEL DOCUMENTO [FM0549] - BARBERO Giulia\, Lezione
URL;VALUE=URI://www.unive.it/data/insegnamento/568383
DTSTART:20260317T154500
END:VEVENT
BEGIN:VEVENT
DTEND:20260323T101500
UID:69e7239103ae8
DTSTAMP:20260421T071321
LOCATION:Aula 0M Polo didattico San Basilio (Magazzino 4)
SUMMARY:CONSERVAZIONE E RESTAURO DEL LIBRO E DEL DOCUMENTO [FM0549] - BARBERO Giulia\, Lezione
URL;VALUE=URI://www.unive.it/data/insegnamento/568383
DTSTART:20260323T084500
END:VEVENT
BEGIN:VEVENT
DTEND:20260324T171500
UID:69e7239103b32
DTSTAMP:20260421T071321
LOCATION:Aula 1D Polo didattico San Basilio (Magazzino 5)
SUMMARY:CONSERVAZIONE E RESTAURO DEL LIBRO E DEL DOCUMENTO [FM0549] - BARBERO Giulia\, Lezione
URL;VALUE=URI://www.unive.it/data/insegnamento/568383
DTSTART:20260324T154500
END:VEVENT
BEGIN:VEVENT
DTEND:20260410T120000
UID:69e7239103b7e
DTSTAMP:20260421T071321
LOCATION:Aula MF2 Polo didattico San Basilio (MF - Magazzini Frigoriferi)
SUMMARY:CONSERVAZIONE E RESTAURO DEL LIBRO E DEL DOCUMENTO [FM0549] - BARBERO Giulia\, Lezione
URL;VALUE=URI://www.unive.it/data/insegnamento/568383
DTSTART:20260410T103000
END:VEVENT
BEGIN:VEVENT
DTEND:20260417T120000
UID:69e7239103bc9
DTSTAMP:20260421T071321
LOCATION:Aula MF2 Polo didattico San Basilio (MF - Magazzini Frigoriferi)
SUMMARY:CONSERVAZIONE E RESTAURO DEL LIBRO E DEL DOCUMENTO [FM0549] - BARBERO Giulia\, Lezione
URL;VALUE=URI://www.unive.it/data/insegnamento/568383
DTSTART:20260417T103000
END:VEVENT
BEGIN:VEVENT
DTEND:20260424T120000
UID:69e7239103c16
DTSTAMP:20260421T071321
LOCATION:Aula MF2 Polo didattico San Basilio (MF - Magazzini Frigoriferi)
SUMMARY:CONSERVAZIONE E RESTAURO DEL LIBRO E DEL DOCUMENTO [FM0549] - BARBERO Giulia\, Lezione
URL;VALUE=URI://www.unive.it/data/insegnamento/568383
DTSTART:20260424T103000
END:VEVENT
BEGIN:VEVENT
DTEND:20260508T120000
UID:69e7239103c61
DTSTAMP:20260421T071321
LOCATION:Aula MF2 Polo didattico San Basilio (MF - Magazzini Frigoriferi)
SUMMARY:CONSERVAZIONE E RESTAURO DEL LIBRO E DEL DOCUMENTO [FM0549] - BARBERO Giulia\, Lezione
URL;VALUE=URI://www.unive.it/data/insegnamento/568383
DTSTART:20260508T103000
END:VEVENT
BEGIN:VEVENT
DTEND:20260515T120000
UID:69e7239103cae
DTSTAMP:20260421T071321
LOCATION:Aula MF2 Polo didattico San Basilio (MF - Magazzini Frigoriferi)
SUMMARY:CONSERVAZIONE E RESTAURO DEL LIBRO E DEL DOCUMENTO [FM0549] - BARBERO Giulia\, Lezione
URL;VALUE=URI://www.unive.it/data/insegnamento/568383
DTSTART:20260515T103000
END:VEVENT
END:VCALENDAR