BEGIN:VCALENDAR
VERSION:2.0
PRODID:-//hacksw/handcal//NONSGML v1.0//EN
CALSCALE:GREGORIAN
X-WR-CALNAME:ARCHIVISTICA DIGITALE [FM0548]
DESCRIPTION:ARCHIVISTICA DIGITALE [FM0548]
REFRESH-INTERVAL;VALUE=DURATION:P1D
X-WR-TIMEZONE:Europe/Rome
BEGIN:VEVENT
DTEND:20260407T101500
UID:69e53867ac825
DTSTAMP:20260419T201743
LOCATION:Sala audio 1 Palazzo Cosulich
SUMMARY:ARCHIVISTICA DIGITALE [FM0548] - LANZINI Marco\, Lezione
URL;VALUE=URI://www.unive.it/data/insegnamento/568384
DTSTART:20260407T084500
END:VEVENT
BEGIN:VEVENT
DTEND:20260413T120000
UID:69e53867ac8d3
DTSTAMP:20260419T201743
LOCATION:Aula 2A Polo didattico San Basilio (Magazzino 5)
SUMMARY:ARCHIVISTICA DIGITALE [FM0548] - LANZINI Marco\, Lezione
URL;VALUE=URI://www.unive.it/data/insegnamento/568384
DTSTART:20260413T103000
END:VEVENT
BEGIN:VEVENT
DTEND:20260413T134500
UID:69e53867ac928
DTSTAMP:20260419T201743
LOCATION:Aula 2A Polo didattico San Basilio (Magazzino 5)
SUMMARY:ARCHIVISTICA DIGITALE [FM0548] - LANZINI Marco\, Lezione
URL;VALUE=URI://www.unive.it/data/insegnamento/568384
DTSTART:20260413T121500
END:VEVENT
BEGIN:VEVENT
DTEND:20260414T101500
UID:69e53867ac979
DTSTAMP:20260419T201743
LOCATION:Sala audio 1 Palazzo Cosulich
SUMMARY:ARCHIVISTICA DIGITALE [FM0548] - LANZINI Marco\, Lezione
URL;VALUE=URI://www.unive.it/data/insegnamento/568384
DTSTART:20260414T084500
END:VEVENT
BEGIN:VEVENT
DTEND:20260420T120000
UID:69e53867ac9c6
DTSTAMP:20260419T201743
LOCATION:Aula 2A Polo didattico San Basilio (Magazzino 5)
SUMMARY:ARCHIVISTICA DIGITALE [FM0548] - LANZINI Marco\, Lezione
URL;VALUE=URI://www.unive.it/data/insegnamento/568384
DTSTART:20260420T103000
END:VEVENT
BEGIN:VEVENT
DTEND:20260420T134500
UID:69e53867acc3c
DTSTAMP:20260419T201743
LOCATION:Aula 2A Polo didattico San Basilio (Magazzino 5)
SUMMARY:ARCHIVISTICA DIGITALE [FM0548] - LANZINI Marco\, Lezione
URL;VALUE=URI://www.unive.it/data/insegnamento/568384
DTSTART:20260420T121500
END:VEVENT
BEGIN:VEVENT
DTEND:20260421T101500
UID:69e53867accde
DTSTAMP:20260419T201743
LOCATION:Sala audio 1 Palazzo Cosulich
SUMMARY:ARCHIVISTICA DIGITALE [FM0548] - LANZINI Marco\, Lezione
URL;VALUE=URI://www.unive.it/data/insegnamento/568384
DTSTART:20260421T084500
END:VEVENT
BEGIN:VEVENT
DTEND:20260427T120000
UID:69e53867acd38
DTSTAMP:20260419T201743
LOCATION:Aula 2A Polo didattico San Basilio (Magazzino 5)
SUMMARY:ARCHIVISTICA DIGITALE [FM0548] - LANZINI Marco\, Lezione
URL;VALUE=URI://www.unive.it/data/insegnamento/568384
DTSTART:20260427T103000
END:VEVENT
BEGIN:VEVENT
DTEND:20260427T134500
UID:69e53867acd8c
DTSTAMP:20260419T201743
LOCATION:Aula 2A Polo didattico San Basilio (Magazzino 5)
SUMMARY:ARCHIVISTICA DIGITALE [FM0548] - LANZINI Marco\, Lezione
URL;VALUE=URI://www.unive.it/data/insegnamento/568384
DTSTART:20260427T121500
END:VEVENT
BEGIN:VEVENT
DTEND:20260428T101500
UID:69e53867acde0
DTSTAMP:20260419T201743
LOCATION:Sala audio 1 Palazzo Cosulich
SUMMARY:ARCHIVISTICA DIGITALE [FM0548] - LANZINI Marco\, Lezione
URL;VALUE=URI://www.unive.it/data/insegnamento/568384
DTSTART:20260428T084500
END:VEVENT
BEGIN:VEVENT
DTEND:20260504T120000
UID:69e53867ace31
DTSTAMP:20260419T201743
LOCATION:Aula 2A Polo didattico San Basilio (Magazzino 5)
SUMMARY:ARCHIVISTICA DIGITALE [FM0548] - LANZINI Marco\, Lezione
URL;VALUE=URI://www.unive.it/data/insegnamento/568384
DTSTART:20260504T103000
END:VEVENT
BEGIN:VEVENT
DTEND:20260504T134500
UID:69e53867ace81
DTSTAMP:20260419T201743
LOCATION:Aula 2A Polo didattico San Basilio (Magazzino 5)
SUMMARY:ARCHIVISTICA DIGITALE [FM0548] - LANZINI Marco\, Lezione
URL;VALUE=URI://www.unive.it/data/insegnamento/568384
DTSTART:20260504T121500
END:VEVENT
BEGIN:VEVENT
DTEND:20260505T101500
UID:69e53867aced0
DTSTAMP:20260419T201743
LOCATION:Sala audio 1 Palazzo Cosulich
SUMMARY:ARCHIVISTICA DIGITALE [FM0548] - LANZINI Marco\, Lezione
URL;VALUE=URI://www.unive.it/data/insegnamento/568384
DTSTART:20260505T084500
END:VEVENT
BEGIN:VEVENT
DTEND:20260511T120000
UID:69e53867acf23
DTSTAMP:20260419T201743
LOCATION:Aula 2A Polo didattico San Basilio (Magazzino 5)
SUMMARY:ARCHIVISTICA DIGITALE [FM0548] - LANZINI Marco\, Lezione
URL;VALUE=URI://www.unive.it/data/insegnamento/568384
DTSTART:20260511T103000
END:VEVENT
BEGIN:VEVENT
DTEND:20260511T134500
UID:69e53867acf73
DTSTAMP:20260419T201743
LOCATION:Aula 2A Polo didattico San Basilio (Magazzino 5)
SUMMARY:ARCHIVISTICA DIGITALE [FM0548] - LANZINI Marco\, Lezione
URL;VALUE=URI://www.unive.it/data/insegnamento/568384
DTSTART:20260511T121500
END:VEVENT
BEGIN:VEVENT
DTEND:20260512T101500
UID:69e53867acfc2
DTSTAMP:20260419T201743
LOCATION:Sala audio 1 Palazzo Cosulich
SUMMARY:ARCHIVISTICA DIGITALE [FM0548] - LANZINI Marco\, Lezione
URL;VALUE=URI://www.unive.it/data/insegnamento/568384
DTSTART:20260512T084500
END:VEVENT
END:VCALENDAR