BEGIN:VCALENDAR
VERSION:2.0
PRODID:-//hacksw/handcal//NONSGML v1.0//EN
CALSCALE:GREGORIAN
X-WR-CALNAME:PALEOGRAFIA GRECA [FM0394]
DESCRIPTION:PALEOGRAFIA GRECA [FM0394]
REFRESH-INTERVAL;VALUE=DURATION:P1D
X-WR-TIMEZONE:Europe/Rome
BEGIN:VEVENT
DTEND:20250926T171500
UID:69e74cb802e1e
DTSTAMP:20260421T100856
LOCATION:Aula 3 San Sebastiano
SUMMARY:PALEOGRAFIA GRECA [FM0394] - DEGNI PAOLA\, Lezione
URL;VALUE=URI://www.unive.it/data/insegnamento/568734
DTSTART:20250926T154500
END:VEVENT
BEGIN:VEVENT
DTEND:20251003T171500
UID:69e74cb802ea0
DTSTAMP:20260421T100856
LOCATION:Aula 3 San Sebastiano
SUMMARY:PALEOGRAFIA GRECA [FM0394] - DEGNI PAOLA\, Lezione
URL;VALUE=URI://www.unive.it/data/insegnamento/568734
DTSTART:20251003T154500
END:VEVENT
BEGIN:VEVENT
DTEND:20251010T171500
UID:69e74cb802eee
DTSTAMP:20260421T100856
LOCATION:Aula 3 San Sebastiano
SUMMARY:PALEOGRAFIA GRECA [FM0394] - DEGNI PAOLA\, Lezione
URL;VALUE=URI://www.unive.it/data/insegnamento/568734
DTSTART:20251010T154500
END:VEVENT
BEGIN:VEVENT
DTEND:20251017T171500
UID:69e74cb802f39
DTSTAMP:20260421T100856
LOCATION:Aula 3 San Sebastiano
SUMMARY:PALEOGRAFIA GRECA [FM0394] - DEGNI PAOLA\, Lezione
URL;VALUE=URI://www.unive.it/data/insegnamento/568734
DTSTART:20251017T154500
END:VEVENT
BEGIN:VEVENT
DTEND:20251024T171500
UID:69e74cb802f83
DTSTAMP:20260421T100856
LOCATION:Aula 3 San Sebastiano
SUMMARY:PALEOGRAFIA GRECA [FM0394] - DEGNI PAOLA\, Lezione
URL;VALUE=URI://www.unive.it/data/insegnamento/568734
DTSTART:20251024T154500
END:VEVENT
BEGIN:VEVENT
DTEND:20251031T171500
UID:69e74cb802fce
DTSTAMP:20260421T100856
LOCATION:Aula 3 San Sebastiano
SUMMARY:PALEOGRAFIA GRECA [FM0394] - DEGNI PAOLA\, Lezione
URL;VALUE=URI://www.unive.it/data/insegnamento/568734
DTSTART:20251031T154500
END:VEVENT
BEGIN:VEVENT
DTEND:20251113T171500
UID:69e74cb803017
DTSTAMP:20260421T100856
LOCATION:Aula 1D Polo didattico San Basilio (Magazzino 5)
SUMMARY:PALEOGRAFIA GRECA [FM0394] - DEGNI PAOLA\, Lezione
URL;VALUE=URI://www.unive.it/data/insegnamento/568734
DTSTART:20251113T154500
END:VEVENT
BEGIN:VEVENT
DTEND:20251114T101500
UID:69e74cb803061
DTSTAMP:20260421T100856
LOCATION:Aula 1E Polo didattico San Basilio (Magazzino 5)
SUMMARY:PALEOGRAFIA GRECA [FM0394] - DEGNI PAOLA\, Lezione
URL;VALUE=URI://www.unive.it/data/insegnamento/568734
DTSTART:20251114T084500
END:VEVENT
BEGIN:VEVENT
DTEND:20251120T171500
UID:69e74cb8030ab
DTSTAMP:20260421T100856
LOCATION:Aula 1D Polo didattico San Basilio (Magazzino 5)
SUMMARY:PALEOGRAFIA GRECA [FM0394] - DEGNI PAOLA\, Lezione
URL;VALUE=URI://www.unive.it/data/insegnamento/568734
DTSTART:20251120T154500
END:VEVENT
BEGIN:VEVENT
DTEND:20251120T190000
UID:69e74cb8030f4
DTSTAMP:20260421T100856
LOCATION:Aula 1C Polo didattico San Basilio (Magazzino 5)
SUMMARY:PALEOGRAFIA GRECA [FM0394] - DEGNI PAOLA\, Lezione
URL;VALUE=URI://www.unive.it/data/insegnamento/568734
DTSTART:20251120T173000
END:VEVENT
BEGIN:VEVENT
DTEND:20251127T120000
UID:69e74cb803149
DTSTAMP:20260421T100856
LOCATION:Aula 3 San Sebastiano
SUMMARY:PALEOGRAFIA GRECA [FM0394] - DEGNI PAOLA\, Lezione
URL;VALUE=URI://www.unive.it/data/insegnamento/568734
DTSTART:20251127T103000
END:VEVENT
BEGIN:VEVENT
DTEND:20251127T171500
UID:69e74cb803194
DTSTAMP:20260421T100856
LOCATION:Aula 1D Polo didattico San Basilio (Magazzino 5)
SUMMARY:PALEOGRAFIA GRECA [FM0394] - DEGNI PAOLA\, Lezione
URL;VALUE=URI://www.unive.it/data/insegnamento/568734
DTSTART:20251127T154500
END:VEVENT
BEGIN:VEVENT
DTEND:20251204T120000
UID:69e74cb8031df
DTSTAMP:20260421T100856
LOCATION:Aula 3 San Sebastiano
SUMMARY:PALEOGRAFIA GRECA [FM0394] - DEGNI PAOLA\, Lezione
URL;VALUE=URI://www.unive.it/data/insegnamento/568734
DTSTART:20251204T103000
END:VEVENT
BEGIN:VEVENT
DTEND:20251204T171500
UID:69e74cb803228
DTSTAMP:20260421T100856
LOCATION:Aula 1D Polo didattico San Basilio (Magazzino 5)
SUMMARY:PALEOGRAFIA GRECA [FM0394] - DEGNI PAOLA\, Lezione
URL;VALUE=URI://www.unive.it/data/insegnamento/568734
DTSTART:20251204T154500
END:VEVENT
BEGIN:VEVENT
DTEND:20251205T101500
UID:69e74cb803272
DTSTAMP:20260421T100856
LOCATION:Aula 1E Polo didattico San Basilio (Magazzino 5)
SUMMARY:PALEOGRAFIA GRECA [FM0394] - DEGNI PAOLA\, Lezione
URL;VALUE=URI://www.unive.it/data/insegnamento/568734
DTSTART:20251205T084500
END:VEVENT
BEGIN:VEVENT
DTEND:20251212T101500
UID:69e74cb8032bd
DTSTAMP:20260421T100856
LOCATION:Aula 1E Polo didattico San Basilio (Magazzino 5)
SUMMARY:PALEOGRAFIA GRECA [FM0394] - DEGNI PAOLA\, Lezione
URL;VALUE=URI://www.unive.it/data/insegnamento/568734
DTSTART:20251212T084500
END:VEVENT
BEGIN:VEVENT
DTEND:20251212T171500
UID:69e74cb803307
DTSTAMP:20260421T100856
LOCATION:Aula 14 San Sebastiano
SUMMARY:PALEOGRAFIA GRECA [FM0394] - DEGNI PAOLA\, Lezione
URL;VALUE=URI://www.unive.it/data/insegnamento/568734
DTSTART:20251212T154500
END:VEVENT
END:VCALENDAR