BEGIN:VCALENDAR
VERSION:2.0
PRODID:-//hacksw/handcal//NONSGML v1.0//EN
CALSCALE:GREGORIAN
X-WR-CALNAME:DIRITTI UMANI [LM8145]
DESCRIPTION:DIRITTI UMANI [LM8145]
REFRESH-INTERVAL;VALUE=DURATION:P1D
X-WR-TIMEZONE:Europe/Rome
BEGIN:VEVENT
DTEND:20251112T153000
UID:69e74cb36c5bd
DTSTAMP:20260421T100851
LOCATION:Aula 1E Polo didattico San Basilio (Magazzino 5)
SUMMARY:DIRITTI UMANI [LM8145] - ASTA Gabriele\, Lezione
URL;VALUE=URI://www.unive.it/data/insegnamento/572172
DTSTART:20251112T140000
END:VEVENT
BEGIN:VEVENT
DTEND:20251112T171500
UID:69e74cb36c670
DTSTAMP:20260421T100851
LOCATION:Aula 1E Polo didattico San Basilio (Magazzino 5)
SUMMARY:DIRITTI UMANI [LM8145] - ASTA Gabriele\, Lezione
URL;VALUE=URI://www.unive.it/data/insegnamento/572172
DTSTART:20251112T154500
END:VEVENT
BEGIN:VEVENT
DTEND:20251113T171500
UID:69e74cb36c6d3
DTSTAMP:20260421T100851
LOCATION:Aula 4 San Sebastiano
SUMMARY:DIRITTI UMANI [LM8145] - ASTA Gabriele\, Lezione
URL;VALUE=URI://www.unive.it/data/insegnamento/572172
DTSTART:20251113T154500
END:VEVENT
BEGIN:VEVENT
DTEND:20251119T153000
UID:69e74cb36c72b
DTSTAMP:20260421T100851
LOCATION:Aula 8 Rio Novo
SUMMARY:DIRITTI UMANI [LM8145] - ASTA Gabriele\, Lezione
URL;VALUE=URI://www.unive.it/data/insegnamento/572172
DTSTART:20251119T140000
END:VEVENT
BEGIN:VEVENT
DTEND:20251119T171500
UID:69e74cb36c780
DTSTAMP:20260421T100851
LOCATION:Aula 8 Rio Novo
SUMMARY:DIRITTI UMANI [LM8145] - ASTA Gabriele\, Lezione
URL;VALUE=URI://www.unive.it/data/insegnamento/572172
DTSTART:20251119T154500
END:VEVENT
BEGIN:VEVENT
DTEND:20251120T171500
UID:69e74cb36c7d6
DTSTAMP:20260421T100851
LOCATION:Aula 4 San Sebastiano
SUMMARY:DIRITTI UMANI [LM8145] - ASTA Gabriele\, Lezione
URL;VALUE=URI://www.unive.it/data/insegnamento/572172
DTSTART:20251120T154500
END:VEVENT
BEGIN:VEVENT
DTEND:20251126T153000
UID:69e74cb36c82b
DTSTAMP:20260421T100851
LOCATION:Aula C Ca' Bembo
SUMMARY:DIRITTI UMANI [LM8145] - ASTA Gabriele\, Lezione
URL;VALUE=URI://www.unive.it/data/insegnamento/572172
DTSTART:20251126T140000
END:VEVENT
BEGIN:VEVENT
DTEND:20251126T171500
UID:69e74cb36c888
DTSTAMP:20260421T100851
LOCATION:Aula C Ca' Bembo
SUMMARY:DIRITTI UMANI [LM8145] - ASTA Gabriele\, Lezione
URL;VALUE=URI://www.unive.it/data/insegnamento/572172
DTSTART:20251126T154500
END:VEVENT
BEGIN:VEVENT
DTEND:20251127T171500
UID:69e74cb36c8dc
DTSTAMP:20260421T100851
LOCATION:Aula 4 San Sebastiano
SUMMARY:DIRITTI UMANI [LM8145] - ASTA Gabriele\, Lezione
URL;VALUE=URI://www.unive.it/data/insegnamento/572172
DTSTART:20251127T154500
END:VEVENT
BEGIN:VEVENT
DTEND:20251203T153000
UID:69e74cb36c93d
DTSTAMP:20260421T100851
LOCATION:Aula 2L Polo didattico San Basilio (Magazzino 4)
SUMMARY:DIRITTI UMANI [LM8145] - ASTA Gabriele\, Lezione
URL;VALUE=URI://www.unive.it/data/insegnamento/572172
DTSTART:20251203T140000
END:VEVENT
BEGIN:VEVENT
DTEND:20251203T171500
UID:69e74cb36c994
DTSTAMP:20260421T100851
LOCATION:Aula 2L Polo didattico San Basilio (Magazzino 4)
SUMMARY:DIRITTI UMANI [LM8145] - ASTA Gabriele\, Lezione
URL;VALUE=URI://www.unive.it/data/insegnamento/572172
DTSTART:20251203T154500
END:VEVENT
BEGIN:VEVENT
DTEND:20251204T171500
UID:69e74cb36c9f5
DTSTAMP:20260421T100851
LOCATION:Aula 4 San Sebastiano
SUMMARY:DIRITTI UMANI [LM8145] - ASTA Gabriele\, Lezione
URL;VALUE=URI://www.unive.it/data/insegnamento/572172
DTSTART:20251204T154500
END:VEVENT
BEGIN:VEVENT
DTEND:20251211T171500
UID:69e74cb36ca4d
DTSTAMP:20260421T100851
LOCATION:Aula 4 San Sebastiano
SUMMARY:DIRITTI UMANI [LM8145] - ASTA Gabriele\, Lezione
URL;VALUE=URI://www.unive.it/data/insegnamento/572172
DTSTART:20251211T154500
END:VEVENT
BEGIN:VEVENT
DTEND:20251217T153000
UID:69e74cb36caa5
DTSTAMP:20260421T100851
LOCATION:Aula 2L Polo didattico San Basilio (Magazzino 4)
SUMMARY:DIRITTI UMANI [LM8145] - ASTA Gabriele\, Lezione
URL;VALUE=URI://www.unive.it/data/insegnamento/572172
DTSTART:20251217T140000
END:VEVENT
BEGIN:VEVENT
DTEND:20251217T171500
UID:69e74cb36cafc
DTSTAMP:20260421T100851
LOCATION:Aula 2L Polo didattico San Basilio (Magazzino 4)
SUMMARY:DIRITTI UMANI [LM8145] - ASTA Gabriele\, Lezione
URL;VALUE=URI://www.unive.it/data/insegnamento/572172
DTSTART:20251217T154500
END:VEVENT
BEGIN:VEVENT
DTEND:20251218T171500
UID:69e74cb36cb51
DTSTAMP:20260421T100851
LOCATION:Aula 4 San Sebastiano
SUMMARY:DIRITTI UMANI [LM8145] - ASTA Gabriele\, Lezione
URL;VALUE=URI://www.unive.it/data/insegnamento/572172
DTSTART:20251218T154500
END:VEVENT
END:VCALENDAR