BEGIN:VCALENDAR
VERSION:2.0
PRODID:-//hacksw/handcal//NONSGML v1.0//EN
CALSCALE:GREGORIAN
X-WR-CALNAME:GLOTTODIDATTICA (GIAPPONE) [LM2400]
DESCRIPTION:GLOTTODIDATTICA (GIAPPONE) [LM2400]
REFRESH-INTERVAL;VALUE=DURATION:P1D
X-WR-TIMEZONE:Europe/Rome
BEGIN:VEVENT
DTEND:20250924T153000
UID:69e74d0c39e13
DTSTAMP:20260421T101020
LOCATION:Aula 0C Polo didattico San Basilio (Magazzino 5)
SUMMARY:GLOTTODIDATTICA (GIAPPONE) [LM2400] - RIZZATELLO ALEX\, Lezione
URL;VALUE=URI://www.unive.it/data/insegnamento/572866
DTSTART:20250924T140000
END:VEVENT
BEGIN:VEVENT
DTEND:20251001T153000
UID:69e74d0c39ea4
DTSTAMP:20260421T101020
LOCATION:Aula 0C Polo didattico San Basilio (Magazzino 5)
SUMMARY:GLOTTODIDATTICA (GIAPPONE) [LM2400] - RIZZATELLO ALEX\, Lezione
URL;VALUE=URI://www.unive.it/data/insegnamento/572866
DTSTART:20251001T140000
END:VEVENT
BEGIN:VEVENT
DTEND:20251008T153000
UID:69e74d0c39ef7
DTSTAMP:20260421T101020
LOCATION:Aula 0C Polo didattico San Basilio (Magazzino 5)
SUMMARY:GLOTTODIDATTICA (GIAPPONE) [LM2400] - RIZZATELLO ALEX\, Lezione
URL;VALUE=URI://www.unive.it/data/insegnamento/572866
DTSTART:20251008T140000
END:VEVENT
BEGIN:VEVENT
DTEND:20251015T153000
UID:69e74d0c39f4a
DTSTAMP:20260421T101020
LOCATION:Aula 0C Polo didattico San Basilio (Magazzino 5)
SUMMARY:GLOTTODIDATTICA (GIAPPONE) [LM2400] - RIZZATELLO ALEX\, Lezione
URL;VALUE=URI://www.unive.it/data/insegnamento/572866
DTSTART:20251015T140000
END:VEVENT
BEGIN:VEVENT
DTEND:20251022T153000
UID:69e74d0c39f9a
DTSTAMP:20260421T101020
LOCATION:Aula 0C Polo didattico San Basilio (Magazzino 5)
SUMMARY:GLOTTODIDATTICA (GIAPPONE) [LM2400] - RIZZATELLO ALEX\, Lezione
URL;VALUE=URI://www.unive.it/data/insegnamento/572866
DTSTART:20251022T140000
END:VEVENT
BEGIN:VEVENT
DTEND:20251029T153000
UID:69e74d0c39ff1
DTSTAMP:20260421T101020
LOCATION:Aula 0C Polo didattico San Basilio (Magazzino 5)
SUMMARY:GLOTTODIDATTICA (GIAPPONE) [LM2400] - RIZZATELLO ALEX\, Lezione
URL;VALUE=URI://www.unive.it/data/insegnamento/572866
DTSTART:20251029T140000
END:VEVENT
BEGIN:VEVENT
DTEND:20251105T153000
UID:69e74d0c3a03e
DTSTAMP:20260421T101020
LOCATION:Aula 0C Polo didattico San Basilio (Magazzino 5)
SUMMARY:GLOTTODIDATTICA (GIAPPONE) [LM2400] - RIZZATELLO ALEX\, Lezione
URL;VALUE=URI://www.unive.it/data/insegnamento/572866
DTSTART:20251105T140000
END:VEVENT
BEGIN:VEVENT
DTEND:20251112T153000
UID:69e74d0c3a08a
DTSTAMP:20260421T101020
LOCATION:Aula 0C Polo didattico San Basilio (Magazzino 5)
SUMMARY:GLOTTODIDATTICA (GIAPPONE) [LM2400] - RIZZATELLO ALEX\, Lezione
URL;VALUE=URI://www.unive.it/data/insegnamento/572866
DTSTART:20251112T140000
END:VEVENT
BEGIN:VEVENT
DTEND:20251119T153000
UID:69e74d0c3a0d6
DTSTAMP:20260421T101020
LOCATION:Aula 0C Polo didattico San Basilio (Magazzino 5)
SUMMARY:GLOTTODIDATTICA (GIAPPONE) [LM2400] - RIZZATELLO ALEX\, Lezione
URL;VALUE=URI://www.unive.it/data/insegnamento/572866
DTSTART:20251119T140000
END:VEVENT
BEGIN:VEVENT
DTEND:20251126T153000
UID:69e74d0c3a120
DTSTAMP:20260421T101020
LOCATION:Aula 0C Polo didattico San Basilio (Magazzino 5)
SUMMARY:GLOTTODIDATTICA (GIAPPONE) [LM2400] - RIZZATELLO ALEX\, Lezione
URL;VALUE=URI://www.unive.it/data/insegnamento/572866
DTSTART:20251126T140000
END:VEVENT
BEGIN:VEVENT
DTEND:20251203T153000
UID:69e74d0c3a16a
DTSTAMP:20260421T101020
LOCATION:Aula 0C Polo didattico San Basilio (Magazzino 5)
SUMMARY:GLOTTODIDATTICA (GIAPPONE) [LM2400] - RIZZATELLO ALEX\, Lezione
URL;VALUE=URI://www.unive.it/data/insegnamento/572866
DTSTART:20251203T140000
END:VEVENT
BEGIN:VEVENT
DTEND:20251205T190000
UID:69e74d0c3a1b5
DTSTAMP:20260421T101020
LOCATION:ALTRO Altro
SUMMARY:GLOTTODIDATTICA (GIAPPONE) [LM2400] - RIZZATELLO ALEX\, Lezione
URL;VALUE=URI://www.unive.it/data/insegnamento/572866
DTSTART:20251205T173000
END:VEVENT
BEGIN:VEVENT
DTEND:20251210T153000
UID:69e74d0c3a1fe
DTSTAMP:20260421T101020
LOCATION:Aula 0C Polo didattico San Basilio (Magazzino 5)
SUMMARY:GLOTTODIDATTICA (GIAPPONE) [LM2400] - RIZZATELLO ALEX\, Lezione
URL;VALUE=URI://www.unive.it/data/insegnamento/572866
DTSTART:20251210T140000
END:VEVENT
BEGIN:VEVENT
DTEND:20251216T153000
UID:69e74d0c3a249
DTSTAMP:20260421T101020
LOCATION:Aula Elena Cornaro Ca' Bembo
SUMMARY:GLOTTODIDATTICA (GIAPPONE) [LM2400] - RIZZATELLO ALEX\, Lezione
URL;VALUE=URI://www.unive.it/data/insegnamento/572866
DTSTART:20251216T140000
END:VEVENT
BEGIN:VEVENT
DTEND:20251217T153000
UID:69e74d0c3a292
DTSTAMP:20260421T101020
LOCATION:Aula 0C Polo didattico San Basilio (Magazzino 5)
SUMMARY:GLOTTODIDATTICA (GIAPPONE) [LM2400] - RIZZATELLO ALEX\, Lezione
URL;VALUE=URI://www.unive.it/data/insegnamento/572866
DTSTART:20251217T140000
END:VEVENT
BEGIN:VEVENT
DTEND:20260114T153000
UID:69e74d0c3a2dc
DTSTAMP:20260421T101020
LOCATION:Aula 0C Polo didattico San Basilio (Magazzino 5)
SUMMARY:GLOTTODIDATTICA (GIAPPONE) [LM2400] - RIZZATELLO ALEX\, Lezione
URL;VALUE=URI://www.unive.it/data/insegnamento/572866
DTSTART:20260114T140000
END:VEVENT
BEGIN:VEVENT
DTEND:20260121T153000
UID:69e74d0c3a326
DTSTAMP:20260421T101020
LOCATION:Aula 0C Polo didattico San Basilio (Magazzino 5)
SUMMARY:GLOTTODIDATTICA (GIAPPONE) [LM2400] - RIZZATELLO ALEX\, Lezione
URL;VALUE=URI://www.unive.it/data/insegnamento/572866
DTSTART:20260121T140000
END:VEVENT
END:VCALENDAR