BEGIN:VCALENDAR
VERSION:2.0
PRODID:-//hacksw/handcal//NONSGML v1.0//EN
CALSCALE:GREGORIAN
X-WR-CALNAME:ECOLOGIA DEL RIPRISTINO AMBIENTALE [CM0435]
DESCRIPTION:ECOLOGIA DEL RIPRISTINO AMBIENTALE [CM0435]
REFRESH-INTERVAL;VALUE=DURATION:P1D
X-WR-TIMEZONE:Europe/Rome
BEGIN:VEVENT
DTEND:20260302T171500
UID:69e7962e66bf8
DTSTAMP:20260421T152222
LOCATION:Aula Delta 2B Campus scientifico via Torino (edificio Delta)
SUMMARY:ECOLOGIA DEL RIPRISTINO AMBIENTALE [CM0435] - FRANZOI Piero\, Lezione
URL;VALUE=URI://www.unive.it/data/insegnamento/573701
DTSTART:20260302T154500
END:VEVENT
BEGIN:VEVENT
DTEND:20260306T101500
UID:69e7962e66c85
DTSTAMP:20260421T152222
LOCATION:Aula Delta 2B Campus scientifico via Torino (edificio Delta)
SUMMARY:ECOLOGIA DEL RIPRISTINO AMBIENTALE [CM0435] - FRANZOI Piero\, Lezione
URL;VALUE=URI://www.unive.it/data/insegnamento/573701
DTSTART:20260306T084500
END:VEVENT
BEGIN:VEVENT
DTEND:20260309T171500
UID:69e7962e66cd7
DTSTAMP:20260421T152222
LOCATION:Aula Delta 2B Campus scientifico via Torino (edificio Delta)
SUMMARY:ECOLOGIA DEL RIPRISTINO AMBIENTALE [CM0435] - FRANZOI Piero\, Lezione
URL;VALUE=URI://www.unive.it/data/insegnamento/573701
DTSTART:20260309T154500
END:VEVENT
BEGIN:VEVENT
DTEND:20260313T101500
UID:69e7962e66d27
DTSTAMP:20260421T152222
LOCATION:Aula Delta 2B Campus scientifico via Torino (edificio Delta)
SUMMARY:ECOLOGIA DEL RIPRISTINO AMBIENTALE [CM0435] - FRANZOI Piero\, Lezione
URL;VALUE=URI://www.unive.it/data/insegnamento/573701
DTSTART:20260313T084500
END:VEVENT
BEGIN:VEVENT
DTEND:20260316T171500
UID:69e7962e66d7b
DTSTAMP:20260421T152222
LOCATION:Aula Delta 2B Campus scientifico via Torino (edificio Delta)
SUMMARY:ECOLOGIA DEL RIPRISTINO AMBIENTALE [CM0435] - FRANZOI Piero\, Lezione
URL;VALUE=URI://www.unive.it/data/insegnamento/573701
DTSTART:20260316T154500
END:VEVENT
BEGIN:VEVENT
DTEND:20260320T101500
UID:69e7962e66dc9
DTSTAMP:20260421T152222
LOCATION:Aula Delta 2B Campus scientifico via Torino (edificio Delta)
SUMMARY:ECOLOGIA DEL RIPRISTINO AMBIENTALE [CM0435] - FRANZOI Piero\, Lezione
URL;VALUE=URI://www.unive.it/data/insegnamento/573701
DTSTART:20260320T084500
END:VEVENT
BEGIN:VEVENT
DTEND:20260323T171500
UID:69e7962e66e16
DTSTAMP:20260421T152222
LOCATION:Aula Delta 2B Campus scientifico via Torino (edificio Delta)
SUMMARY:ECOLOGIA DEL RIPRISTINO AMBIENTALE [CM0435] - FRANZOI Piero\, Lezione
URL;VALUE=URI://www.unive.it/data/insegnamento/573701
DTSTART:20260323T154500
END:VEVENT
BEGIN:VEVENT
DTEND:20260327T101500
UID:69e7962e66e62
DTSTAMP:20260421T152222
LOCATION:Aula Delta 2B Campus scientifico via Torino (edificio Delta)
SUMMARY:ECOLOGIA DEL RIPRISTINO AMBIENTALE [CM0435] - FRANZOI Piero\, Lezione
URL;VALUE=URI://www.unive.it/data/insegnamento/573701
DTSTART:20260327T084500
END:VEVENT
BEGIN:VEVENT
DTEND:20260330T171500
UID:69e7962e66eaf
DTSTAMP:20260421T152222
LOCATION:Aula Delta 2B Campus scientifico via Torino (edificio Delta)
SUMMARY:ECOLOGIA DEL RIPRISTINO AMBIENTALE [CM0435] - FRANZOI Piero\, Lezione
URL;VALUE=URI://www.unive.it/data/insegnamento/573701
DTSTART:20260330T154500
END:VEVENT
BEGIN:VEVENT
DTEND:20260403T101500
UID:69e7962e66efc
DTSTAMP:20260421T152222
LOCATION:Aula Delta 2B Campus scientifico via Torino (edificio Delta)
SUMMARY:ECOLOGIA DEL RIPRISTINO AMBIENTALE [CM0435] - FRANZOI Piero\, Lezione
URL;VALUE=URI://www.unive.it/data/insegnamento/573701
DTSTART:20260403T084500
END:VEVENT
BEGIN:VEVENT
DTEND:20260410T101500
UID:69e7962e66f48
DTSTAMP:20260421T152222
LOCATION:Aula Delta 2B Campus scientifico via Torino (edificio Delta)
SUMMARY:ECOLOGIA DEL RIPRISTINO AMBIENTALE [CM0435] - FRANZOI Piero\, Lezione
URL;VALUE=URI://www.unive.it/data/insegnamento/573701
DTSTART:20260410T084500
END:VEVENT
BEGIN:VEVENT
DTEND:20260413T171500
UID:69e7962e66f94
DTSTAMP:20260421T152222
LOCATION:Aula Delta 2B Campus scientifico via Torino (edificio Delta)
SUMMARY:ECOLOGIA DEL RIPRISTINO AMBIENTALE [CM0435] - FRANZOI Piero\, Lezione
URL;VALUE=URI://www.unive.it/data/insegnamento/573701
DTSTART:20260413T154500
END:VEVENT
BEGIN:VEVENT
DTEND:20260417T101500
UID:69e7962e66fdf
DTSTAMP:20260421T152222
LOCATION:Aula Delta 2B Campus scientifico via Torino (edificio Delta)
SUMMARY:ECOLOGIA DEL RIPRISTINO AMBIENTALE [CM0435] - FRANZOI Piero\, Lezione
URL;VALUE=URI://www.unive.it/data/insegnamento/573701
DTSTART:20260417T084500
END:VEVENT
BEGIN:VEVENT
DTEND:20260420T171500
UID:69e7962e6702a
DTSTAMP:20260421T152222
LOCATION:Aula Delta 2B Campus scientifico via Torino (edificio Delta)
SUMMARY:ECOLOGIA DEL RIPRISTINO AMBIENTALE [CM0435] - FRANZOI Piero\, Lezione
URL;VALUE=URI://www.unive.it/data/insegnamento/573701
DTSTART:20260420T154500
END:VEVENT
BEGIN:VEVENT
DTEND:20260424T101500
UID:69e7962e67075
DTSTAMP:20260421T152222
LOCATION:Aula Delta 2B Campus scientifico via Torino (edificio Delta)
SUMMARY:ECOLOGIA DEL RIPRISTINO AMBIENTALE [CM0435] - FRANZOI Piero\, Lezione
URL;VALUE=URI://www.unive.it/data/insegnamento/573701
DTSTART:20260424T084500
END:VEVENT
BEGIN:VEVENT
DTEND:20260427T171500
UID:69e7962e670c1
DTSTAMP:20260421T152222
LOCATION:Aula Delta 2B Campus scientifico via Torino (edificio Delta)
SUMMARY:ECOLOGIA DEL RIPRISTINO AMBIENTALE [CM0435] - FRANZOI Piero\, Lezione
URL;VALUE=URI://www.unive.it/data/insegnamento/573701
DTSTART:20260427T154500
END:VEVENT
BEGIN:VEVENT
DTEND:20260511T171500
UID:69e7962e6710d
DTSTAMP:20260421T152222
LOCATION:Aula Delta 2B Campus scientifico via Torino (edificio Delta)
SUMMARY:ECOLOGIA DEL RIPRISTINO AMBIENTALE [CM0435] - FRANZOI Piero\, Lezione
URL;VALUE=URI://www.unive.it/data/insegnamento/573701
DTSTART:20260511T154500
END:VEVENT
BEGIN:VEVENT
DTEND:20260518T171500
UID:69e7962e67158
DTSTAMP:20260421T152222
LOCATION:Aula Delta 2B Campus scientifico via Torino (edificio Delta)
SUMMARY:ECOLOGIA DEL RIPRISTINO AMBIENTALE [CM0435] - FRANZOI Piero\, Lezione
URL;VALUE=URI://www.unive.it/data/insegnamento/573701
DTSTART:20260518T154500
END:VEVENT
BEGIN:VEVENT
DTEND:20260525T171500
UID:69e7962e671a4
DTSTAMP:20260421T152222
LOCATION:Aula Delta 2B Campus scientifico via Torino (edificio Delta)
SUMMARY:ECOLOGIA DEL RIPRISTINO AMBIENTALE [CM0435] - FRANZOI Piero\, Lezione
URL;VALUE=URI://www.unive.it/data/insegnamento/573701
DTSTART:20260525T154500
END:VEVENT
END:VCALENDAR