BEGIN:VCALENDAR
VERSION:2.0
PRODID:-//hacksw/handcal//NONSGML v1.0//EN
CALSCALE:GREGORIAN
X-WR-CALNAME:INFORMATICA (PAESI ARABI) [LM3085]
DESCRIPTION:INFORMATICA (PAESI ARABI) [LM3085]
REFRESH-INTERVAL;VALUE=DURATION:P1D
X-WR-TIMEZONE:Europe/Rome
BEGIN:VEVENT
DTEND:20260224T134500
UID:69e74d0298e5f
DTSTAMP:20260421T101010
LOCATION:Aula 6 Rio Novo
SUMMARY:INFORMATICA (PAESI ARABI) [LM3085] - Martì Tormo Vicente\, Lezione
URL;VALUE=URI://www.unive.it/data/insegnamento/574687
DTSTART:20260224T121500
END:VEVENT
BEGIN:VEVENT
DTEND:20260303T134500
UID:69e74d0298ee1
DTSTAMP:20260421T101010
LOCATION:Aula 6 Rio Novo
SUMMARY:INFORMATICA (PAESI ARABI) [LM3085] - Martì Tormo Vicente\, Lezione
URL;VALUE=URI://www.unive.it/data/insegnamento/574687
DTSTART:20260303T121500
END:VEVENT
BEGIN:VEVENT
DTEND:20260317T134500
UID:69e74d0298f41
DTSTAMP:20260421T101010
LOCATION:Aula 6 Rio Novo
SUMMARY:INFORMATICA (PAESI ARABI) [LM3085] - Martì Tormo Vicente\, Lezione
URL;VALUE=URI://www.unive.it/data/insegnamento/574687
DTSTART:20260317T121500
END:VEVENT
BEGIN:VEVENT
DTEND:20260324T134500
UID:69e74d0298f7a
DTSTAMP:20260421T101010
LOCATION:Aula 6 Rio Novo
SUMMARY:INFORMATICA (PAESI ARABI) [LM3085] - Martì Tormo Vicente\, Lezione
URL;VALUE=URI://www.unive.it/data/insegnamento/574687
DTSTART:20260324T121500
END:VEVENT
BEGIN:VEVENT
DTEND:20260331T134500
UID:69e74d0298fce
DTSTAMP:20260421T101010
LOCATION:Aula 6 Rio Novo
SUMMARY:INFORMATICA (PAESI ARABI) [LM3085] - Martì Tormo Vicente\, Lezione
URL;VALUE=URI://www.unive.it/data/insegnamento/574687
DTSTART:20260331T121500
END:VEVENT
BEGIN:VEVENT
DTEND:20260407T134500
UID:69e74d0299021
DTSTAMP:20260421T101010
LOCATION:Aula 6 Rio Novo
SUMMARY:INFORMATICA (PAESI ARABI) [LM3085] - Martì Tormo Vicente\, Lezione
URL;VALUE=URI://www.unive.it/data/insegnamento/574687
DTSTART:20260407T121500
END:VEVENT
BEGIN:VEVENT
DTEND:20260414T134500
UID:69e74d0299075
DTSTAMP:20260421T101010
LOCATION:Aula 6 Rio Novo
SUMMARY:INFORMATICA (PAESI ARABI) [LM3085] - Martì Tormo Vicente\, Lezione
URL;VALUE=URI://www.unive.it/data/insegnamento/574687
DTSTART:20260414T121500
END:VEVENT
BEGIN:VEVENT
DTEND:20260421T134500
UID:69e74d02990c7
DTSTAMP:20260421T101010
LOCATION:Aula 6 Rio Novo
SUMMARY:INFORMATICA (PAESI ARABI) [LM3085] - Martì Tormo Vicente\, Lezione
URL;VALUE=URI://www.unive.it/data/insegnamento/574687
DTSTART:20260421T121500
END:VEVENT
BEGIN:VEVENT
DTEND:20260428T134500
UID:69e74d029911b
DTSTAMP:20260421T101010
LOCATION:Aula 6 Rio Novo
SUMMARY:INFORMATICA (PAESI ARABI) [LM3085] - Martì Tormo Vicente\, Lezione
URL;VALUE=URI://www.unive.it/data/insegnamento/574687
DTSTART:20260428T121500
END:VEVENT
BEGIN:VEVENT
DTEND:20260505T134500
UID:69e74d029916e
DTSTAMP:20260421T101010
LOCATION:Aula 6 Rio Novo
SUMMARY:INFORMATICA (PAESI ARABI) [LM3085] - Martì Tormo Vicente\, Lezione
URL;VALUE=URI://www.unive.it/data/insegnamento/574687
DTSTART:20260505T121500
END:VEVENT
BEGIN:VEVENT
DTEND:20260512T134500
UID:69e74d02991c0
DTSTAMP:20260421T101010
LOCATION:Aula 6 Rio Novo
SUMMARY:INFORMATICA (PAESI ARABI) [LM3085] - Martì Tormo Vicente\, Lezione
URL;VALUE=URI://www.unive.it/data/insegnamento/574687
DTSTART:20260512T121500
END:VEVENT
BEGIN:VEVENT
DTEND:20260519T134500
UID:69e74d0299213
DTSTAMP:20260421T101010
LOCATION:Aula 6 Rio Novo
SUMMARY:INFORMATICA (PAESI ARABI) [LM3085] - Martì Tormo Vicente\, Lezione
URL;VALUE=URI://www.unive.it/data/insegnamento/574687
DTSTART:20260519T121500
END:VEVENT
BEGIN:VEVENT
DTEND:20260526T134500
UID:69e74d0299266
DTSTAMP:20260421T101010
LOCATION:Aula 6 Rio Novo
SUMMARY:INFORMATICA (PAESI ARABI) [LM3085] - Martì Tormo Vicente\, Lezione
URL;VALUE=URI://www.unive.it/data/insegnamento/574687
DTSTART:20260526T121500
END:VEVENT
END:VCALENDAR