BEGIN:VCALENDAR
VERSION:2.0
PRODID:-//hacksw/handcal//NONSGML v1.0//EN
CALSCALE:GREGORIAN
X-WR-CALNAME:THE CLIMATE OF THE PAST [CM0445]
DESCRIPTION:THE CLIMATE OF THE PAST [CM0445]
REFRESH-INTERVAL;VALUE=DURATION:P1D
X-WR-TIMEZONE:Europe/Rome
BEGIN:VEVENT
DTEND:20260312T134500
UID:69e7a76f18c7f
DTSTAMP:20260421T163559
LOCATION:Aula Delta 0B Campus scientifico via Torino (edificio Delta)
SUMMARY:THE CLIMATE OF THE PAST [CM0445] - BARBANTE Carlo\, Lezione
URL;VALUE=URI://www.unive.it/data/insegnamento/575484
DTSTART:20260312T121500
END:VEVENT
BEGIN:VEVENT
DTEND:20260319T134500
UID:69e7a76f18d1c
DTSTAMP:20260421T163559
LOCATION:Aula Delta 0B Campus scientifico via Torino (edificio Delta)
SUMMARY:THE CLIMATE OF THE PAST [CM0445] - BARBANTE Carlo\, Lezione
URL;VALUE=URI://www.unive.it/data/insegnamento/575484
DTSTART:20260319T121500
END:VEVENT
BEGIN:VEVENT
DTEND:20260326T134500
UID:69e7a76f18d74
DTSTAMP:20260421T163559
LOCATION:Aula Delta 0B Campus scientifico via Torino (edificio Delta)
SUMMARY:THE CLIMATE OF THE PAST [CM0445] - BARBANTE Carlo\, Lezione
URL;VALUE=URI://www.unive.it/data/insegnamento/575484
DTSTART:20260326T121500
END:VEVENT
BEGIN:VEVENT
DTEND:20260402T134500
UID:69e7a76f18dd0
DTSTAMP:20260421T163559
LOCATION:Aula Delta 0B Campus scientifico via Torino (edificio Delta)
SUMMARY:THE CLIMATE OF THE PAST [CM0445] - BARBANTE Carlo\, Lezione
URL;VALUE=URI://www.unive.it/data/insegnamento/575484
DTSTART:20260402T121500
END:VEVENT
BEGIN:VEVENT
DTEND:20260409T134500
UID:69e7a76f18e21
DTSTAMP:20260421T163559
LOCATION:Aula Delta 0B Campus scientifico via Torino (edificio Delta)
SUMMARY:THE CLIMATE OF THE PAST [CM0445] - BARBANTE Carlo\, Lezione
URL;VALUE=URI://www.unive.it/data/insegnamento/575484
DTSTART:20260409T121500
END:VEVENT
BEGIN:VEVENT
DTEND:20260416T134500
UID:69e7a76f18e6c
DTSTAMP:20260421T163559
LOCATION:Aula Delta 0B Campus scientifico via Torino (edificio Delta)
SUMMARY:THE CLIMATE OF THE PAST [CM0445] - BARBANTE Carlo\, Lezione
URL;VALUE=URI://www.unive.it/data/insegnamento/575484
DTSTART:20260416T121500
END:VEVENT
BEGIN:VEVENT
DTEND:20260423T134500
UID:69e7a76f18eb9
DTSTAMP:20260421T163559
LOCATION:Aula Delta 0B Campus scientifico via Torino (edificio Delta)
SUMMARY:THE CLIMATE OF THE PAST [CM0445] - BARBANTE Carlo\, Lezione
URL;VALUE=URI://www.unive.it/data/insegnamento/575484
DTSTART:20260423T121500
END:VEVENT
BEGIN:VEVENT
DTEND:20260430T134500
UID:69e7a76f18f05
DTSTAMP:20260421T163559
LOCATION:Aula Delta 0B Campus scientifico via Torino (edificio Delta)
SUMMARY:THE CLIMATE OF THE PAST [CM0445] - BARBANTE Carlo\, Lezione
URL;VALUE=URI://www.unive.it/data/insegnamento/575484
DTSTART:20260430T121500
END:VEVENT
BEGIN:VEVENT
DTEND:20260507T134500
UID:69e7a76f18f51
DTSTAMP:20260421T163559
LOCATION:Aula Delta 0B Campus scientifico via Torino (edificio Delta)
SUMMARY:THE CLIMATE OF THE PAST [CM0445] - BARBANTE Carlo\, Lezione
URL;VALUE=URI://www.unive.it/data/insegnamento/575484
DTSTART:20260507T121500
END:VEVENT
BEGIN:VEVENT
DTEND:20260514T134500
UID:69e7a76f18f9c
DTSTAMP:20260421T163559
LOCATION:Aula Delta 0B Campus scientifico via Torino (edificio Delta)
SUMMARY:THE CLIMATE OF THE PAST [CM0445] - BARBANTE Carlo\, Lezione
URL;VALUE=URI://www.unive.it/data/insegnamento/575484
DTSTART:20260514T121500
END:VEVENT
BEGIN:VEVENT
DTEND:20260521T134500
UID:69e7a76f18fe9
DTSTAMP:20260421T163559
LOCATION:Aula Delta 0B Campus scientifico via Torino (edificio Delta)
SUMMARY:THE CLIMATE OF THE PAST [CM0445] - BARBANTE Carlo\, Lezione
URL;VALUE=URI://www.unive.it/data/insegnamento/575484
DTSTART:20260521T121500
END:VEVENT
BEGIN:VEVENT
DTEND:20260528T134500
UID:69e7a76f19034
DTSTAMP:20260421T163559
LOCATION:Aula Delta 0B Campus scientifico via Torino (edificio Delta)
SUMMARY:THE CLIMATE OF THE PAST [CM0445] - BARBANTE Carlo\, Lezione
URL;VALUE=URI://www.unive.it/data/insegnamento/575484
DTSTART:20260528T121500
END:VEVENT
BEGIN:VEVENT
DTEND:20260604T134500
UID:69e7a76f19080
DTSTAMP:20260421T163559
LOCATION:Aula Delta 0B Campus scientifico via Torino (edificio Delta)
SUMMARY:THE CLIMATE OF THE PAST [CM0445] - BARBANTE Carlo\, Lezione
URL;VALUE=URI://www.unive.it/data/insegnamento/575484
DTSTART:20260604T121500
END:VEVENT
BEGIN:VEVENT
DTEND:20260611T134500
UID:69e7a76f190dd
DTSTAMP:20260421T163559
LOCATION:Aula Delta 0B Campus scientifico via Torino (edificio Delta)
SUMMARY:THE CLIMATE OF THE PAST [CM0445] - BARBANTE Carlo\, Lezione
URL;VALUE=URI://www.unive.it/data/insegnamento/575484
DTSTART:20260611T121500
END:VEVENT
END:VCALENDAR