BEGIN:VCALENDAR
VERSION:2.0
PRODID:-//hacksw/handcal//NONSGML v1.0//EN
CALSCALE:GREGORIAN
X-WR-CALNAME:GEOGRAPHIC INFORMATION SYSTEMS [CM0573]
DESCRIPTION:GEOGRAPHIC INFORMATION SYSTEMS [CM0573]
REFRESH-INTERVAL;VALUE=DURATION:P1D
X-WR-TIMEZONE:Europe/Rome
BEGIN:VEVENT
DTEND:20260302T101500
UID:69e95722d1ece
DTSTAMP:20260422T231754
LOCATION:Aula B Campus scientifico via Torino (edificio Zeta)
SUMMARY:GEOGRAPHIC INFORMATION SYSTEMS [CM0573] - SILVESTRI Claudio\, Lezione
URL;VALUE=URI://www.unive.it/data/insegnamento/575492
DTSTART:20260302T084500
END:VEVENT
BEGIN:VEVENT
DTEND:20260306T134500
UID:69e95722d1f74
DTSTAMP:20260422T231754
LOCATION:Aula B Campus scientifico via Torino (edificio Zeta)
SUMMARY:GEOGRAPHIC INFORMATION SYSTEMS [CM0573] - SILVESTRI Claudio\, Lezione
URL;VALUE=URI://www.unive.it/data/insegnamento/575492
DTSTART:20260306T121500
END:VEVENT
BEGIN:VEVENT
DTEND:20260309T101500
UID:69e95722d1fd8
DTSTAMP:20260422T231754
LOCATION:Aula B Campus scientifico via Torino (edificio Zeta)
SUMMARY:GEOGRAPHIC INFORMATION SYSTEMS [CM0573] - SILVESTRI Claudio\, Lezione
URL;VALUE=URI://www.unive.it/data/insegnamento/575492
DTSTART:20260309T084500
END:VEVENT
BEGIN:VEVENT
DTEND:20260313T134500
UID:69e95722d2039
DTSTAMP:20260422T231754
LOCATION:Aula B Campus scientifico via Torino (edificio Zeta)
SUMMARY:GEOGRAPHIC INFORMATION SYSTEMS [CM0573] - SILVESTRI Claudio\, Lezione
URL;VALUE=URI://www.unive.it/data/insegnamento/575492
DTSTART:20260313T121500
END:VEVENT
BEGIN:VEVENT
DTEND:20260316T101500
UID:69e95722d2096
DTSTAMP:20260422T231754
LOCATION:Aula B Campus scientifico via Torino (edificio Zeta)
SUMMARY:GEOGRAPHIC INFORMATION SYSTEMS [CM0573] - SILVESTRI Claudio\, Lezione
URL;VALUE=URI://www.unive.it/data/insegnamento/575492
DTSTART:20260316T084500
END:VEVENT
BEGIN:VEVENT
DTEND:20260320T134500
UID:69e95722d20f3
DTSTAMP:20260422T231754
LOCATION:Aula B Campus scientifico via Torino (edificio Zeta)
SUMMARY:GEOGRAPHIC INFORMATION SYSTEMS [CM0573] - SILVESTRI Claudio\, Lezione
URL;VALUE=URI://www.unive.it/data/insegnamento/575492
DTSTART:20260320T121500
END:VEVENT
BEGIN:VEVENT
DTEND:20260323T101500
UID:69e95722d214f
DTSTAMP:20260422T231754
LOCATION:Aula B Campus scientifico via Torino (edificio Zeta)
SUMMARY:GEOGRAPHIC INFORMATION SYSTEMS [CM0573] - SILVESTRI Claudio\, Lezione
URL;VALUE=URI://www.unive.it/data/insegnamento/575492
DTSTART:20260323T084500
END:VEVENT
BEGIN:VEVENT
DTEND:20260327T134500
UID:69e95722d218a
DTSTAMP:20260422T231754
LOCATION:Aula B Campus scientifico via Torino (edificio Zeta)
SUMMARY:GEOGRAPHIC INFORMATION SYSTEMS [CM0573] - SILVESTRI Claudio\, Lezione
URL;VALUE=URI://www.unive.it/data/insegnamento/575492
DTSTART:20260327T121500
END:VEVENT
BEGIN:VEVENT
DTEND:20260330T101500
UID:69e95722d21e7
DTSTAMP:20260422T231754
LOCATION:Aula 2 Campus scientifico via Torino (edificio Zeta)
SUMMARY:GEOGRAPHIC INFORMATION SYSTEMS [CM0573] - SILVESTRI Claudio\, Lezione
URL;VALUE=URI://www.unive.it/data/insegnamento/575492
DTSTART:20260330T084500
END:VEVENT
BEGIN:VEVENT
DTEND:20260403T134500
UID:69e95722d2243
DTSTAMP:20260422T231754
LOCATION:Aula B Campus scientifico via Torino (edificio Zeta)
SUMMARY:GEOGRAPHIC INFORMATION SYSTEMS [CM0573] - SILVESTRI Claudio\, Lezione
URL;VALUE=URI://www.unive.it/data/insegnamento/575492
DTSTART:20260403T121500
END:VEVENT
BEGIN:VEVENT
DTEND:20260410T134500
UID:69e95722d229f
DTSTAMP:20260422T231754
LOCATION:Aula B Campus scientifico via Torino (edificio Zeta)
SUMMARY:GEOGRAPHIC INFORMATION SYSTEMS [CM0573] - SILVESTRI Claudio\, Lezione
URL;VALUE=URI://www.unive.it/data/insegnamento/575492
DTSTART:20260410T121500
END:VEVENT
BEGIN:VEVENT
DTEND:20260413T101500
UID:69e95722d2300
DTSTAMP:20260422T231754
LOCATION:Aula B Campus scientifico via Torino (edificio Zeta)
SUMMARY:GEOGRAPHIC INFORMATION SYSTEMS [CM0573] - SILVESTRI Claudio\, Lezione
URL;VALUE=URI://www.unive.it/data/insegnamento/575492
DTSTART:20260413T084500
END:VEVENT
BEGIN:VEVENT
DTEND:20260417T134500
UID:69e95722d235d
DTSTAMP:20260422T231754
LOCATION:Aula B Campus scientifico via Torino (edificio Zeta)
SUMMARY:GEOGRAPHIC INFORMATION SYSTEMS [CM0573] - SILVESTRI Claudio\, Lezione
URL;VALUE=URI://www.unive.it/data/insegnamento/575492
DTSTART:20260417T121500
END:VEVENT
BEGIN:VEVENT
DTEND:20260420T101500
UID:69e95722d23b9
DTSTAMP:20260422T231754
LOCATION:Aula B Campus scientifico via Torino (edificio Zeta)
SUMMARY:GEOGRAPHIC INFORMATION SYSTEMS [CM0573] - SILVESTRI Claudio\, Lezione
URL;VALUE=URI://www.unive.it/data/insegnamento/575492
DTSTART:20260420T084500
END:VEVENT
BEGIN:VEVENT
DTEND:20260424T134500
UID:69e95722d2415
DTSTAMP:20260422T231754
LOCATION:Aula B Campus scientifico via Torino (edificio Zeta)
SUMMARY:GEOGRAPHIC INFORMATION SYSTEMS [CM0573] - SILVESTRI Claudio\, Lezione
URL;VALUE=URI://www.unive.it/data/insegnamento/575492
DTSTART:20260424T121500
END:VEVENT
BEGIN:VEVENT
DTEND:20260427T101500
UID:69e95722d2471
DTSTAMP:20260422T231754
LOCATION:Aula B Campus scientifico via Torino (edificio Zeta)
SUMMARY:GEOGRAPHIC INFORMATION SYSTEMS [CM0573] - SILVESTRI Claudio\, Lezione
URL;VALUE=URI://www.unive.it/data/insegnamento/575492
DTSTART:20260427T084500
END:VEVENT
BEGIN:VEVENT
DTEND:20260504T101500
UID:69e95722d24cc
DTSTAMP:20260422T231754
LOCATION:Aula B Campus scientifico via Torino (edificio Zeta)
SUMMARY:GEOGRAPHIC INFORMATION SYSTEMS [CM0573] - SILVESTRI Claudio\, Lezione
URL;VALUE=URI://www.unive.it/data/insegnamento/575492
DTSTART:20260504T084500
END:VEVENT
BEGIN:VEVENT
DTEND:20260508T134500
UID:69e95722d2528
DTSTAMP:20260422T231754
LOCATION:Aula B Campus scientifico via Torino (edificio Zeta)
SUMMARY:GEOGRAPHIC INFORMATION SYSTEMS [CM0573] - SILVESTRI Claudio\, Lezione
URL;VALUE=URI://www.unive.it/data/insegnamento/575492
DTSTART:20260508T121500
END:VEVENT
BEGIN:VEVENT
DTEND:20260511T101500
UID:69e95722d2576
DTSTAMP:20260422T231754
LOCATION:Aula B Campus scientifico via Torino (edificio Zeta)
SUMMARY:GEOGRAPHIC INFORMATION SYSTEMS [CM0573] - SILVESTRI Claudio\, Lezione
URL;VALUE=URI://www.unive.it/data/insegnamento/575492
DTSTART:20260511T084500
END:VEVENT
BEGIN:VEVENT
DTEND:20260515T134500
UID:69e95722d25d2
DTSTAMP:20260422T231754
LOCATION:Aula B Campus scientifico via Torino (edificio Zeta)
SUMMARY:GEOGRAPHIC INFORMATION SYSTEMS [CM0573] - SILVESTRI Claudio\, Lezione
URL;VALUE=URI://www.unive.it/data/insegnamento/575492
DTSTART:20260515T121500
END:VEVENT
BEGIN:VEVENT
DTEND:20260518T101500
UID:69e95722d262e
DTSTAMP:20260422T231754
LOCATION:Aula B Campus scientifico via Torino (edificio Zeta)
SUMMARY:GEOGRAPHIC INFORMATION SYSTEMS [CM0573] - SILVESTRI Claudio\, Lezione
URL;VALUE=URI://www.unive.it/data/insegnamento/575492
DTSTART:20260518T084500
END:VEVENT
BEGIN:VEVENT
DTEND:20260522T134500
UID:69e95722d2689
DTSTAMP:20260422T231754
LOCATION:Aula B Campus scientifico via Torino (edificio Zeta)
SUMMARY:GEOGRAPHIC INFORMATION SYSTEMS [CM0573] - SILVESTRI Claudio\, Lezione
URL;VALUE=URI://www.unive.it/data/insegnamento/575492
DTSTART:20260522T121500
END:VEVENT
BEGIN:VEVENT
DTEND:20260525T101500
UID:69e95722d26eb
DTSTAMP:20260422T231754
LOCATION:Aula B Campus scientifico via Torino (edificio Zeta)
SUMMARY:GEOGRAPHIC INFORMATION SYSTEMS [CM0573] - SILVESTRI Claudio\, Lezione
URL;VALUE=URI://www.unive.it/data/insegnamento/575492
DTSTART:20260525T084500
END:VEVENT
BEGIN:VEVENT
DTEND:20260529T134500
UID:69e95722d2747
DTSTAMP:20260422T231754
LOCATION:Aula B Campus scientifico via Torino (edificio Zeta)
SUMMARY:GEOGRAPHIC INFORMATION SYSTEMS [CM0573] - SILVESTRI Claudio\, Lezione
URL;VALUE=URI://www.unive.it/data/insegnamento/575492
DTSTART:20260529T121500
END:VEVENT
END:VCALENDAR