BEGIN:VCALENDAR
VERSION:2.0
PRODID:-//hacksw/handcal//NONSGML v1.0//EN
CALSCALE:GREGORIAN
X-WR-CALNAME:HISTORY OF LATIN AMERICA [LT9014]
DESCRIPTION:HISTORY OF LATIN AMERICA [LT9014]
REFRESH-INTERVAL;VALUE=DURATION:P1D
X-WR-TIMEZONE:Europe/Rome
BEGIN:VEVENT
DTEND:20260407T171500
UID:69e6eba4997bb
DTSTAMP:20260421T031444
LOCATION:Aula 2P Polo didattico San Basilio (Magazzino 4)
SUMMARY:HISTORY OF LATIN AMERICA [LT9014] - Pettinà Vanni\, Lezione
URL;VALUE=URI://www.unive.it/data/insegnamento/576150
DTSTART:20260407T154500
END:VEVENT
BEGIN:VEVENT
DTEND:20260409T190000
UID:69e6eba499842
DTSTAMP:20260421T031444
LOCATION:Aula 1F Polo didattico San Basilio (Magazzino 5)
SUMMARY:HISTORY OF LATIN AMERICA [LT9014] - Pettinà Vanni\, Lezione
URL;VALUE=URI://www.unive.it/data/insegnamento/576150
DTSTART:20260409T173000
END:VEVENT
BEGIN:VEVENT
DTEND:20260410T134500
UID:69e6eba499894
DTSTAMP:20260421T031444
LOCATION:Aula 1F Polo didattico San Basilio (Magazzino 5)
SUMMARY:HISTORY OF LATIN AMERICA [LT9014] - Pettinà Vanni\, Lezione
URL;VALUE=URI://www.unive.it/data/insegnamento/576150
DTSTART:20260410T121500
END:VEVENT
BEGIN:VEVENT
DTEND:20260414T171500
UID:69e6eba4998e2
DTSTAMP:20260421T031444
LOCATION:Aula 2P Polo didattico San Basilio (Magazzino 4)
SUMMARY:HISTORY OF LATIN AMERICA [LT9014] - Pettinà Vanni\, Lezione
URL;VALUE=URI://www.unive.it/data/insegnamento/576150
DTSTART:20260414T154500
END:VEVENT
BEGIN:VEVENT
DTEND:20260416T190000
UID:69e6eba49992c
DTSTAMP:20260421T031444
LOCATION:Aula 1F Polo didattico San Basilio (Magazzino 5)
SUMMARY:HISTORY OF LATIN AMERICA [LT9014] - Pettinà Vanni\, Lezione
URL;VALUE=URI://www.unive.it/data/insegnamento/576150
DTSTART:20260416T173000
END:VEVENT
BEGIN:VEVENT
DTEND:20260417T134500
UID:69e6eba499978
DTSTAMP:20260421T031444
LOCATION:Aula 1F Polo didattico San Basilio (Magazzino 5)
SUMMARY:HISTORY OF LATIN AMERICA [LT9014] - Pettinà Vanni\, Lezione
URL;VALUE=URI://www.unive.it/data/insegnamento/576150
DTSTART:20260417T121500
END:VEVENT
BEGIN:VEVENT
DTEND:20260420T153000
UID:69e6eba4999c3
DTSTAMP:20260421T031444
LOCATION:Aula 1D Polo didattico San Basilio (Magazzino 5)
SUMMARY:HISTORY OF LATIN AMERICA [LT9014] - Pettinà Vanni\, Tutorato
URL;VALUE=URI://www.unive.it/data/insegnamento/576150
DTSTART:20260420T140000
END:VEVENT
BEGIN:VEVENT
DTEND:20260421T171500
UID:69e6eba499a0f
DTSTAMP:20260421T031444
LOCATION:Aula 2P Polo didattico San Basilio (Magazzino 4)
SUMMARY:HISTORY OF LATIN AMERICA [LT9014] - Pettinà Vanni\, Lezione
URL;VALUE=URI://www.unive.it/data/insegnamento/576150
DTSTART:20260421T154500
END:VEVENT
BEGIN:VEVENT
DTEND:20260423T190000
UID:69e6eba499a59
DTSTAMP:20260421T031444
LOCATION:Aula 1F Polo didattico San Basilio (Magazzino 5)
SUMMARY:HISTORY OF LATIN AMERICA [LT9014] - Pettinà Vanni\, Lezione
URL;VALUE=URI://www.unive.it/data/insegnamento/576150
DTSTART:20260423T173000
END:VEVENT
BEGIN:VEVENT
DTEND:20260424T134500
UID:69e6eba499aa4
DTSTAMP:20260421T031444
LOCATION:Aula 1F Polo didattico San Basilio (Magazzino 5)
SUMMARY:HISTORY OF LATIN AMERICA [LT9014] - Pettinà Vanni\, Lezione
URL;VALUE=URI://www.unive.it/data/insegnamento/576150
DTSTART:20260424T121500
END:VEVENT
BEGIN:VEVENT
DTEND:20260428T171500
UID:69e6eba499aee
DTSTAMP:20260421T031444
LOCATION:Aula 2P Polo didattico San Basilio (Magazzino 4)
SUMMARY:HISTORY OF LATIN AMERICA [LT9014] - Pettinà Vanni\, Lezione
URL;VALUE=URI://www.unive.it/data/insegnamento/576150
DTSTART:20260428T154500
END:VEVENT
BEGIN:VEVENT
DTEND:20260430T190000
UID:69e6eba499b30
DTSTAMP:20260421T031444
LOCATION:Aula 1F Polo didattico San Basilio (Magazzino 5)
SUMMARY:HISTORY OF LATIN AMERICA [LT9014] - Pettinà Vanni\, Lezione
URL;VALUE=URI://www.unive.it/data/insegnamento/576150
DTSTART:20260430T173000
END:VEVENT
BEGIN:VEVENT
DTEND:20260505T171500
UID:69e6eba499b7a
DTSTAMP:20260421T031444
LOCATION:Aula 2P Polo didattico San Basilio (Magazzino 4)
SUMMARY:HISTORY OF LATIN AMERICA [LT9014] - Pettinà Vanni\, Lezione
URL;VALUE=URI://www.unive.it/data/insegnamento/576150
DTSTART:20260505T154500
END:VEVENT
BEGIN:VEVENT
DTEND:20260505T190000
UID:69e6eba499bc6
DTSTAMP:20260421T031444
LOCATION:Aula 1L Polo didattico San Basilio (Magazzino 4)
SUMMARY:HISTORY OF LATIN AMERICA [LT9014] - Pettinà Vanni\, Tutorato
URL;VALUE=URI://www.unive.it/data/insegnamento/576150
DTSTART:20260505T173000
END:VEVENT
BEGIN:VEVENT
DTEND:20260507T190000
UID:69e6eba499c10
DTSTAMP:20260421T031444
LOCATION:Aula 1F Polo didattico San Basilio (Magazzino 5)
SUMMARY:HISTORY OF LATIN AMERICA [LT9014] - Pettinà Vanni\, Lezione
URL;VALUE=URI://www.unive.it/data/insegnamento/576150
DTSTART:20260507T173000
END:VEVENT
BEGIN:VEVENT
DTEND:20260508T134500
UID:69e6eba499c5b
DTSTAMP:20260421T031444
LOCATION:Aula 1F Polo didattico San Basilio (Magazzino 5)
SUMMARY:HISTORY OF LATIN AMERICA [LT9014] - Pettinà Vanni\, Lezione
URL;VALUE=URI://www.unive.it/data/insegnamento/576150
DTSTART:20260508T121500
END:VEVENT
BEGIN:VEVENT
DTEND:20260512T171500
UID:69e6eba499ca5
DTSTAMP:20260421T031444
LOCATION:Aula 2P Polo didattico San Basilio (Magazzino 4)
SUMMARY:HISTORY OF LATIN AMERICA [LT9014] - Pettinà Vanni\, Lezione
URL;VALUE=URI://www.unive.it/data/insegnamento/576150
DTSTART:20260512T154500
END:VEVENT
BEGIN:VEVENT
DTEND:20260512T190000
UID:69e6eba499cf0
DTSTAMP:20260421T031444
LOCATION:Aula 1L Polo didattico San Basilio (Magazzino 4)
SUMMARY:HISTORY OF LATIN AMERICA [LT9014] - Pettinà Vanni\, Tutorato
URL;VALUE=URI://www.unive.it/data/insegnamento/576150
DTSTART:20260512T173000
END:VEVENT
BEGIN:VEVENT
DTEND:20260514T190000
UID:69e6eba499d3a
DTSTAMP:20260421T031444
LOCATION:Aula 1F Polo didattico San Basilio (Magazzino 5)
SUMMARY:HISTORY OF LATIN AMERICA [LT9014] - Pettinà Vanni\, Lezione
URL;VALUE=URI://www.unive.it/data/insegnamento/576150
DTSTART:20260514T173000
END:VEVENT
BEGIN:VEVENT
DTEND:20260515T134500
UID:69e6eba499d85
DTSTAMP:20260421T031444
LOCATION:Aula 1F Polo didattico San Basilio (Magazzino 5)
SUMMARY:HISTORY OF LATIN AMERICA [LT9014] - Pettinà Vanni\, Lezione
URL;VALUE=URI://www.unive.it/data/insegnamento/576150
DTSTART:20260515T121500
END:VEVENT
END:VCALENDAR