BEGIN:VCALENDAR
VERSION:2.0
PRODID:-//hacksw/handcal//NONSGML v1.0//EN
CALSCALE:GREGORIAN
X-WR-CALNAME:ECONOMICS OF GLOBALIZATION [LT9017]
DESCRIPTION:ECONOMICS OF GLOBALIZATION [LT9017]
REFRESH-INTERVAL;VALUE=DURATION:P1D
X-WR-TIMEZONE:Europe/Rome
BEGIN:VEVENT
DTEND:20251110T101500
UID:69e6eba56a7a3
DTSTAMP:20260421T031445
LOCATION:Aula 4 San Sebastiano
SUMMARY:ECONOMICS OF GLOBALIZATION [LT9017] - CORO' Giancarlo\, Lezione
URL;VALUE=URI://www.unive.it/data/insegnamento/576151
DTSTART:20251110T084500
END:VEVENT
BEGIN:VEVENT
DTEND:20251111T153000
UID:69e6eba56a821
DTSTAMP:20260421T031445
LOCATION:Aula 3 Rio Novo
SUMMARY:ECONOMICS OF GLOBALIZATION [LT9017] - CORO' Giancarlo\, Lezione
URL;VALUE=URI://www.unive.it/data/insegnamento/576151
DTSTART:20251111T140000
END:VEVENT
BEGIN:VEVENT
DTEND:20251112T101500
UID:69e6eba56a871
DTSTAMP:20260421T031445
LOCATION:Aula MF5 Polo didattico San Basilio (MF - Magazzini Frigoriferi)
SUMMARY:ECONOMICS OF GLOBALIZATION [LT9017] - CORO' Giancarlo\, Lezione
URL;VALUE=URI://www.unive.it/data/insegnamento/576151
DTSTART:20251112T084500
END:VEVENT
BEGIN:VEVENT
DTEND:20251117T101500
UID:69e6eba56a8c2
DTSTAMP:20260421T031445
LOCATION:Aula 4 San Sebastiano
SUMMARY:ECONOMICS OF GLOBALIZATION [LT9017] - CORO' Giancarlo\, Lezione
URL;VALUE=URI://www.unive.it/data/insegnamento/576151
DTSTART:20251117T084500
END:VEVENT
BEGIN:VEVENT
DTEND:20251118T153000
UID:69e6eba56a90e
DTSTAMP:20260421T031445
LOCATION:Aula 3 Rio Novo
SUMMARY:ECONOMICS OF GLOBALIZATION [LT9017] - CORO' Giancarlo\, Lezione
URL;VALUE=URI://www.unive.it/data/insegnamento/576151
DTSTART:20251118T140000
END:VEVENT
BEGIN:VEVENT
DTEND:20251119T101500
UID:69e6eba56a948
DTSTAMP:20260421T031445
LOCATION:Aula MF5 Polo didattico San Basilio (MF - Magazzini Frigoriferi)
SUMMARY:ECONOMICS OF GLOBALIZATION [LT9017] - CORO' Giancarlo\, Lezione
URL;VALUE=URI://www.unive.it/data/insegnamento/576151
DTSTART:20251119T084500
END:VEVENT
BEGIN:VEVENT
DTEND:20251124T101500
UID:69e6eba56a994
DTSTAMP:20260421T031445
LOCATION:Aula 4 San Sebastiano
SUMMARY:ECONOMICS OF GLOBALIZATION [LT9017] - CORO' Giancarlo\, Lezione
URL;VALUE=URI://www.unive.it/data/insegnamento/576151
DTSTART:20251124T084500
END:VEVENT
BEGIN:VEVENT
DTEND:20251125T153000
UID:69e6eba56a9de
DTSTAMP:20260421T031445
LOCATION:Aula 3 Rio Novo
SUMMARY:ECONOMICS OF GLOBALIZATION [LT9017] - CORO' Giancarlo\, Lezione
URL;VALUE=URI://www.unive.it/data/insegnamento/576151
DTSTART:20251125T140000
END:VEVENT
BEGIN:VEVENT
DTEND:20251126T101500
UID:69e6eba56aa27
DTSTAMP:20260421T031445
LOCATION:Aula MF5 Polo didattico San Basilio (MF - Magazzini Frigoriferi)
SUMMARY:ECONOMICS OF GLOBALIZATION [LT9017] - CORO' Giancarlo\, Lezione
URL;VALUE=URI://www.unive.it/data/insegnamento/576151
DTSTART:20251126T084500
END:VEVENT
BEGIN:VEVENT
DTEND:20251201T101500
UID:69e6eba56aa73
DTSTAMP:20260421T031445
LOCATION:Aula 4 San Sebastiano
SUMMARY:ECONOMICS OF GLOBALIZATION [LT9017] - CORO' Giancarlo\, Lezione
URL;VALUE=URI://www.unive.it/data/insegnamento/576151
DTSTART:20251201T084500
END:VEVENT
BEGIN:VEVENT
DTEND:20251202T153000
UID:69e6eba56aabd
DTSTAMP:20260421T031445
LOCATION:Aula 3 Rio Novo
SUMMARY:ECONOMICS OF GLOBALIZATION [LT9017] - CORO' Giancarlo\, Lezione
URL;VALUE=URI://www.unive.it/data/insegnamento/576151
DTSTART:20251202T140000
END:VEVENT
BEGIN:VEVENT
DTEND:20251203T101500
UID:69e6eba56ab06
DTSTAMP:20260421T031445
LOCATION:Aula MF5 Polo didattico San Basilio (MF - Magazzini Frigoriferi)
SUMMARY:ECONOMICS OF GLOBALIZATION [LT9017] - CORO' Giancarlo\, Lezione
URL;VALUE=URI://www.unive.it/data/insegnamento/576151
DTSTART:20251203T084500
END:VEVENT
BEGIN:VEVENT
DTEND:20251209T153000
UID:69e6eba56ab51
DTSTAMP:20260421T031445
LOCATION:Aula 3 Rio Novo
SUMMARY:ECONOMICS OF GLOBALIZATION [LT9017] - CORO' Giancarlo\, Lezione
URL;VALUE=URI://www.unive.it/data/insegnamento/576151
DTSTART:20251209T140000
END:VEVENT
BEGIN:VEVENT
DTEND:20251210T101500
UID:69e6eba56ab9b
DTSTAMP:20260421T031445
LOCATION:Aula MF5 Polo didattico San Basilio (MF - Magazzini Frigoriferi)
SUMMARY:ECONOMICS OF GLOBALIZATION [LT9017] - CORO' Giancarlo\, Lezione
URL;VALUE=URI://www.unive.it/data/insegnamento/576151
DTSTART:20251210T084500
END:VEVENT
BEGIN:VEVENT
DTEND:20251215T101500
UID:69e6eba56abe7
DTSTAMP:20260421T031445
LOCATION:Aula 4 San Sebastiano
SUMMARY:ECONOMICS OF GLOBALIZATION [LT9017] - CORO' Giancarlo\, Lezione
URL;VALUE=URI://www.unive.it/data/insegnamento/576151
DTSTART:20251215T084500
END:VEVENT
BEGIN:VEVENT
DTEND:20251216T153000
UID:69e6eba56ac31
DTSTAMP:20260421T031445
LOCATION:Aula 3 Rio Novo
SUMMARY:ECONOMICS OF GLOBALIZATION [LT9017] - CORO' Giancarlo\, Lezione
URL;VALUE=URI://www.unive.it/data/insegnamento/576151
DTSTART:20251216T140000
END:VEVENT
BEGIN:VEVENT
DTEND:20251217T101500
UID:69e6eba56ac7a
DTSTAMP:20260421T031445
LOCATION:Aula MF5 Polo didattico San Basilio (MF - Magazzini Frigoriferi)
SUMMARY:ECONOMICS OF GLOBALIZATION [LT9017] - CORO' Giancarlo\, Lezione
URL;VALUE=URI://www.unive.it/data/insegnamento/576151
DTSTART:20251217T084500
END:VEVENT
END:VCALENDAR