BEGIN:VCALENDAR
VERSION:2.0
PRODID:-//hacksw/handcal//NONSGML v1.0//EN
CALSCALE:GREGORIAN
X-WR-CALNAME:INTERNATIONAL LAW [LT9021]
DESCRIPTION:INTERNATIONAL LAW [LT9021]
REFRESH-INTERVAL;VALUE=DURATION:P1D
X-WR-TIMEZONE:Europe/Rome
BEGIN:VEVENT
DTEND:20251110T120000
UID:69e702c96536a
DTSTAMP:20260421T045329
LOCATION:Aula 14 San Sebastiano
SUMMARY:INTERNATIONAL LAW [LT9021] - DE VIDO Sara\, Lezione
URL;VALUE=URI://www.unive.it/data/insegnamento/576162
DTSTART:20251110T103000
END:VEVENT
BEGIN:VEVENT
DTEND:20251111T171500
UID:69e702c9653ff
DTSTAMP:20260421T045329
LOCATION:Aula 3 Rio Novo
SUMMARY:INTERNATIONAL LAW [LT9021] - DE VIDO Sara\, Lezione
URL;VALUE=URI://www.unive.it/data/insegnamento/576162
DTSTART:20251111T154500
END:VEVENT
BEGIN:VEVENT
DTEND:20251112T120000
UID:69e702c965453
DTSTAMP:20260421T045329
LOCATION:Aula MF1 Polo didattico San Basilio (MF - Magazzini Frigoriferi)
SUMMARY:INTERNATIONAL LAW [LT9021] - DE VIDO Sara\, Lezione
URL;VALUE=URI://www.unive.it/data/insegnamento/576162
DTSTART:20251112T103000
END:VEVENT
BEGIN:VEVENT
DTEND:20251117T120000
UID:69e702c9654a1
DTSTAMP:20260421T045329
LOCATION:Aula 14 San Sebastiano
SUMMARY:INTERNATIONAL LAW [LT9021] - DE VIDO Sara\, Lezione
URL;VALUE=URI://www.unive.it/data/insegnamento/576162
DTSTART:20251117T103000
END:VEVENT
BEGIN:VEVENT
DTEND:20251118T171500
UID:69e702c9654ed
DTSTAMP:20260421T045329
LOCATION:Aula 3 Rio Novo
SUMMARY:INTERNATIONAL LAW [LT9021] - DE VIDO Sara\, Lezione
URL;VALUE=URI://www.unive.it/data/insegnamento/576162
DTSTART:20251118T154500
END:VEVENT
BEGIN:VEVENT
DTEND:20251119T120000
UID:69e702c965537
DTSTAMP:20260421T045329
LOCATION:Aula MF1 Polo didattico San Basilio (MF - Magazzini Frigoriferi)
SUMMARY:INTERNATIONAL LAW [LT9021] - DE VIDO Sara\, Lezione
URL;VALUE=URI://www.unive.it/data/insegnamento/576162
DTSTART:20251119T103000
END:VEVENT
BEGIN:VEVENT
DTEND:20251124T120000
UID:69e702c965587
DTSTAMP:20260421T045329
LOCATION:Aula 14 San Sebastiano
SUMMARY:INTERNATIONAL LAW [LT9021] - DE VIDO Sara\, Lezione
URL;VALUE=URI://www.unive.it/data/insegnamento/576162
DTSTART:20251124T103000
END:VEVENT
BEGIN:VEVENT
DTEND:20251125T180000
UID:69e702c9655d3
DTSTAMP:20260421T045329
LOCATION:Aula 3 Rio Novo
SUMMARY:INTERNATIONAL LAW [LT9021] - DE VIDO Sara\, Lezione
URL;VALUE=URI://www.unive.it/data/insegnamento/576162
DTSTART:20251125T163000
END:VEVENT
BEGIN:VEVENT
DTEND:20251126T120000
UID:69e702c96561f
DTSTAMP:20260421T045329
LOCATION:Aula MF1 Polo didattico San Basilio (MF - Magazzini Frigoriferi)
SUMMARY:INTERNATIONAL LAW [LT9021] - DE VIDO Sara\, Lezione
URL;VALUE=URI://www.unive.it/data/insegnamento/576162
DTSTART:20251126T103000
END:VEVENT
BEGIN:VEVENT
DTEND:20251201T120000
UID:69e702c96566b
DTSTAMP:20260421T045329
LOCATION:Aula 14 San Sebastiano
SUMMARY:INTERNATIONAL LAW [LT9021] - DE VIDO Sara\, Lezione
URL;VALUE=URI://www.unive.it/data/insegnamento/576162
DTSTART:20251201T103000
END:VEVENT
BEGIN:VEVENT
DTEND:20251202T171500
UID:69e702c9656b5
DTSTAMP:20260421T045329
LOCATION:Aula 3 Rio Novo
SUMMARY:INTERNATIONAL LAW [LT9021] - DE VIDO Sara\, Lezione
URL;VALUE=URI://www.unive.it/data/insegnamento/576162
DTSTART:20251202T154500
END:VEVENT
BEGIN:VEVENT
DTEND:20251203T120000
UID:69e702c9656ff
DTSTAMP:20260421T045329
LOCATION:Aula MF1 Polo didattico San Basilio (MF - Magazzini Frigoriferi)
SUMMARY:INTERNATIONAL LAW [LT9021] - DE VIDO Sara\, Lezione
URL;VALUE=URI://www.unive.it/data/insegnamento/576162
DTSTART:20251203T103000
END:VEVENT
BEGIN:VEVENT
DTEND:20251209T171500
UID:69e702c965741
DTSTAMP:20260421T045329
LOCATION:Aula 3 Rio Novo
SUMMARY:INTERNATIONAL LAW [LT9021] - DE VIDO Sara\, Lezione
URL;VALUE=URI://www.unive.it/data/insegnamento/576162
DTSTART:20251209T154500
END:VEVENT
BEGIN:VEVENT
DTEND:20251210T120000
UID:69e702c96578b
DTSTAMP:20260421T045329
LOCATION:Aula MF1 Polo didattico San Basilio (MF - Magazzini Frigoriferi)
SUMMARY:INTERNATIONAL LAW [LT9021] - DE VIDO Sara\, Lezione
URL;VALUE=URI://www.unive.it/data/insegnamento/576162
DTSTART:20251210T103000
END:VEVENT
BEGIN:VEVENT
DTEND:20251215T120000
UID:69e702c9657d8
DTSTAMP:20260421T045329
LOCATION:Aula 14 San Sebastiano
SUMMARY:INTERNATIONAL LAW [LT9021] - DE VIDO Sara\, Lezione
URL;VALUE=URI://www.unive.it/data/insegnamento/576162
DTSTART:20251215T103000
END:VEVENT
BEGIN:VEVENT
DTEND:20251216T171500
UID:69e702c965825
DTSTAMP:20260421T045329
LOCATION:Aula 3 Rio Novo
SUMMARY:INTERNATIONAL LAW [LT9021] - DE VIDO Sara\, Lezione
URL;VALUE=URI://www.unive.it/data/insegnamento/576162
DTSTART:20251216T154500
END:VEVENT
BEGIN:VEVENT
DTEND:20251217T120000
UID:69e702c96586f
DTSTAMP:20260421T045329
LOCATION:Aula MF1 Polo didattico San Basilio (MF - Magazzini Frigoriferi)
SUMMARY:INTERNATIONAL LAW [LT9021] - DE VIDO Sara\, Lezione
URL;VALUE=URI://www.unive.it/data/insegnamento/576162
DTSTART:20251217T103000
END:VEVENT
END:VCALENDAR