BEGIN:VCALENDAR
VERSION:2.0
PRODID:-//hacksw/handcal//NONSGML v1.0//EN
CALSCALE:GREGORIAN
X-WR-CALNAME:PUBLIC ECONOMICS AND POLICY EVALUATION [LT9059]
DESCRIPTION:PUBLIC ECONOMICS AND POLICY EVALUATION [LT9059]
REFRESH-INTERVAL;VALUE=DURATION:P1D
X-WR-TIMEZONE:Europe/Rome
BEGIN:VEVENT
DTEND:20260407T134500
UID:69e95fa3965a1
DTSTAMP:20260422T235411
LOCATION:Aula 1F Polo didattico San Basilio (Magazzino 5)
SUMMARY:PUBLIC ECONOMICS AND POLICY EVALUATION [LT9059] - ZANTOMIO Francesca\, Lezione
URL;VALUE=URI://www.unive.it/data/insegnamento/576208
DTSTART:20260407T121500
END:VEVENT
BEGIN:VEVENT
DTEND:20260408T134500
UID:69e95fa39662c
DTSTAMP:20260422T235411
LOCATION:Sala audio 1 Palazzo Cosulich
SUMMARY:PUBLIC ECONOMICS AND POLICY EVALUATION [LT9059] - ZANTOMIO Francesca\, Lezione
URL;VALUE=URI://www.unive.it/data/insegnamento/576208
DTSTART:20260408T121500
END:VEVENT
BEGIN:VEVENT
DTEND:20260413T120000
UID:69e95fa396685
DTSTAMP:20260422T235411
LOCATION:Sala audio 1 Palazzo Cosulich
SUMMARY:PUBLIC ECONOMICS AND POLICY EVALUATION [LT9059] - ZANTOMIO Francesca\, Lezione
URL;VALUE=URI://www.unive.it/data/insegnamento/576208
DTSTART:20260413T103000
END:VEVENT
BEGIN:VEVENT
DTEND:20260414T134500
UID:69e95fa3966d4
DTSTAMP:20260422T235411
LOCATION:Aula 1F Polo didattico San Basilio (Magazzino 5)
SUMMARY:PUBLIC ECONOMICS AND POLICY EVALUATION [LT9059] - ZANTOMIO Francesca\, Lezione
URL;VALUE=URI://www.unive.it/data/insegnamento/576208
DTSTART:20260414T121500
END:VEVENT
BEGIN:VEVENT
DTEND:20260415T134500
UID:69e95fa39672a
DTSTAMP:20260422T235411
LOCATION:Sala audio 1 Palazzo Cosulich
SUMMARY:PUBLIC ECONOMICS AND POLICY EVALUATION [LT9059] - ZANTOMIO Francesca\, Lezione
URL;VALUE=URI://www.unive.it/data/insegnamento/576208
DTSTART:20260415T121500
END:VEVENT
BEGIN:VEVENT
DTEND:20260420T120000
UID:69e95fa396783
DTSTAMP:20260422T235411
LOCATION:Sala audio 1 Palazzo Cosulich
SUMMARY:PUBLIC ECONOMICS AND POLICY EVALUATION [LT9059] - ZANTOMIO Francesca\, Lezione
URL;VALUE=URI://www.unive.it/data/insegnamento/576208
DTSTART:20260420T103000
END:VEVENT
BEGIN:VEVENT
DTEND:20260421T134500
UID:69e95fa3967d5
DTSTAMP:20260422T235411
LOCATION:Aula 1F Polo didattico San Basilio (Magazzino 5)
SUMMARY:PUBLIC ECONOMICS AND POLICY EVALUATION [LT9059] - ZANTOMIO Francesca\, Lezione
URL;VALUE=URI://www.unive.it/data/insegnamento/576208
DTSTART:20260421T121500
END:VEVENT
BEGIN:VEVENT
DTEND:20260422T134500
UID:69e95fa396822
DTSTAMP:20260422T235411
LOCATION:Sala audio 1 Palazzo Cosulich
SUMMARY:PUBLIC ECONOMICS AND POLICY EVALUATION [LT9059] - ZANTOMIO Francesca\, Lezione
URL;VALUE=URI://www.unive.it/data/insegnamento/576208
DTSTART:20260422T121500
END:VEVENT
BEGIN:VEVENT
DTEND:20260427T120000
UID:69e95fa396870
DTSTAMP:20260422T235411
LOCATION:Sala audio 1 Palazzo Cosulich
SUMMARY:PUBLIC ECONOMICS AND POLICY EVALUATION [LT9059] - ZANTOMIO Francesca\, Lezione
URL;VALUE=URI://www.unive.it/data/insegnamento/576208
DTSTART:20260427T103000
END:VEVENT
BEGIN:VEVENT
DTEND:20260428T134500
UID:69e95fa3968be
DTSTAMP:20260422T235411
LOCATION:Aula 1F Polo didattico San Basilio (Magazzino 5)
SUMMARY:PUBLIC ECONOMICS AND POLICY EVALUATION [LT9059] - ZANTOMIO Francesca\, Lezione
URL;VALUE=URI://www.unive.it/data/insegnamento/576208
DTSTART:20260428T121500
END:VEVENT
BEGIN:VEVENT
DTEND:20260429T134500
UID:69e95fa39691a
DTSTAMP:20260422T235411
LOCATION:Sala audio 1 Palazzo Cosulich
SUMMARY:PUBLIC ECONOMICS AND POLICY EVALUATION [LT9059] - ZANTOMIO Francesca\, Lezione
URL;VALUE=URI://www.unive.it/data/insegnamento/576208
DTSTART:20260429T121500
END:VEVENT
BEGIN:VEVENT
DTEND:20260504T120000
UID:69e95fa396975
DTSTAMP:20260422T235411
LOCATION:Sala audio 1 Palazzo Cosulich
SUMMARY:PUBLIC ECONOMICS AND POLICY EVALUATION [LT9059] - ZANTOMIO Francesca\, Lezione
URL;VALUE=URI://www.unive.it/data/insegnamento/576208
DTSTART:20260504T103000
END:VEVENT
BEGIN:VEVENT
DTEND:20260505T134500
UID:69e95fa3969ce
DTSTAMP:20260422T235411
LOCATION:Aula 1F Polo didattico San Basilio (Magazzino 5)
SUMMARY:PUBLIC ECONOMICS AND POLICY EVALUATION [LT9059] - ZANTOMIO Francesca\, Lezione
URL;VALUE=URI://www.unive.it/data/insegnamento/576208
DTSTART:20260505T121500
END:VEVENT
BEGIN:VEVENT
DTEND:20260506T134500
UID:69e95fa396a30
DTSTAMP:20260422T235411
LOCATION:Sala audio 1 Palazzo Cosulich
SUMMARY:PUBLIC ECONOMICS AND POLICY EVALUATION [LT9059] - ZANTOMIO Francesca\, Lezione
URL;VALUE=URI://www.unive.it/data/insegnamento/576208
DTSTART:20260506T121500
END:VEVENT
BEGIN:VEVENT
DTEND:20260511T120000
UID:69e95fa396a8b
DTSTAMP:20260422T235411
LOCATION:Sala audio 1 Palazzo Cosulich
SUMMARY:PUBLIC ECONOMICS AND POLICY EVALUATION [LT9059] - ZANTOMIO Francesca\, Lezione
URL;VALUE=URI://www.unive.it/data/insegnamento/576208
DTSTART:20260511T103000
END:VEVENT
BEGIN:VEVENT
DTEND:20260512T134500
UID:69e95fa396ae2
DTSTAMP:20260422T235411
LOCATION:Aula 1F Polo didattico San Basilio (Magazzino 5)
SUMMARY:PUBLIC ECONOMICS AND POLICY EVALUATION [LT9059] - ZANTOMIO Francesca\, Lezione
URL;VALUE=URI://www.unive.it/data/insegnamento/576208
DTSTART:20260512T121500
END:VEVENT
BEGIN:VEVENT
DTEND:20260513T134500
UID:69e95fa396b2e
DTSTAMP:20260422T235411
LOCATION:Sala audio 1 Palazzo Cosulich
SUMMARY:PUBLIC ECONOMICS AND POLICY EVALUATION [LT9059] - ZANTOMIO Francesca\, Lezione
URL;VALUE=URI://www.unive.it/data/insegnamento/576208
DTSTART:20260513T121500
END:VEVENT
END:VCALENDAR