BEGIN:VCALENDAR
VERSION:2.0
PRODID:-//hacksw/handcal//NONSGML v1.0//EN
CALSCALE:GREGORIAN
X-WR-CALNAME:AESTHETICS [EM3A10]
DESCRIPTION:AESTHETICS [EM3A10]
REFRESH-INTERVAL;VALUE=DURATION:P1D
X-WR-TIMEZONE:Europe/Rome
BEGIN:VEVENT
DTEND:20250922T153000
UID:69e6ba7668a16
DTSTAMP:20260420T234454
LOCATION:Aula 1E Polo didattico San Basilio (Magazzino 5)
SUMMARY:AESTHETICS [EM3A10] - RAGAZZI FRANCESCO\, Lezione
URL;VALUE=URI://www.unive.it/data/insegnamento/576535
DTSTART:20250922T140000
END:VEVENT
BEGIN:VEVENT
DTEND:20250923T153000
UID:69e6ba7668adf
DTSTAMP:20260420T234454
LOCATION:Aula 8 Rio Novo
SUMMARY:AESTHETICS [EM3A10] - RAGAZZI FRANCESCO\, Lezione
URL;VALUE=URI://www.unive.it/data/insegnamento/576535
DTSTART:20250923T140000
END:VEVENT
BEGIN:VEVENT
DTEND:20250924T153000
UID:69e6ba7668b19
DTSTAMP:20260420T234454
LOCATION:Aula 1A Polo didattico San Basilio (Magazzino 5)
SUMMARY:AESTHETICS [EM3A10] - RAGAZZI FRANCESCO\, Lezione
URL;VALUE=URI://www.unive.it/data/insegnamento/576535
DTSTART:20250924T140000
END:VEVENT
BEGIN:VEVENT
DTEND:20250929T153000
UID:69e6ba7668b73
DTSTAMP:20260420T234454
LOCATION:Aula 1E Polo didattico San Basilio (Magazzino 5)
SUMMARY:AESTHETICS [EM3A10] - RAGAZZI FRANCESCO\, Lezione
URL;VALUE=URI://www.unive.it/data/insegnamento/576535
DTSTART:20250929T140000
END:VEVENT
BEGIN:VEVENT
DTEND:20250930T153000
UID:69e6ba7668bda
DTSTAMP:20260420T234454
LOCATION:Aula 8 Rio Novo
SUMMARY:AESTHETICS [EM3A10] - RAGAZZI FRANCESCO\, Lezione
URL;VALUE=URI://www.unive.it/data/insegnamento/576535
DTSTART:20250930T140000
END:VEVENT
BEGIN:VEVENT
DTEND:20251001T153000
UID:69e6ba7668c3c
DTSTAMP:20260420T234454
LOCATION:Aula 1A Polo didattico San Basilio (Magazzino 5)
SUMMARY:AESTHETICS [EM3A10] - RAGAZZI FRANCESCO\, Lezione
URL;VALUE=URI://www.unive.it/data/insegnamento/576535
DTSTART:20251001T140000
END:VEVENT
BEGIN:VEVENT
DTEND:20251006T153000
UID:69e6ba7668ca1
DTSTAMP:20260420T234454
LOCATION:Aula 1E Polo didattico San Basilio (Magazzino 5)
SUMMARY:AESTHETICS [EM3A10] - RAGAZZI FRANCESCO\, Lezione
URL;VALUE=URI://www.unive.it/data/insegnamento/576535
DTSTART:20251006T140000
END:VEVENT
BEGIN:VEVENT
DTEND:20251013T153000
UID:69e6ba7668d05
DTSTAMP:20260420T234454
LOCATION:Aula 1E Polo didattico San Basilio (Magazzino 5)
SUMMARY:AESTHETICS [EM3A10] - RAGAZZI FRANCESCO\, Lezione
URL;VALUE=URI://www.unive.it/data/insegnamento/576535
DTSTART:20251013T140000
END:VEVENT
BEGIN:VEVENT
DTEND:20251014T153000
UID:69e6ba7668d70
DTSTAMP:20260420T234454
LOCATION:Aula 8 Rio Novo
SUMMARY:AESTHETICS [EM3A10] - RAGAZZI FRANCESCO\, Lezione
URL;VALUE=URI://www.unive.it/data/insegnamento/576535
DTSTART:20251014T140000
END:VEVENT
BEGIN:VEVENT
DTEND:20251015T153000
UID:69e6ba7668dd4
DTSTAMP:20260420T234454
LOCATION:Aula 1A Polo didattico San Basilio (Magazzino 5)
SUMMARY:AESTHETICS [EM3A10] - RAGAZZI FRANCESCO\, Lezione
URL;VALUE=URI://www.unive.it/data/insegnamento/576535
DTSTART:20251015T140000
END:VEVENT
BEGIN:VEVENT
DTEND:20251020T153000
UID:69e6ba7668e44
DTSTAMP:20260420T234454
LOCATION:Aula 1E Polo didattico San Basilio (Magazzino 5)
SUMMARY:AESTHETICS [EM3A10] - RAGAZZI FRANCESCO\, Lezione
URL;VALUE=URI://www.unive.it/data/insegnamento/576535
DTSTART:20251020T140000
END:VEVENT
BEGIN:VEVENT
DTEND:20251021T153000
UID:69e6ba7668ea8
DTSTAMP:20260420T234454
LOCATION:Aula 8 Rio Novo
SUMMARY:AESTHETICS [EM3A10] - RAGAZZI FRANCESCO\, Lezione
URL;VALUE=URI://www.unive.it/data/insegnamento/576535
DTSTART:20251021T140000
END:VEVENT
BEGIN:VEVENT
DTEND:20251022T153000
UID:69e6ba7668f09
DTSTAMP:20260420T234454
LOCATION:Aula 1A Polo didattico San Basilio (Magazzino 5)
SUMMARY:AESTHETICS [EM3A10] - RAGAZZI FRANCESCO\, Lezione
URL;VALUE=URI://www.unive.it/data/insegnamento/576535
DTSTART:20251022T140000
END:VEVENT
BEGIN:VEVENT
DTEND:20251027T153000
UID:69e6ba7668f6c
DTSTAMP:20260420T234454
LOCATION:Aula 1E Polo didattico San Basilio (Magazzino 5)
SUMMARY:AESTHETICS [EM3A10] - RAGAZZI FRANCESCO\, Lezione
URL;VALUE=URI://www.unive.it/data/insegnamento/576535
DTSTART:20251027T140000
END:VEVENT
BEGIN:VEVENT
DTEND:20251028T153000
UID:69e6ba7668fd2
DTSTAMP:20260420T234454
LOCATION:Aula 8 Rio Novo
SUMMARY:AESTHETICS [EM3A10] - RAGAZZI FRANCESCO\, Lezione
URL;VALUE=URI://www.unive.it/data/insegnamento/576535
DTSTART:20251028T140000
END:VEVENT
BEGIN:VEVENT
DTEND:20251029T153000
UID:69e6ba7669034
DTSTAMP:20260420T234454
LOCATION:Aula 1A Polo didattico San Basilio (Magazzino 5)
SUMMARY:AESTHETICS [EM3A10] - RAGAZZI FRANCESCO\, Lezione
URL;VALUE=URI://www.unive.it/data/insegnamento/576535
DTSTART:20251029T140000
END:VEVENT
END:VCALENDAR