BEGIN:VCALENDAR
VERSION:2.0
PRODID:-//hacksw/handcal//NONSGML v1.0//EN
CALSCALE:GREGORIAN
X-WR-CALNAME:MANAGEMENT OF ARTISTIC AND CULTURAL ORGANIZATIONS [EM3A03]
DESCRIPTION:MANAGEMENT OF ARTISTIC AND CULTURAL ORGANIZATIONS [EM3A03]
REFRESH-INTERVAL;VALUE=DURATION:P1D
X-WR-TIMEZONE:Europe/Rome
BEGIN:VEVENT
DTEND:20250922T101500
UID:69e74c171aecb
DTSTAMP:20260421T100615
LOCATION:Aula 14 San Sebastiano
SUMMARY:MANAGEMENT OF ARTISTIC AND CULTURAL ORGANIZATIONS [EM3A03] - NATIVIO Angela\, Lezione
URL;VALUE=URI://www.unive.it/data/insegnamento/576551
DTSTART:20250922T084500
END:VEVENT
BEGIN:VEVENT
DTEND:20250923T101500
UID:69e74c171afbc
DTSTAMP:20260421T100615
LOCATION:Aula Padoan San Sebastiano
SUMMARY:MANAGEMENT OF ARTISTIC AND CULTURAL ORGANIZATIONS [EM3A03] - NATIVIO Angela\, Lezione
URL;VALUE=URI://www.unive.it/data/insegnamento/576551
DTSTART:20250923T084500
END:VEVENT
BEGIN:VEVENT
DTEND:20250925T101500
UID:69e74c171b051
DTSTAMP:20260421T100615
LOCATION:Aula San Trovaso Aula San Trovaso
SUMMARY:MANAGEMENT OF ARTISTIC AND CULTURAL ORGANIZATIONS [EM3A03] - NATIVIO Angela\, Lezione
URL;VALUE=URI://www.unive.it/data/insegnamento/576551
DTSTART:20250925T084500
END:VEVENT
BEGIN:VEVENT
DTEND:20250929T101500
UID:69e74c171b0ca
DTSTAMP:20260421T100615
LOCATION:Aula 14 San Sebastiano
SUMMARY:MANAGEMENT OF ARTISTIC AND CULTURAL ORGANIZATIONS [EM3A03] - NATIVIO Angela\, Lezione
URL;VALUE=URI://www.unive.it/data/insegnamento/576551
DTSTART:20250929T084500
END:VEVENT
BEGIN:VEVENT
DTEND:20250930T101500
UID:69e74c171b137
DTSTAMP:20260421T100615
LOCATION:Aula Padoan San Sebastiano
SUMMARY:MANAGEMENT OF ARTISTIC AND CULTURAL ORGANIZATIONS [EM3A03] - NATIVIO Angela\, Lezione
URL;VALUE=URI://www.unive.it/data/insegnamento/576551
DTSTART:20250930T084500
END:VEVENT
BEGIN:VEVENT
DTEND:20251002T101500
UID:69e74c171b18a
DTSTAMP:20260421T100615
LOCATION:Aula San Trovaso Aula San Trovaso
SUMMARY:MANAGEMENT OF ARTISTIC AND CULTURAL ORGANIZATIONS [EM3A03] - NATIVIO Angela\, Lezione
URL;VALUE=URI://www.unive.it/data/insegnamento/576551
DTSTART:20251002T084500
END:VEVENT
BEGIN:VEVENT
DTEND:20251006T101500
UID:69e74c171b1e0
DTSTAMP:20260421T100615
LOCATION:Aula 14 San Sebastiano
SUMMARY:MANAGEMENT OF ARTISTIC AND CULTURAL ORGANIZATIONS [EM3A03] - NATIVIO Angela\, Lezione
URL;VALUE=URI://www.unive.it/data/insegnamento/576551
DTSTART:20251006T084500
END:VEVENT
BEGIN:VEVENT
DTEND:20251007T101500
UID:69e74c171b237
DTSTAMP:20260421T100615
LOCATION:Aula Padoan San Sebastiano
SUMMARY:MANAGEMENT OF ARTISTIC AND CULTURAL ORGANIZATIONS [EM3A03] - NATIVIO Angela\, Lezione
URL;VALUE=URI://www.unive.it/data/insegnamento/576551
DTSTART:20251007T084500
END:VEVENT
BEGIN:VEVENT
DTEND:20251009T101500
UID:69e74c171b285
DTSTAMP:20260421T100615
LOCATION:Aula San Trovaso Aula San Trovaso
SUMMARY:MANAGEMENT OF ARTISTIC AND CULTURAL ORGANIZATIONS [EM3A03] - NATIVIO Angela\, Lezione
URL;VALUE=URI://www.unive.it/data/insegnamento/576551
DTSTART:20251009T084500
END:VEVENT
BEGIN:VEVENT
DTEND:20251013T101500
UID:69e74c171b2d2
DTSTAMP:20260421T100615
LOCATION:Aula 14 San Sebastiano
SUMMARY:MANAGEMENT OF ARTISTIC AND CULTURAL ORGANIZATIONS [EM3A03] - NATIVIO Angela\, Lezione
URL;VALUE=URI://www.unive.it/data/insegnamento/576551
DTSTART:20251013T084500
END:VEVENT
BEGIN:VEVENT
DTEND:20251014T101500
UID:69e74c171b31e
DTSTAMP:20260421T100615
LOCATION:Aula Padoan San Sebastiano
SUMMARY:MANAGEMENT OF ARTISTIC AND CULTURAL ORGANIZATIONS [EM3A03] - NATIVIO Angela\, Lezione
URL;VALUE=URI://www.unive.it/data/insegnamento/576551
DTSTART:20251014T084500
END:VEVENT
BEGIN:VEVENT
DTEND:20251016T101500
UID:69e74c171b369
DTSTAMP:20260421T100615
LOCATION:Aula San Trovaso Aula San Trovaso
SUMMARY:MANAGEMENT OF ARTISTIC AND CULTURAL ORGANIZATIONS [EM3A03] - NATIVIO Angela\, Lezione
URL;VALUE=URI://www.unive.it/data/insegnamento/576551
DTSTART:20251016T084500
END:VEVENT
BEGIN:VEVENT
DTEND:20251020T101500
UID:69e74c171b3c1
DTSTAMP:20260421T100615
LOCATION:Aula 14 San Sebastiano
SUMMARY:MANAGEMENT OF ARTISTIC AND CULTURAL ORGANIZATIONS [EM3A03] - NATIVIO Angela\, Lezione
URL;VALUE=URI://www.unive.it/data/insegnamento/576551
DTSTART:20251020T084500
END:VEVENT
BEGIN:VEVENT
DTEND:20251021T153000
UID:69e74c171b415
DTSTAMP:20260421T100615
LOCATION:Aula 4 San Sebastiano
SUMMARY:MANAGEMENT OF ARTISTIC AND CULTURAL ORGANIZATIONS [EM3A03] - NATIVIO Angela\, Lezione
URL;VALUE=URI://www.unive.it/data/insegnamento/576551
DTSTART:20251021T140000
END:VEVENT
BEGIN:VEVENT
DTEND:20251021T171500
UID:69e74c171b462
DTSTAMP:20260421T100615
LOCATION:Aula 4 San Sebastiano
SUMMARY:MANAGEMENT OF ARTISTIC AND CULTURAL ORGANIZATIONS [EM3A03] - NATIVIO Angela\, Lezione
URL;VALUE=URI://www.unive.it/data/insegnamento/576551
DTSTART:20251021T154500
END:VEVENT
BEGIN:VEVENT
DTEND:20251023T101500
UID:69e74c171b4ad
DTSTAMP:20260421T100615
LOCATION:Aula San Trovaso Aula San Trovaso
SUMMARY:MANAGEMENT OF ARTISTIC AND CULTURAL ORGANIZATIONS [EM3A03] - NATIVIO Angela\, Lezione
URL;VALUE=URI://www.unive.it/data/insegnamento/576551
DTSTART:20251023T084500
END:VEVENT
BEGIN:VEVENT
DTEND:20251027T101500
UID:69e74c171b4fa
DTSTAMP:20260421T100615
LOCATION:Aula 14 San Sebastiano
SUMMARY:MANAGEMENT OF ARTISTIC AND CULTURAL ORGANIZATIONS [EM3A03] - NATIVIO Angela\, Lezione
URL;VALUE=URI://www.unive.it/data/insegnamento/576551
DTSTART:20251027T084500
END:VEVENT
BEGIN:VEVENT
DTEND:20251028T101500
UID:69e74c171b547
DTSTAMP:20260421T100615
LOCATION:Aula Padoan San Sebastiano
SUMMARY:MANAGEMENT OF ARTISTIC AND CULTURAL ORGANIZATIONS [EM3A03] - NATIVIO Angela\, Lezione
URL;VALUE=URI://www.unive.it/data/insegnamento/576551
DTSTART:20251028T084500
END:VEVENT
BEGIN:VEVENT
DTEND:20251030T190000
UID:69e74c171b595
DTSTAMP:20260421T100615
LOCATION:Aula 0D Palazzo Moro
SUMMARY:MANAGEMENT OF ARTISTIC AND CULTURAL ORGANIZATIONS [EM3A03] - NATIVIO Angela\, Lezione
URL;VALUE=URI://www.unive.it/data/insegnamento/576551
DTSTART:20251030T140000
END:VEVENT
END:VCALENDAR