BEGIN:VCALENDAR
VERSION:2.0
PRODID:-//hacksw/handcal//NONSGML v1.0//EN
CALSCALE:GREGORIAN
X-WR-CALNAME:ELEMENTS OF THEATRE AND LIVE ART PRODUCTION II [EM3A09]
DESCRIPTION:ELEMENTS OF THEATRE AND LIVE ART PRODUCTION II [EM3A09]
REFRESH-INTERVAL;VALUE=DURATION:P1D
X-WR-TIMEZONE:Europe/Rome
BEGIN:VEVENT
DTEND:20251110T171500
UID:69e6c997e08bc
DTSTAMP:20260421T004927
LOCATION:Aula Zattere Palazzo Cosulich
SUMMARY:ELEMENTS OF THEATRE AND LIVE ART PRODUCTION II [EM3A09] - BETTINELLO Enrico\, Lezione
URL;VALUE=URI://www.unive.it/data/insegnamento/576555
DTSTART:20251110T154500
END:VEVENT
BEGIN:VEVENT
DTEND:20251111T190000
UID:69e6c997e093a
DTSTAMP:20260421T004927
LOCATION:Aula 3 San Sebastiano
SUMMARY:ELEMENTS OF THEATRE AND LIVE ART PRODUCTION II [EM3A09] - BETTINELLO Enrico\, Lezione
URL;VALUE=URI://www.unive.it/data/insegnamento/576555
DTSTART:20251111T173000
END:VEVENT
BEGIN:VEVENT
DTEND:20251113T190000
UID:69e6c997e098d
DTSTAMP:20260421T004927
LOCATION:Aula 1E Polo didattico San Basilio (Magazzino 5)
SUMMARY:ELEMENTS OF THEATRE AND LIVE ART PRODUCTION II [EM3A09] - BETTINELLO Enrico\, Lezione
URL;VALUE=URI://www.unive.it/data/insegnamento/576555
DTSTART:20251113T173000
END:VEVENT
BEGIN:VEVENT
DTEND:20251118T190000
UID:69e6c997e09de
DTSTAMP:20260421T004927
LOCATION:Aula 0C Polo didattico San Basilio (Magazzino 5)
SUMMARY:ELEMENTS OF THEATRE AND LIVE ART PRODUCTION II [EM3A09] - BETTINELLO Enrico\, Lezione
URL;VALUE=URI://www.unive.it/data/insegnamento/576555
DTSTART:20251118T173000
END:VEVENT
BEGIN:VEVENT
DTEND:20251120T190000
UID:69e6c997e0a2c
DTSTAMP:20260421T004927
LOCATION:Aula 1E Polo didattico San Basilio (Magazzino 5)
SUMMARY:ELEMENTS OF THEATRE AND LIVE ART PRODUCTION II [EM3A09] - BETTINELLO Enrico\, Lezione
URL;VALUE=URI://www.unive.it/data/insegnamento/576555
DTSTART:20251120T173000
END:VEVENT
BEGIN:VEVENT
DTEND:20251124T171500
UID:69e6c997e0a79
DTSTAMP:20260421T004927
LOCATION:Aula Zattere Palazzo Cosulich
SUMMARY:ELEMENTS OF THEATRE AND LIVE ART PRODUCTION II [EM3A09] - BETTINELLO Enrico\, Lezione
URL;VALUE=URI://www.unive.it/data/insegnamento/576555
DTSTART:20251124T154500
END:VEVENT
BEGIN:VEVENT
DTEND:20251125T190000
UID:69e6c997e0ac3
DTSTAMP:20260421T004927
LOCATION:Aula 3 San Sebastiano
SUMMARY:ELEMENTS OF THEATRE AND LIVE ART PRODUCTION II [EM3A09] - BETTINELLO Enrico\, Lezione
URL;VALUE=URI://www.unive.it/data/insegnamento/576555
DTSTART:20251125T173000
END:VEVENT
BEGIN:VEVENT
DTEND:20251127T190000
UID:69e6c997e0b0f
DTSTAMP:20260421T004927
LOCATION:Aula 0B Polo didattico San Basilio (Magazzino 5)
SUMMARY:ELEMENTS OF THEATRE AND LIVE ART PRODUCTION II [EM3A09] - BETTINELLO Enrico\, Lezione
URL;VALUE=URI://www.unive.it/data/insegnamento/576555
DTSTART:20251127T173000
END:VEVENT
BEGIN:VEVENT
DTEND:20251201T171500
UID:69e6c997e0b5a
DTSTAMP:20260421T004927
LOCATION:Aula Zattere Palazzo Cosulich
SUMMARY:ELEMENTS OF THEATRE AND LIVE ART PRODUCTION II [EM3A09] - BETTINELLO Enrico\, Lezione
URL;VALUE=URI://www.unive.it/data/insegnamento/576555
DTSTART:20251201T154500
END:VEVENT
BEGIN:VEVENT
DTEND:20251202T190000
UID:69e6c997e0ba5
DTSTAMP:20260421T004927
LOCATION:Aula 3 San Sebastiano
SUMMARY:ELEMENTS OF THEATRE AND LIVE ART PRODUCTION II [EM3A09] - BETTINELLO Enrico\, Lezione
URL;VALUE=URI://www.unive.it/data/insegnamento/576555
DTSTART:20251202T173000
END:VEVENT
BEGIN:VEVENT
DTEND:20251204T190000
UID:69e6c997e0be8
DTSTAMP:20260421T004927
LOCATION:Aula 1E Polo didattico San Basilio (Magazzino 5)
SUMMARY:ELEMENTS OF THEATRE AND LIVE ART PRODUCTION II [EM3A09] - BETTINELLO Enrico\, Lezione
URL;VALUE=URI://www.unive.it/data/insegnamento/576555
DTSTART:20251204T173000
END:VEVENT
BEGIN:VEVENT
DTEND:20251209T190000
UID:69e6c997e0c34
DTSTAMP:20260421T004927
LOCATION:Aula 3 San Sebastiano
SUMMARY:ELEMENTS OF THEATRE AND LIVE ART PRODUCTION II [EM3A09] - BETTINELLO Enrico\, Lezione
URL;VALUE=URI://www.unive.it/data/insegnamento/576555
DTSTART:20251209T173000
END:VEVENT
BEGIN:VEVENT
DTEND:20251211T190000
UID:69e6c997e0c7e
DTSTAMP:20260421T004927
LOCATION:Aula 1E Polo didattico San Basilio (Magazzino 5)
SUMMARY:ELEMENTS OF THEATRE AND LIVE ART PRODUCTION II [EM3A09] - BETTINELLO Enrico\, Lezione
URL;VALUE=URI://www.unive.it/data/insegnamento/576555
DTSTART:20251211T173000
END:VEVENT
BEGIN:VEVENT
DTEND:20251215T171500
UID:69e6c997e0cca
DTSTAMP:20260421T004927
LOCATION:Aula Zattere Palazzo Cosulich
SUMMARY:ELEMENTS OF THEATRE AND LIVE ART PRODUCTION II [EM3A09] - BETTINELLO Enrico\, Lezione
URL;VALUE=URI://www.unive.it/data/insegnamento/576555
DTSTART:20251215T154500
END:VEVENT
BEGIN:VEVENT
DTEND:20251216T190000
UID:69e6c997e0d14
DTSTAMP:20260421T004927
LOCATION:Aula 3 San Sebastiano
SUMMARY:ELEMENTS OF THEATRE AND LIVE ART PRODUCTION II [EM3A09] - BETTINELLO Enrico\, Lezione
URL;VALUE=URI://www.unive.it/data/insegnamento/576555
DTSTART:20251216T173000
END:VEVENT
END:VCALENDAR