BEGIN:VCALENDAR
VERSION:2.0
PRODID:-//hacksw/handcal//NONSGML v1.0//EN
CALSCALE:GREGORIAN
X-WR-CALNAME:SOFTWARE CORRECTNESS\, SECURITY\, AND RELIABILITY [CM0476]
DESCRIPTION:SOFTWARE CORRECTNESS\, SECURITY\, AND RELIABILITY [CM0476]
REFRESH-INTERVAL;VALUE=DURATION:P1D
X-WR-TIMEZONE:Europe/Rome
BEGIN:VEVENT
DTEND:20260303T190000
UID:69e92d761ce18
DTSTAMP:20260422T202006
LOCATION:Aula B Campus scientifico via Torino (edificio Zeta)
SUMMARY:SOFTWARE CORRECTNESS\, SECURITY\, AND RELIABILITY [CM0476] - CORTESI Agostino\, Lezione
URL;VALUE=URI://www.unive.it/data/insegnamento/576789
DTSTART:20260303T173000
END:VEVENT
BEGIN:VEVENT
DTEND:20260306T171500
UID:69e92d761ce9f
DTSTAMP:20260422T202006
LOCATION:Aula B Campus scientifico via Torino (edificio Zeta)
SUMMARY:SOFTWARE CORRECTNESS\, SECURITY\, AND RELIABILITY [CM0476] - CORTESI Agostino\, Lezione
URL;VALUE=URI://www.unive.it/data/insegnamento/576789
DTSTART:20260306T154500
END:VEVENT
BEGIN:VEVENT
DTEND:20260310T190000
UID:69e92d761cef3
DTSTAMP:20260422T202006
LOCATION:Aula B Campus scientifico via Torino (edificio Zeta)
SUMMARY:SOFTWARE CORRECTNESS\, SECURITY\, AND RELIABILITY [CM0476] - CORTESI Agostino\, Lezione
URL;VALUE=URI://www.unive.it/data/insegnamento/576789
DTSTART:20260310T173000
END:VEVENT
BEGIN:VEVENT
DTEND:20260313T171500
UID:69e92d761cf18
DTSTAMP:20260422T202006
LOCATION:Aula B Campus scientifico via Torino (edificio Zeta)
SUMMARY:SOFTWARE CORRECTNESS\, SECURITY\, AND RELIABILITY [CM0476] - CORTESI Agostino\, Lezione
URL;VALUE=URI://www.unive.it/data/insegnamento/576789
DTSTART:20260313T154500
END:VEVENT
BEGIN:VEVENT
DTEND:20260317T190000
UID:69e92d761cf69
DTSTAMP:20260422T202006
LOCATION:Aula B Campus scientifico via Torino (edificio Zeta)
SUMMARY:SOFTWARE CORRECTNESS\, SECURITY\, AND RELIABILITY [CM0476] - CORTESI Agostino\, Lezione
URL;VALUE=URI://www.unive.it/data/insegnamento/576789
DTSTART:20260317T173000
END:VEVENT
BEGIN:VEVENT
DTEND:20260320T171500
UID:69e92d761cfb8
DTSTAMP:20260422T202006
LOCATION:Aula B Campus scientifico via Torino (edificio Zeta)
SUMMARY:SOFTWARE CORRECTNESS\, SECURITY\, AND RELIABILITY [CM0476] - CORTESI Agostino\, Lezione
URL;VALUE=URI://www.unive.it/data/insegnamento/576789
DTSTART:20260320T154500
END:VEVENT
BEGIN:VEVENT
DTEND:20260324T190000
UID:69e92d761d005
DTSTAMP:20260422T202006
LOCATION:Aula B Campus scientifico via Torino (edificio Zeta)
SUMMARY:SOFTWARE CORRECTNESS\, SECURITY\, AND RELIABILITY [CM0476] - CORTESI Agostino\, Lezione
URL;VALUE=URI://www.unive.it/data/insegnamento/576789
DTSTART:20260324T173000
END:VEVENT
BEGIN:VEVENT
DTEND:20260327T171500
UID:69e92d761d051
DTSTAMP:20260422T202006
LOCATION:Aula B Campus scientifico via Torino (edificio Zeta)
SUMMARY:SOFTWARE CORRECTNESS\, SECURITY\, AND RELIABILITY [CM0476] - CORTESI Agostino\, Lezione
URL;VALUE=URI://www.unive.it/data/insegnamento/576789
DTSTART:20260327T154500
END:VEVENT
BEGIN:VEVENT
DTEND:20260331T190000
UID:69e92d761d09e
DTSTAMP:20260422T202006
LOCATION:Aula B Campus scientifico via Torino (edificio Zeta)
SUMMARY:SOFTWARE CORRECTNESS\, SECURITY\, AND RELIABILITY [CM0476] - CORTESI Agostino\, Lezione
URL;VALUE=URI://www.unive.it/data/insegnamento/576789
DTSTART:20260331T173000
END:VEVENT
BEGIN:VEVENT
DTEND:20260403T120000
UID:69e92d761d0f1
DTSTAMP:20260422T202006
LOCATION:Aula C Campus scientifico via Torino (edificio Zeta)
SUMMARY:SOFTWARE CORRECTNESS\, SECURITY\, AND RELIABILITY [CM0476] - CORTESI Agostino\, Lezione
URL;VALUE=URI://www.unive.it/data/insegnamento/576789
DTSTART:20260403T103000
END:VEVENT
BEGIN:VEVENT
DTEND:20260407T101500
UID:69e92d761d13d
DTSTAMP:20260422T202006
LOCATION:Aula A Campus scientifico via Torino (edificio Zeta)
SUMMARY:SOFTWARE CORRECTNESS\, SECURITY\, AND RELIABILITY [CM0476] - CORTESI Agostino\, Lezione
URL;VALUE=URI://www.unive.it/data/insegnamento/576789
DTSTART:20260407T084500
END:VEVENT
BEGIN:VEVENT
DTEND:20260407T190000
UID:69e92d761d189
DTSTAMP:20260422T202006
LOCATION:Aula B Campus scientifico via Torino (edificio Zeta)
SUMMARY:SOFTWARE CORRECTNESS\, SECURITY\, AND RELIABILITY [CM0476] - CORTESI Agostino\, Lezione
URL;VALUE=URI://www.unive.it/data/insegnamento/576789
DTSTART:20260407T173000
END:VEVENT
BEGIN:VEVENT
DTEND:20260414T190000
UID:69e92d761d1d5
DTSTAMP:20260422T202006
LOCATION:Aula B Campus scientifico via Torino (edificio Zeta)
SUMMARY:SOFTWARE CORRECTNESS\, SECURITY\, AND RELIABILITY [CM0476] - CORTESI Agostino\, Lezione
URL;VALUE=URI://www.unive.it/data/insegnamento/576789
DTSTART:20260414T173000
END:VEVENT
BEGIN:VEVENT
DTEND:20260417T120000
UID:69e92d761d221
DTSTAMP:20260422T202006
LOCATION:Aula A Campus scientifico via Torino (edificio Zeta)
SUMMARY:SOFTWARE CORRECTNESS\, SECURITY\, AND RELIABILITY [CM0476] - CORTESI Agostino\, Lezione
URL;VALUE=URI://www.unive.it/data/insegnamento/576789
DTSTART:20260417T103000
END:VEVENT
BEGIN:VEVENT
DTEND:20260421T190000
UID:69e92d761d26d
DTSTAMP:20260422T202006
LOCATION:Aula B Campus scientifico via Torino (edificio Zeta)
SUMMARY:SOFTWARE CORRECTNESS\, SECURITY\, AND RELIABILITY [CM0476] - CORTESI Agostino\, Lezione
URL;VALUE=URI://www.unive.it/data/insegnamento/576789
DTSTART:20260421T173000
END:VEVENT
END:VCALENDAR