BEGIN:VCALENDAR
VERSION:2.0
PRODID:-//hacksw/handcal//NONSGML v1.0//EN
CALSCALE:GREGORIAN
X-WR-CALNAME:CLOUD COMPUTING AND DISTRIBUTED SYSTEMS [CM0468]
DESCRIPTION:CLOUD COMPUTING AND DISTRIBUTED SYSTEMS [CM0468]
REFRESH-INTERVAL;VALUE=DURATION:P1D
X-WR-TIMEZONE:Europe/Rome
BEGIN:VEVENT
DTEND:20260303T134500
UID:69e91210cf043
DTSTAMP:20260422T182312
LOCATION:Aula A Campus scientifico via Torino (edificio Zeta)
SUMMARY:CLOUD COMPUTING AND DISTRIBUTED SYSTEMS [CM0468] - YUCEL Zeynep\, Lezione
URL;VALUE=URI://www.unive.it/data/insegnamento/576825
DTSTART:20260303T121500
END:VEVENT
BEGIN:VEVENT
DTEND:20260305T134500
UID:69e91210cf0dc
DTSTAMP:20260422T182312
LOCATION:Laboratorio 5 Campus scientifico via Torino (edificio Zeta)
SUMMARY:CLOUD COMPUTING AND DISTRIBUTED SYSTEMS [CM0468] - YUCEL Zeynep\, Lezione
URL;VALUE=URI://www.unive.it/data/insegnamento/576825
DTSTART:20260305T121500
END:VEVENT
BEGIN:VEVENT
DTEND:20260310T134500
UID:69e91210cf131
DTSTAMP:20260422T182312
LOCATION:Aula A Campus scientifico via Torino (edificio Zeta)
SUMMARY:CLOUD COMPUTING AND DISTRIBUTED SYSTEMS [CM0468] - YUCEL Zeynep\, Lezione
URL;VALUE=URI://www.unive.it/data/insegnamento/576825
DTSTART:20260310T121500
END:VEVENT
BEGIN:VEVENT
DTEND:20260312T134500
UID:69e91210cf17f
DTSTAMP:20260422T182312
LOCATION:Laboratorio 5 Campus scientifico via Torino (edificio Zeta)
SUMMARY:CLOUD COMPUTING AND DISTRIBUTED SYSTEMS [CM0468] - YUCEL Zeynep\, Lezione
URL;VALUE=URI://www.unive.it/data/insegnamento/576825
DTSTART:20260312T121500
END:VEVENT
BEGIN:VEVENT
DTEND:20260317T134500
UID:69e91210cf1cc
DTSTAMP:20260422T182312
LOCATION:Aula A Campus scientifico via Torino (edificio Zeta)
SUMMARY:CLOUD COMPUTING AND DISTRIBUTED SYSTEMS [CM0468] - YUCEL Zeynep\, Lezione
URL;VALUE=URI://www.unive.it/data/insegnamento/576825
DTSTART:20260317T121500
END:VEVENT
BEGIN:VEVENT
DTEND:20260319T134500
UID:69e91210cf217
DTSTAMP:20260422T182312
LOCATION:Laboratorio 5 Campus scientifico via Torino (edificio Zeta)
SUMMARY:CLOUD COMPUTING AND DISTRIBUTED SYSTEMS [CM0468] - YUCEL Zeynep\, Lezione
URL;VALUE=URI://www.unive.it/data/insegnamento/576825
DTSTART:20260319T121500
END:VEVENT
BEGIN:VEVENT
DTEND:20260324T134500
UID:69e91210cf263
DTSTAMP:20260422T182312
LOCATION:Aula A Campus scientifico via Torino (edificio Zeta)
SUMMARY:CLOUD COMPUTING AND DISTRIBUTED SYSTEMS [CM0468] - YUCEL Zeynep\, Lezione
URL;VALUE=URI://www.unive.it/data/insegnamento/576825
DTSTART:20260324T121500
END:VEVENT
BEGIN:VEVENT
DTEND:20260326T134500
UID:69e91210cf2b3
DTSTAMP:20260422T182312
LOCATION:Laboratorio 5 Campus scientifico via Torino (edificio Zeta)
SUMMARY:CLOUD COMPUTING AND DISTRIBUTED SYSTEMS [CM0468] - YUCEL Zeynep\, Lezione
URL;VALUE=URI://www.unive.it/data/insegnamento/576825
DTSTART:20260326T121500
END:VEVENT
BEGIN:VEVENT
DTEND:20260331T134500
UID:69e91210cf300
DTSTAMP:20260422T182312
LOCATION:Aula A Campus scientifico via Torino (edificio Zeta)
SUMMARY:CLOUD COMPUTING AND DISTRIBUTED SYSTEMS [CM0468] - YUCEL Zeynep\, Lezione
URL;VALUE=URI://www.unive.it/data/insegnamento/576825
DTSTART:20260331T121500
END:VEVENT
BEGIN:VEVENT
DTEND:20260402T134500
UID:69e91210cf34c
DTSTAMP:20260422T182312
LOCATION:Laboratorio 5 Campus scientifico via Torino (edificio Zeta)
SUMMARY:CLOUD COMPUTING AND DISTRIBUTED SYSTEMS [CM0468] - YUCEL Zeynep\, Lezione
URL;VALUE=URI://www.unive.it/data/insegnamento/576825
DTSTART:20260402T121500
END:VEVENT
BEGIN:VEVENT
DTEND:20260407T134500
UID:69e91210cf398
DTSTAMP:20260422T182312
LOCATION:Aula A Campus scientifico via Torino (edificio Zeta)
SUMMARY:CLOUD COMPUTING AND DISTRIBUTED SYSTEMS [CM0468] - YUCEL Zeynep\, Lezione
URL;VALUE=URI://www.unive.it/data/insegnamento/576825
DTSTART:20260407T121500
END:VEVENT
BEGIN:VEVENT
DTEND:20260409T134500
UID:69e91210cf3e4
DTSTAMP:20260422T182312
LOCATION:Laboratorio 5 Campus scientifico via Torino (edificio Zeta)
SUMMARY:CLOUD COMPUTING AND DISTRIBUTED SYSTEMS [CM0468] - YUCEL Zeynep\, Lezione
URL;VALUE=URI://www.unive.it/data/insegnamento/576825
DTSTART:20260409T121500
END:VEVENT
BEGIN:VEVENT
DTEND:20260414T134500
UID:69e91210cf430
DTSTAMP:20260422T182312
LOCATION:Aula A Campus scientifico via Torino (edificio Zeta)
SUMMARY:CLOUD COMPUTING AND DISTRIBUTED SYSTEMS [CM0468] - YUCEL Zeynep\, Lezione
URL;VALUE=URI://www.unive.it/data/insegnamento/576825
DTSTART:20260414T121500
END:VEVENT
BEGIN:VEVENT
DTEND:20260416T134500
UID:69e91210cf47f
DTSTAMP:20260422T182312
LOCATION:Laboratorio 5 Campus scientifico via Torino (edificio Zeta)
SUMMARY:CLOUD COMPUTING AND DISTRIBUTED SYSTEMS [CM0468] - YUCEL Zeynep\, Lezione
URL;VALUE=URI://www.unive.it/data/insegnamento/576825
DTSTART:20260416T121500
END:VEVENT
BEGIN:VEVENT
DTEND:20260421T134500
UID:69e91210cf4cc
DTSTAMP:20260422T182312
LOCATION:Aula A Campus scientifico via Torino (edificio Zeta)
SUMMARY:CLOUD COMPUTING AND DISTRIBUTED SYSTEMS [CM0468] - YUCEL Zeynep\, Lezione
URL;VALUE=URI://www.unive.it/data/insegnamento/576825
DTSTART:20260421T121500
END:VEVENT
BEGIN:VEVENT
DTEND:20260423T134500
UID:69e91210cf517
DTSTAMP:20260422T182312
LOCATION:Laboratorio 5 Campus scientifico via Torino (edificio Zeta)
SUMMARY:CLOUD COMPUTING AND DISTRIBUTED SYSTEMS [CM0468] - YUCEL Zeynep\, Lezione
URL;VALUE=URI://www.unive.it/data/insegnamento/576825
DTSTART:20260423T121500
END:VEVENT
BEGIN:VEVENT
DTEND:20260428T134500
UID:69e91210cf563
DTSTAMP:20260422T182312
LOCATION:Aula A Campus scientifico via Torino (edificio Zeta)
SUMMARY:CLOUD COMPUTING AND DISTRIBUTED SYSTEMS [CM0468] - YUCEL Zeynep\, Lezione
URL;VALUE=URI://www.unive.it/data/insegnamento/576825
DTSTART:20260428T121500
END:VEVENT
BEGIN:VEVENT
DTEND:20260430T134500
UID:69e91210cf5ae
DTSTAMP:20260422T182312
LOCATION:Laboratorio 5 Campus scientifico via Torino (edificio Zeta)
SUMMARY:CLOUD COMPUTING AND DISTRIBUTED SYSTEMS [CM0468] - YUCEL Zeynep\, Lezione
URL;VALUE=URI://www.unive.it/data/insegnamento/576825
DTSTART:20260430T121500
END:VEVENT
BEGIN:VEVENT
DTEND:20260505T134500
UID:69e91210cf5f9
DTSTAMP:20260422T182312
LOCATION:Aula A Campus scientifico via Torino (edificio Zeta)
SUMMARY:CLOUD COMPUTING AND DISTRIBUTED SYSTEMS [CM0468] - YUCEL Zeynep\, Lezione
URL;VALUE=URI://www.unive.it/data/insegnamento/576825
DTSTART:20260505T121500
END:VEVENT
BEGIN:VEVENT
DTEND:20260507T134500
UID:69e91210cf644
DTSTAMP:20260422T182312
LOCATION:Laboratorio 5 Campus scientifico via Torino (edificio Zeta)
SUMMARY:CLOUD COMPUTING AND DISTRIBUTED SYSTEMS [CM0468] - YUCEL Zeynep\, Lezione
URL;VALUE=URI://www.unive.it/data/insegnamento/576825
DTSTART:20260507T121500
END:VEVENT
BEGIN:VEVENT
DTEND:20260512T134500
UID:69e91210cf690
DTSTAMP:20260422T182312
LOCATION:Aula A Campus scientifico via Torino (edificio Zeta)
SUMMARY:CLOUD COMPUTING AND DISTRIBUTED SYSTEMS [CM0468] - YUCEL Zeynep\, Lezione
URL;VALUE=URI://www.unive.it/data/insegnamento/576825
DTSTART:20260512T121500
END:VEVENT
BEGIN:VEVENT
DTEND:20260514T134500
UID:69e91210cf6db
DTSTAMP:20260422T182312
LOCATION:Laboratorio 5 Campus scientifico via Torino (edificio Zeta)
SUMMARY:CLOUD COMPUTING AND DISTRIBUTED SYSTEMS [CM0468] - YUCEL Zeynep\, Lezione
URL;VALUE=URI://www.unive.it/data/insegnamento/576825
DTSTART:20260514T121500
END:VEVENT
BEGIN:VEVENT
DTEND:20260519T134500
UID:69e91210cf727
DTSTAMP:20260422T182312
LOCATION:Aula A Campus scientifico via Torino (edificio Zeta)
SUMMARY:CLOUD COMPUTING AND DISTRIBUTED SYSTEMS [CM0468] - YUCEL Zeynep\, Lezione
URL;VALUE=URI://www.unive.it/data/insegnamento/576825
DTSTART:20260519T121500
END:VEVENT
BEGIN:VEVENT
DTEND:20260521T134500
UID:69e91210cf773
DTSTAMP:20260422T182312
LOCATION:Laboratorio 5 Campus scientifico via Torino (edificio Zeta)
SUMMARY:CLOUD COMPUTING AND DISTRIBUTED SYSTEMS [CM0468] - YUCEL Zeynep\, Lezione
URL;VALUE=URI://www.unive.it/data/insegnamento/576825
DTSTART:20260521T121500
END:VEVENT
END:VCALENDAR