BEGIN:VCALENDAR
VERSION:2.0
PRODID:-//hacksw/handcal//NONSGML v1.0//EN
CALSCALE:GREGORIAN
X-WR-CALNAME:SOFTWARE PERFORMANCE AND SCALABILITY [CM0481]
DESCRIPTION:SOFTWARE PERFORMANCE AND SCALABILITY [CM0481]
REFRESH-INTERVAL;VALUE=DURATION:P1D
X-WR-TIMEZONE:Europe/Rome
BEGIN:VEVENT
DTEND:20260302T101500
UID:69e5d89d7f7e7
DTSTAMP:20260420T074117
LOCATION:Aula A Campus scientifico via Torino (edificio Zeta)
SUMMARY:SOFTWARE PERFORMANCE AND SCALABILITY [CM0481] - MARIN Andrea\, Lezione
URL;VALUE=URI://www.unive.it/data/insegnamento/576829
DTSTART:20260302T084500
END:VEVENT
BEGIN:VEVENT
DTEND:20260305T101500
UID:69e5d89d7f882
DTSTAMP:20260420T074117
LOCATION:Aula B Campus scientifico via Torino (edificio Zeta)
SUMMARY:SOFTWARE PERFORMANCE AND SCALABILITY [CM0481] - MARIN Andrea\, Lezione
URL;VALUE=URI://www.unive.it/data/insegnamento/576829
DTSTART:20260305T084500
END:VEVENT
BEGIN:VEVENT
DTEND:20260309T101500
UID:69e5d89d7f8d4
DTSTAMP:20260420T074117
LOCATION:Aula A Campus scientifico via Torino (edificio Zeta)
SUMMARY:SOFTWARE PERFORMANCE AND SCALABILITY [CM0481] - MARIN Andrea\, Lezione
URL;VALUE=URI://www.unive.it/data/insegnamento/576829
DTSTART:20260309T084500
END:VEVENT
BEGIN:VEVENT
DTEND:20260312T101500
UID:69e5d89d7f920
DTSTAMP:20260420T074117
LOCATION:Aula B Campus scientifico via Torino (edificio Zeta)
SUMMARY:SOFTWARE PERFORMANCE AND SCALABILITY [CM0481] - MARIN Andrea\, Lezione
URL;VALUE=URI://www.unive.it/data/insegnamento/576829
DTSTART:20260312T084500
END:VEVENT
BEGIN:VEVENT
DTEND:20260316T101500
UID:69e5d89d7f978
DTSTAMP:20260420T074117
LOCATION:Aula A Campus scientifico via Torino (edificio Zeta)
SUMMARY:SOFTWARE PERFORMANCE AND SCALABILITY [CM0481] - MARIN Andrea\, Lezione
URL;VALUE=URI://www.unive.it/data/insegnamento/576829
DTSTART:20260316T084500
END:VEVENT
BEGIN:VEVENT
DTEND:20260319T101500
UID:69e5d89d7f9c4
DTSTAMP:20260420T074117
LOCATION:Aula B Campus scientifico via Torino (edificio Zeta)
SUMMARY:SOFTWARE PERFORMANCE AND SCALABILITY [CM0481] - MARIN Andrea\, Lezione
URL;VALUE=URI://www.unive.it/data/insegnamento/576829
DTSTART:20260319T084500
END:VEVENT
BEGIN:VEVENT
DTEND:20260323T101500
UID:69e5d89d7fa10
DTSTAMP:20260420T074117
LOCATION:Aula A Campus scientifico via Torino (edificio Zeta)
SUMMARY:SOFTWARE PERFORMANCE AND SCALABILITY [CM0481] - MARIN Andrea\, Lezione
URL;VALUE=URI://www.unive.it/data/insegnamento/576829
DTSTART:20260323T084500
END:VEVENT
BEGIN:VEVENT
DTEND:20260326T101500
UID:69e5d89d7fa5c
DTSTAMP:20260420T074117
LOCATION:Aula B Campus scientifico via Torino (edificio Zeta)
SUMMARY:SOFTWARE PERFORMANCE AND SCALABILITY [CM0481] - MARIN Andrea\, Lezione
URL;VALUE=URI://www.unive.it/data/insegnamento/576829
DTSTART:20260326T084500
END:VEVENT
BEGIN:VEVENT
DTEND:20260330T101500
UID:69e5d89d7faa9
DTSTAMP:20260420T074117
LOCATION:Aula A Campus scientifico via Torino (edificio Zeta)
SUMMARY:SOFTWARE PERFORMANCE AND SCALABILITY [CM0481] - MARIN Andrea\, Lezione
URL;VALUE=URI://www.unive.it/data/insegnamento/576829
DTSTART:20260330T084500
END:VEVENT
BEGIN:VEVENT
DTEND:20260402T101500
UID:69e5d89d7faf5
DTSTAMP:20260420T074117
LOCATION:Aula B Campus scientifico via Torino (edificio Zeta)
SUMMARY:SOFTWARE PERFORMANCE AND SCALABILITY [CM0481] - MARIN Andrea\, Lezione
URL;VALUE=URI://www.unive.it/data/insegnamento/576829
DTSTART:20260402T084500
END:VEVENT
BEGIN:VEVENT
DTEND:20260409T101500
UID:69e5d89d7fb42
DTSTAMP:20260420T074117
LOCATION:Aula B Campus scientifico via Torino (edificio Zeta)
SUMMARY:SOFTWARE PERFORMANCE AND SCALABILITY [CM0481] - MARIN Andrea\, Lezione
URL;VALUE=URI://www.unive.it/data/insegnamento/576829
DTSTART:20260409T084500
END:VEVENT
BEGIN:VEVENT
DTEND:20260413T101500
UID:69e5d89d7fb8e
DTSTAMP:20260420T074117
LOCATION:Aula A Campus scientifico via Torino (edificio Zeta)
SUMMARY:SOFTWARE PERFORMANCE AND SCALABILITY [CM0481] - MARIN Andrea\, Lezione
URL;VALUE=URI://www.unive.it/data/insegnamento/576829
DTSTART:20260413T084500
END:VEVENT
BEGIN:VEVENT
DTEND:20260416T101500
UID:69e5d89d7fbda
DTSTAMP:20260420T074117
LOCATION:Aula B Campus scientifico via Torino (edificio Zeta)
SUMMARY:SOFTWARE PERFORMANCE AND SCALABILITY [CM0481] - MARIN Andrea\, Lezione
URL;VALUE=URI://www.unive.it/data/insegnamento/576829
DTSTART:20260416T084500
END:VEVENT
BEGIN:VEVENT
DTEND:20260420T101500
UID:69e5d89d7fc25
DTSTAMP:20260420T074117
LOCATION:Aula A Campus scientifico via Torino (edificio Zeta)
SUMMARY:SOFTWARE PERFORMANCE AND SCALABILITY [CM0481] - MARIN Andrea\, Lezione
URL;VALUE=URI://www.unive.it/data/insegnamento/576829
DTSTART:20260420T084500
END:VEVENT
BEGIN:VEVENT
DTEND:20260423T101500
UID:69e5d89d7fc71
DTSTAMP:20260420T074117
LOCATION:Aula B Campus scientifico via Torino (edificio Zeta)
SUMMARY:SOFTWARE PERFORMANCE AND SCALABILITY [CM0481] - MARIN Andrea\, Lezione
URL;VALUE=URI://www.unive.it/data/insegnamento/576829
DTSTART:20260423T084500
END:VEVENT
BEGIN:VEVENT
DTEND:20260427T101500
UID:69e5d89d7fcbc
DTSTAMP:20260420T074117
LOCATION:Aula A Campus scientifico via Torino (edificio Zeta)
SUMMARY:SOFTWARE PERFORMANCE AND SCALABILITY [CM0481] - MARIN Andrea\, Lezione
URL;VALUE=URI://www.unive.it/data/insegnamento/576829
DTSTART:20260427T084500
END:VEVENT
BEGIN:VEVENT
DTEND:20260430T101500
UID:69e5d89d7fd07
DTSTAMP:20260420T074117
LOCATION:Aula B Campus scientifico via Torino (edificio Zeta)
SUMMARY:SOFTWARE PERFORMANCE AND SCALABILITY [CM0481] - MARIN Andrea\, Lezione
URL;VALUE=URI://www.unive.it/data/insegnamento/576829
DTSTART:20260430T084500
END:VEVENT
BEGIN:VEVENT
DTEND:20260504T101500
UID:69e5d89d7fd5b
DTSTAMP:20260420T074117
LOCATION:Aula A Campus scientifico via Torino (edificio Zeta)
SUMMARY:SOFTWARE PERFORMANCE AND SCALABILITY [CM0481] - MARIN Andrea\, Lezione
URL;VALUE=URI://www.unive.it/data/insegnamento/576829
DTSTART:20260504T084500
END:VEVENT
BEGIN:VEVENT
DTEND:20260507T101500
UID:69e5d89d7fda6
DTSTAMP:20260420T074117
LOCATION:Aula B Campus scientifico via Torino (edificio Zeta)
SUMMARY:SOFTWARE PERFORMANCE AND SCALABILITY [CM0481] - MARIN Andrea\, Lezione
URL;VALUE=URI://www.unive.it/data/insegnamento/576829
DTSTART:20260507T084500
END:VEVENT
BEGIN:VEVENT
DTEND:20260511T101500
UID:69e5d89d7fdf3
DTSTAMP:20260420T074117
LOCATION:Aula A Campus scientifico via Torino (edificio Zeta)
SUMMARY:SOFTWARE PERFORMANCE AND SCALABILITY [CM0481] - MARIN Andrea\, Lezione
URL;VALUE=URI://www.unive.it/data/insegnamento/576829
DTSTART:20260511T084500
END:VEVENT
BEGIN:VEVENT
DTEND:20260514T101500
UID:69e5d89d7fe3d
DTSTAMP:20260420T074117
LOCATION:Aula B Campus scientifico via Torino (edificio Zeta)
SUMMARY:SOFTWARE PERFORMANCE AND SCALABILITY [CM0481] - MARIN Andrea\, Lezione
URL;VALUE=URI://www.unive.it/data/insegnamento/576829
DTSTART:20260514T084500
END:VEVENT
BEGIN:VEVENT
DTEND:20260518T101500
UID:69e5d89d7fe89
DTSTAMP:20260420T074117
LOCATION:Aula A Campus scientifico via Torino (edificio Zeta)
SUMMARY:SOFTWARE PERFORMANCE AND SCALABILITY [CM0481] - MARIN Andrea\, Lezione
URL;VALUE=URI://www.unive.it/data/insegnamento/576829
DTSTART:20260518T084500
END:VEVENT
BEGIN:VEVENT
DTEND:20260521T101500
UID:69e5d89d7fed3
DTSTAMP:20260420T074117
LOCATION:Aula B Campus scientifico via Torino (edificio Zeta)
SUMMARY:SOFTWARE PERFORMANCE AND SCALABILITY [CM0481] - MARIN Andrea\, Lezione
URL;VALUE=URI://www.unive.it/data/insegnamento/576829
DTSTART:20260521T084500
END:VEVENT
BEGIN:VEVENT
DTEND:20260525T101500
UID:69e5d89d7ff1f
DTSTAMP:20260420T074117
LOCATION:Aula A Campus scientifico via Torino (edificio Zeta)
SUMMARY:SOFTWARE PERFORMANCE AND SCALABILITY [CM0481] - MARIN Andrea\, Lezione
URL;VALUE=URI://www.unive.it/data/insegnamento/576829
DTSTART:20260525T084500
END:VEVENT
END:VCALENDAR