BEGIN:VCALENDAR
VERSION:2.0
PRODID:-//hacksw/handcal//NONSGML v1.0//EN
CALSCALE:GREGORIAN
X-WR-CALNAME:FILOSOFIA TEORETICA II [FT0276]
DESCRIPTION:FILOSOFIA TEORETICA II [FT0276]
REFRESH-INTERVAL;VALUE=DURATION:P1D
X-WR-TIMEZONE:Europe/Rome
BEGIN:VEVENT
DTEND:20260408T153000
UID:69e9260a063da
DTSTAMP:20260422T194826
LOCATION:Aula 2P Polo didattico San Basilio (Magazzino 4)
SUMMARY:FILOSOFIA TEORETICA II [FT0276] - Spanio Davide\, Lezione
URL;VALUE=URI://www.unive.it/data/insegnamento/577232
DTSTART:20260408T140000
END:VEVENT
BEGIN:VEVENT
DTEND:20260409T134500
UID:69e9260a0645e
DTSTAMP:20260422T194826
LOCATION:Aula Gianni Toniolo Polo didattico San Basilio (Magazzino 4)
SUMMARY:FILOSOFIA TEORETICA II [FT0276] - Spanio Davide\, Lezione
URL;VALUE=URI://www.unive.it/data/insegnamento/577232
DTSTART:20260409T121500
END:VEVENT
BEGIN:VEVENT
DTEND:20260410T101500
UID:69e9260a064b2
DTSTAMP:20260422T194826
LOCATION:Aula 2P Polo didattico San Basilio (Magazzino 4)
SUMMARY:FILOSOFIA TEORETICA II [FT0276] - Spanio Davide\, Lezione
URL;VALUE=URI://www.unive.it/data/insegnamento/577232
DTSTART:20260410T084500
END:VEVENT
BEGIN:VEVENT
DTEND:20260415T153000
UID:69e9260a06500
DTSTAMP:20260422T194826
LOCATION:Aula 2P Polo didattico San Basilio (Magazzino 4)
SUMMARY:FILOSOFIA TEORETICA II [FT0276] - Spanio Davide\, Lezione
URL;VALUE=URI://www.unive.it/data/insegnamento/577232
DTSTART:20260415T140000
END:VEVENT
BEGIN:VEVENT
DTEND:20260416T134500
UID:69e9260a0654b
DTSTAMP:20260422T194826
LOCATION:Aula Gianni Toniolo Polo didattico San Basilio (Magazzino 4)
SUMMARY:FILOSOFIA TEORETICA II [FT0276] - Spanio Davide\, Lezione
URL;VALUE=URI://www.unive.it/data/insegnamento/577232
DTSTART:20260416T121500
END:VEVENT
BEGIN:VEVENT
DTEND:20260417T101500
UID:69e9260a06596
DTSTAMP:20260422T194826
LOCATION:Aula 2P Polo didattico San Basilio (Magazzino 4)
SUMMARY:FILOSOFIA TEORETICA II [FT0276] - Spanio Davide\, Lezione
URL;VALUE=URI://www.unive.it/data/insegnamento/577232
DTSTART:20260417T084500
END:VEVENT
BEGIN:VEVENT
DTEND:20260422T153000
UID:69e9260a065e2
DTSTAMP:20260422T194826
LOCATION:Aula 2P Polo didattico San Basilio (Magazzino 4)
SUMMARY:FILOSOFIA TEORETICA II [FT0276] - Spanio Davide\, Lezione
URL;VALUE=URI://www.unive.it/data/insegnamento/577232
DTSTART:20260422T140000
END:VEVENT
BEGIN:VEVENT
DTEND:20260423T134500
UID:69e9260a06631
DTSTAMP:20260422T194826
LOCATION:Aula Gianni Toniolo Polo didattico San Basilio (Magazzino 4)
SUMMARY:FILOSOFIA TEORETICA II [FT0276] - Spanio Davide\, Lezione
URL;VALUE=URI://www.unive.it/data/insegnamento/577232
DTSTART:20260423T121500
END:VEVENT
BEGIN:VEVENT
DTEND:20260424T101500
UID:69e9260a0667b
DTSTAMP:20260422T194826
LOCATION:Aula 2P Polo didattico San Basilio (Magazzino 4)
SUMMARY:FILOSOFIA TEORETICA II [FT0276] - Spanio Davide\, Lezione
URL;VALUE=URI://www.unive.it/data/insegnamento/577232
DTSTART:20260424T084500
END:VEVENT
BEGIN:VEVENT
DTEND:20260429T153000
UID:69e9260a066c6
DTSTAMP:20260422T194826
LOCATION:Aula 2P Polo didattico San Basilio (Magazzino 4)
SUMMARY:FILOSOFIA TEORETICA II [FT0276] - Spanio Davide\, Lezione
URL;VALUE=URI://www.unive.it/data/insegnamento/577232
DTSTART:20260429T140000
END:VEVENT
BEGIN:VEVENT
DTEND:20260430T134500
UID:69e9260a06710
DTSTAMP:20260422T194826
LOCATION:Aula Gianni Toniolo Polo didattico San Basilio (Magazzino 4)
SUMMARY:FILOSOFIA TEORETICA II [FT0276] - Spanio Davide\, Lezione
URL;VALUE=URI://www.unive.it/data/insegnamento/577232
DTSTART:20260430T121500
END:VEVENT
BEGIN:VEVENT
DTEND:20260506T153000
UID:69e9260a0675a
DTSTAMP:20260422T194826
LOCATION:Aula 2P Polo didattico San Basilio (Magazzino 4)
SUMMARY:FILOSOFIA TEORETICA II [FT0276] - Spanio Davide\, Lezione
URL;VALUE=URI://www.unive.it/data/insegnamento/577232
DTSTART:20260506T140000
END:VEVENT
BEGIN:VEVENT
DTEND:20260507T134500
UID:69e9260a067a4
DTSTAMP:20260422T194826
LOCATION:Aula Gianni Toniolo Polo didattico San Basilio (Magazzino 4)
SUMMARY:FILOSOFIA TEORETICA II [FT0276] - Spanio Davide\, Lezione
URL;VALUE=URI://www.unive.it/data/insegnamento/577232
DTSTART:20260507T121500
END:VEVENT
BEGIN:VEVENT
DTEND:20260508T101500
UID:69e9260a0680c
DTSTAMP:20260422T194826
LOCATION:Aula 2P Polo didattico San Basilio (Magazzino 4)
SUMMARY:FILOSOFIA TEORETICA II [FT0276] - Spanio Davide\, Lezione
URL;VALUE=URI://www.unive.it/data/insegnamento/577232
DTSTART:20260508T084500
END:VEVENT
BEGIN:VEVENT
DTEND:20260513T153000
UID:69e9260a0685b
DTSTAMP:20260422T194826
LOCATION:Aula 2P Polo didattico San Basilio (Magazzino 4)
SUMMARY:FILOSOFIA TEORETICA II [FT0276] - Spanio Davide\, Lezione
URL;VALUE=URI://www.unive.it/data/insegnamento/577232
DTSTART:20260513T140000
END:VEVENT
BEGIN:VEVENT
DTEND:20260514T134500
UID:69e9260a068a6
DTSTAMP:20260422T194826
LOCATION:Aula Gianni Toniolo Polo didattico San Basilio (Magazzino 4)
SUMMARY:FILOSOFIA TEORETICA II [FT0276] - Spanio Davide\, Lezione
URL;VALUE=URI://www.unive.it/data/insegnamento/577232
DTSTART:20260514T121500
END:VEVENT
BEGIN:VEVENT
DTEND:20260515T101500
UID:69e9260a068f2
DTSTAMP:20260422T194826
LOCATION:Aula 2P Polo didattico San Basilio (Magazzino 4)
SUMMARY:FILOSOFIA TEORETICA II [FT0276] - Spanio Davide\, Lezione
URL;VALUE=URI://www.unive.it/data/insegnamento/577232
DTSTART:20260515T084500
END:VEVENT
END:VCALENDAR