BEGIN:VCALENDAR
VERSION:2.0
PRODID:-//hacksw/handcal//NONSGML v1.0//EN
CALSCALE:GREGORIAN
X-WR-CALNAME:ONTOLOGIA II [FT0145]
DESCRIPTION:ONTOLOGIA II [FT0145]
REFRESH-INTERVAL;VALUE=DURATION:P1D
X-WR-TIMEZONE:Europe/Rome
BEGIN:VEVENT
DTEND:20251110T134500
UID:69e91f259138a
DTSTAMP:20260422T191901
LOCATION:Aula San Trovaso Aula San Trovaso
SUMMARY:ONTOLOGIA II [FT0145] - TRIZIO Emiliano\, Lezione
URL;VALUE=URI://www.unive.it/data/insegnamento/577252
DTSTART:20251110T121500
END:VEVENT
BEGIN:VEVENT
DTEND:20251114T120000
UID:69e91f259140c
DTSTAMP:20260422T191901
LOCATION:Aula 3 Rio Novo
SUMMARY:ONTOLOGIA II [FT0145] - TRIZIO Emiliano\, Lezione
URL;VALUE=URI://www.unive.it/data/insegnamento/577252
DTSTART:20251114T103000
END:VEVENT
BEGIN:VEVENT
DTEND:20251117T134500
UID:69e91f259145d
DTSTAMP:20260422T191901
LOCATION:Aula San Trovaso Aula San Trovaso
SUMMARY:ONTOLOGIA II [FT0145] - TRIZIO Emiliano\, Lezione
URL;VALUE=URI://www.unive.it/data/insegnamento/577252
DTSTART:20251117T121500
END:VEVENT
BEGIN:VEVENT
DTEND:20251124T134500
UID:69e91f25914b6
DTSTAMP:20260422T191901
LOCATION:Aula San Trovaso Aula San Trovaso
SUMMARY:ONTOLOGIA II [FT0145] - TRIZIO Emiliano\, Lezione
URL;VALUE=URI://www.unive.it/data/insegnamento/577252
DTSTART:20251124T121500
END:VEVENT
BEGIN:VEVENT
DTEND:20251128T120000
UID:69e91f2591503
DTSTAMP:20260422T191901
LOCATION:Aula 3 Rio Novo
SUMMARY:ONTOLOGIA II [FT0145] - TRIZIO Emiliano\, Lezione
URL;VALUE=URI://www.unive.it/data/insegnamento/577252
DTSTART:20251128T103000
END:VEVENT
BEGIN:VEVENT
DTEND:20251201T134500
UID:69e91f259154c
DTSTAMP:20260422T191901
LOCATION:Aula San Trovaso Aula San Trovaso
SUMMARY:ONTOLOGIA II [FT0145] - TRIZIO Emiliano\, Lezione
URL;VALUE=URI://www.unive.it/data/insegnamento/577252
DTSTART:20251201T121500
END:VEVENT
BEGIN:VEVENT
DTEND:20251205T120000
UID:69e91f2591596
DTSTAMP:20260422T191901
LOCATION:Aula 3 Rio Novo
SUMMARY:ONTOLOGIA II [FT0145] - TRIZIO Emiliano\, Lezione
URL;VALUE=URI://www.unive.it/data/insegnamento/577252
DTSTART:20251205T103000
END:VEVENT
BEGIN:VEVENT
DTEND:20251212T120000
UID:69e91f25915df
DTSTAMP:20260422T191901
LOCATION:Aula 3 Rio Novo
SUMMARY:ONTOLOGIA II [FT0145] - TRIZIO Emiliano\, Lezione
URL;VALUE=URI://www.unive.it/data/insegnamento/577252
DTSTART:20251212T103000
END:VEVENT
BEGIN:VEVENT
DTEND:20251212T171500
UID:69e91f2591629
DTSTAMP:20260422T191901
LOCATION:Aula 0G Polo didattico San Basilio (Magazzino 5)
SUMMARY:ONTOLOGIA II [FT0145] - TRIZIO Emiliano\, Lezione
URL;VALUE=URI://www.unive.it/data/insegnamento/577252
DTSTART:20251212T154500
END:VEVENT
BEGIN:VEVENT
DTEND:20251219T120000
UID:69e91f2591660
DTSTAMP:20260422T191901
LOCATION:Aula 3 Rio Novo
SUMMARY:ONTOLOGIA II [FT0145] - TRIZIO Emiliano\, Lezione
URL;VALUE=URI://www.unive.it/data/insegnamento/577252
DTSTART:20251219T103000
END:VEVENT
END:VCALENDAR