BEGIN:VCALENDAR
VERSION:2.0
PRODID:-//hacksw/handcal//NONSGML v1.0//EN
CALSCALE:GREGORIAN
X-WR-CALNAME:FAMIGLIE\, GENERI E GENERAZIONI [FT0594]
DESCRIPTION:FAMIGLIE\, GENERI E GENERAZIONI [FT0594]
REFRESH-INTERVAL;VALUE=DURATION:P1D
X-WR-TIMEZONE:Europe/Rome
BEGIN:VEVENT
DTEND:20250925T134500
UID:69e91217cd6cb
DTSTAMP:20260422T182319
LOCATION:Sala Giovanni Morelli Malcanton Marcorà
SUMMARY:FAMIGLIE\, GENERI E GENERAZIONI [FT0594] - GAROFALO Giulia\, Lezione
URL;VALUE=URI://www.unive.it/data/insegnamento/577999
DTSTART:20250925T121500
END:VEVENT
BEGIN:VEVENT
DTEND:20250925T153000
UID:69e91217cd764
DTSTAMP:20260422T182319
LOCATION:Sala Giovanni Morelli Malcanton Marcorà
SUMMARY:FAMIGLIE\, GENERI E GENERAZIONI [FT0594] - GAROFALO Giulia\, Lezione
URL;VALUE=URI://www.unive.it/data/insegnamento/577999
DTSTART:20250925T140000
END:VEVENT
BEGIN:VEVENT
DTEND:20251002T134500
UID:69e91217cd7b8
DTSTAMP:20260422T182319
LOCATION:Sala Giovanni Morelli Malcanton Marcorà
SUMMARY:FAMIGLIE\, GENERI E GENERAZIONI [FT0594] - GAROFALO Giulia\, Lezione
URL;VALUE=URI://www.unive.it/data/insegnamento/577999
DTSTART:20251002T121500
END:VEVENT
BEGIN:VEVENT
DTEND:20251002T153000
UID:69e91217cd80a
DTSTAMP:20260422T182319
LOCATION:Sala Giovanni Morelli Malcanton Marcorà
SUMMARY:FAMIGLIE\, GENERI E GENERAZIONI [FT0594] - GAROFALO Giulia\, Lezione
URL;VALUE=URI://www.unive.it/data/insegnamento/577999
DTSTART:20251002T140000
END:VEVENT
BEGIN:VEVENT
DTEND:20251009T134500
UID:69e91217cd857
DTSTAMP:20260422T182319
LOCATION:Sala Giovanni Morelli Malcanton Marcorà
SUMMARY:FAMIGLIE\, GENERI E GENERAZIONI [FT0594] - GAROFALO Giulia\, Lezione
URL;VALUE=URI://www.unive.it/data/insegnamento/577999
DTSTART:20251009T121500
END:VEVENT
BEGIN:VEVENT
DTEND:20251009T153000
UID:69e91217cd8a3
DTSTAMP:20260422T182319
LOCATION:Sala Giovanni Morelli Malcanton Marcorà
SUMMARY:FAMIGLIE\, GENERI E GENERAZIONI [FT0594] - GAROFALO Giulia\, Lezione
URL;VALUE=URI://www.unive.it/data/insegnamento/577999
DTSTART:20251009T140000
END:VEVENT
BEGIN:VEVENT
DTEND:20251023T134500
UID:69e91217cd8ee
DTSTAMP:20260422T182319
LOCATION:Sala Giovanni Morelli Malcanton Marcorà
SUMMARY:FAMIGLIE\, GENERI E GENERAZIONI [FT0594] - GAROFALO Giulia\, Lezione
URL;VALUE=URI://www.unive.it/data/insegnamento/577999
DTSTART:20251023T121500
END:VEVENT
BEGIN:VEVENT
DTEND:20251023T153000
UID:69e91217cd939
DTSTAMP:20260422T182319
LOCATION:Sala Giovanni Morelli Malcanton Marcorà
SUMMARY:FAMIGLIE\, GENERI E GENERAZIONI [FT0594] - GAROFALO Giulia\, Lezione
URL;VALUE=URI://www.unive.it/data/insegnamento/577999
DTSTART:20251023T140000
END:VEVENT
BEGIN:VEVENT
DTEND:20251030T134500
UID:69e91217cd98e
DTSTAMP:20260422T182319
LOCATION:Sala Giovanni Morelli Malcanton Marcorà
SUMMARY:FAMIGLIE\, GENERI E GENERAZIONI [FT0594] - GAROFALO Giulia\, Lezione
URL;VALUE=URI://www.unive.it/data/insegnamento/577999
DTSTART:20251030T121500
END:VEVENT
BEGIN:VEVENT
DTEND:20251030T153000
UID:69e91217cd9de
DTSTAMP:20260422T182319
LOCATION:Sala Giovanni Morelli Malcanton Marcorà
SUMMARY:FAMIGLIE\, GENERI E GENERAZIONI [FT0594] - GAROFALO Giulia\, Lezione
URL;VALUE=URI://www.unive.it/data/insegnamento/577999
DTSTART:20251030T140000
END:VEVENT
END:VCALENDAR