BEGIN:VCALENDAR
VERSION:2.0
PRODID:-//hacksw/handcal//NONSGML v1.0//EN
CALSCALE:GREGORIAN
X-WR-CALNAME:ORGANIZZAZIONE DEL SERVIZIO SOCIALE [FT0593]
DESCRIPTION:ORGANIZZAZIONE DEL SERVIZIO SOCIALE [FT0593]
REFRESH-INTERVAL;VALUE=DURATION:P1D
X-WR-TIMEZONE:Europe/Rome
BEGIN:VEVENT
DTEND:20250924T101500
UID:69e74f196fd62
DTSTAMP:20260421T101905
LOCATION:Aula 1G Polo didattico San Basilio (Magazzino 5)
SUMMARY:ORGANIZZAZIONE DEL SERVIZIO SOCIALE [FT0593] - Da Rin Fioretto Vera\, Lezione
URL;VALUE=URI://www.unive.it/data/insegnamento/578002
DTSTART:20250924T084500
END:VEVENT
BEGIN:VEVENT
DTEND:20251001T101500
UID:69e74f196fe1c
DTSTAMP:20260421T101905
LOCATION:Aula 1G Polo didattico San Basilio (Magazzino 5)
SUMMARY:ORGANIZZAZIONE DEL SERVIZIO SOCIALE [FT0593] - Da Rin Fioretto Vera\, Lezione
URL;VALUE=URI://www.unive.it/data/insegnamento/578002
DTSTART:20251001T084500
END:VEVENT
BEGIN:VEVENT
DTEND:20251008T101500
UID:69e74f196fe7b
DTSTAMP:20260421T101905
LOCATION:Aula 1G Polo didattico San Basilio (Magazzino 5)
SUMMARY:ORGANIZZAZIONE DEL SERVIZIO SOCIALE [FT0593] - Da Rin Fioretto Vera\, Lezione
URL;VALUE=URI://www.unive.it/data/insegnamento/578002
DTSTART:20251008T084500
END:VEVENT
BEGIN:VEVENT
DTEND:20251015T101500
UID:69e74f196fed5
DTSTAMP:20260421T101905
LOCATION:Aula 1G Polo didattico San Basilio (Magazzino 5)
SUMMARY:ORGANIZZAZIONE DEL SERVIZIO SOCIALE [FT0593] - Da Rin Fioretto Vera\, Lezione
URL;VALUE=URI://www.unive.it/data/insegnamento/578002
DTSTART:20251015T084500
END:VEVENT
BEGIN:VEVENT
DTEND:20251022T101500
UID:69e74f196ff23
DTSTAMP:20260421T101905
LOCATION:Aula 1G Polo didattico San Basilio (Magazzino 5)
SUMMARY:ORGANIZZAZIONE DEL SERVIZIO SOCIALE [FT0593] - Da Rin Fioretto Vera\, Lezione
URL;VALUE=URI://www.unive.it/data/insegnamento/578002
DTSTART:20251022T084500
END:VEVENT
BEGIN:VEVENT
DTEND:20251029T101500
UID:69e74f196ff7b
DTSTAMP:20260421T101905
LOCATION:Aula 1G Polo didattico San Basilio (Magazzino 5)
SUMMARY:ORGANIZZAZIONE DEL SERVIZIO SOCIALE [FT0593] - Da Rin Fioretto Vera\, Lezione
URL;VALUE=URI://www.unive.it/data/insegnamento/578002
DTSTART:20251029T084500
END:VEVENT
BEGIN:VEVENT
DTEND:20251029T120000
UID:69e74f196ffc9
DTSTAMP:20260421T101905
LOCATION:Aula 1G Polo didattico San Basilio (Magazzino 5)
SUMMARY:ORGANIZZAZIONE DEL SERVIZIO SOCIALE [FT0593] - Da Rin Fioretto Vera\, Lezione
URL;VALUE=URI://www.unive.it/data/insegnamento/578002
DTSTART:20251029T103000
END:VEVENT
END:VCALENDAR