BEGIN:VCALENDAR
VERSION:2.0
PRODID:-//hacksw/handcal//NONSGML v1.0//EN
CALSCALE:GREGORIAN
X-WR-CALNAME:LAVORO SOCIALE IN CONTESTI SOCIOSANITARI [FT0601]
DESCRIPTION:LAVORO SOCIALE IN CONTESTI SOCIOSANITARI [FT0601]
REFRESH-INTERVAL;VALUE=DURATION:P1D
X-WR-TIMEZONE:Europe/Rome
BEGIN:VEVENT
DTEND:20250924T190000
UID:69e71ed1dee68
DTSTAMP:20260421T065305
LOCATION:Aula 1D Polo didattico San Basilio (Magazzino 5)
SUMMARY:LAVORO SOCIALE IN CONTESTI SOCIOSANITARI [FT0601] - VOLPE Federico\, Lezione
URL;VALUE=URI://www.unive.it/data/insegnamento/578008
DTSTART:20250924T173000
END:VEVENT
BEGIN:VEVENT
DTEND:20251001T190000
UID:69e71ed1deee5
DTSTAMP:20260421T065305
LOCATION:Aula 1D Polo didattico San Basilio (Magazzino 5)
SUMMARY:LAVORO SOCIALE IN CONTESTI SOCIOSANITARI [FT0601] - VOLPE Federico\, Lezione
URL;VALUE=URI://www.unive.it/data/insegnamento/578008
DTSTART:20251001T173000
END:VEVENT
BEGIN:VEVENT
DTEND:20251008T190000
UID:69e71ed1def34
DTSTAMP:20260421T065305
LOCATION:Aula 1D Polo didattico San Basilio (Magazzino 5)
SUMMARY:LAVORO SOCIALE IN CONTESTI SOCIOSANITARI [FT0601] - VOLPE Federico\, Lezione
URL;VALUE=URI://www.unive.it/data/insegnamento/578008
DTSTART:20251008T173000
END:VEVENT
BEGIN:VEVENT
DTEND:20251015T190000
UID:69e71ed1def80
DTSTAMP:20260421T065305
LOCATION:Aula 1D Polo didattico San Basilio (Magazzino 5)
SUMMARY:LAVORO SOCIALE IN CONTESTI SOCIOSANITARI [FT0601] - VOLPE Federico\, Lezione
URL;VALUE=URI://www.unive.it/data/insegnamento/578008
DTSTART:20251015T173000
END:VEVENT
BEGIN:VEVENT
DTEND:20251022T190000
UID:69e71ed1defcd
DTSTAMP:20260421T065305
LOCATION:Aula 1D Polo didattico San Basilio (Magazzino 5)
SUMMARY:LAVORO SOCIALE IN CONTESTI SOCIOSANITARI [FT0601] - VOLPE Federico\, Lezione
URL;VALUE=URI://www.unive.it/data/insegnamento/578008
DTSTART:20251022T173000
END:VEVENT
BEGIN:VEVENT
DTEND:20251029T190000
UID:69e71ed1df018
DTSTAMP:20260421T065305
LOCATION:Aula 1D Polo didattico San Basilio (Magazzino 5)
SUMMARY:LAVORO SOCIALE IN CONTESTI SOCIOSANITARI [FT0601] - VOLPE Federico\, Lezione
URL;VALUE=URI://www.unive.it/data/insegnamento/578008
DTSTART:20251029T173000
END:VEVENT
END:VCALENDAR