BEGIN:VCALENDAR
VERSION:2.0
PRODID:-//hacksw/handcal//NONSGML v1.0//EN
CALSCALE:GREGORIAN
X-WR-CALNAME:TEORIE INNOVATIVE PER IL SERVIZIO SOCIALE [FM0621]
DESCRIPTION:TEORIE INNOVATIVE PER IL SERVIZIO SOCIALE [FM0621]
REFRESH-INTERVAL;VALUE=DURATION:P1D
X-WR-TIMEZONE:Europe/Rome
BEGIN:VEVENT
DTEND:20250924T120000
UID:69e7dc548ffeb
DTSTAMP:20260421T202140
LOCATION:Aula 1D Polo didattico San Basilio (Magazzino 5)
SUMMARY:TEORIE INNOVATIVE PER IL SERVIZIO SOCIALE [FM0621] - MATUTINI Elisa\, Lezione
URL;VALUE=URI://www.unive.it/data/insegnamento/579038
DTSTART:20250924T103000
END:VEVENT
BEGIN:VEVENT
DTEND:20250925T134500
UID:69e7dc54900a5
DTSTAMP:20260421T202140
LOCATION:Aula San Trovaso Aula San Trovaso
SUMMARY:TEORIE INNOVATIVE PER IL SERVIZIO SOCIALE [FM0621] - MATUTINI Elisa\, Lezione
URL;VALUE=URI://www.unive.it/data/insegnamento/579038
DTSTART:20250925T121500
END:VEVENT
BEGIN:VEVENT
DTEND:20250925T153000
UID:69e7dc54900fb
DTSTAMP:20260421T202140
LOCATION:Aula San Trovaso Aula San Trovaso
SUMMARY:TEORIE INNOVATIVE PER IL SERVIZIO SOCIALE [FM0621] - MATUTINI Elisa\, Lezione
URL;VALUE=URI://www.unive.it/data/insegnamento/579038
DTSTART:20250925T140000
END:VEVENT
BEGIN:VEVENT
DTEND:20251001T120000
UID:69e7dc549014a
DTSTAMP:20260421T202140
LOCATION:Aula 1D Polo didattico San Basilio (Magazzino 5)
SUMMARY:TEORIE INNOVATIVE PER IL SERVIZIO SOCIALE [FM0621] - MATUTINI Elisa\, Lezione
URL;VALUE=URI://www.unive.it/data/insegnamento/579038
DTSTART:20251001T103000
END:VEVENT
BEGIN:VEVENT
DTEND:20251002T134500
UID:69e7dc5490197
DTSTAMP:20260421T202140
LOCATION:Aula San Trovaso Aula San Trovaso
SUMMARY:TEORIE INNOVATIVE PER IL SERVIZIO SOCIALE [FM0621] - MATUTINI Elisa\, Lezione
URL;VALUE=URI://www.unive.it/data/insegnamento/579038
DTSTART:20251002T121500
END:VEVENT
BEGIN:VEVENT
DTEND:20251002T153000
UID:69e7dc54901e6
DTSTAMP:20260421T202140
LOCATION:Aula San Trovaso Aula San Trovaso
SUMMARY:TEORIE INNOVATIVE PER IL SERVIZIO SOCIALE [FM0621] - MATUTINI Elisa\, Lezione
URL;VALUE=URI://www.unive.it/data/insegnamento/579038
DTSTART:20251002T140000
END:VEVENT
BEGIN:VEVENT
DTEND:20251007T120000
UID:69e7dc5490234
DTSTAMP:20260421T202140
LOCATION:Aula 3 San Sebastiano
SUMMARY:TEORIE INNOVATIVE PER IL SERVIZIO SOCIALE [FM0621] - MATUTINI Elisa\, Lezione
URL;VALUE=URI://www.unive.it/data/insegnamento/579038
DTSTART:20251007T103000
END:VEVENT
BEGIN:VEVENT
DTEND:20251007T134500
UID:69e7dc5490280
DTSTAMP:20260421T202140
LOCATION:Aula 3 San Sebastiano
SUMMARY:TEORIE INNOVATIVE PER IL SERVIZIO SOCIALE [FM0621] - MATUTINI Elisa\, Lezione
URL;VALUE=URI://www.unive.it/data/insegnamento/579038
DTSTART:20251007T121500
END:VEVENT
BEGIN:VEVENT
DTEND:20251013T120000
UID:69e7dc54902cc
DTSTAMP:20260421T202140
LOCATION:Aula 3 San Sebastiano
SUMMARY:TEORIE INNOVATIVE PER IL SERVIZIO SOCIALE [FM0621] - MATUTINI Elisa\, Lezione
URL;VALUE=URI://www.unive.it/data/insegnamento/579038
DTSTART:20251013T103000
END:VEVENT
BEGIN:VEVENT
DTEND:20251014T120000
UID:69e7dc549032d
DTSTAMP:20260421T202140
LOCATION:Aula 3 San Sebastiano
SUMMARY:TEORIE INNOVATIVE PER IL SERVIZIO SOCIALE [FM0621] - MATUTINI Elisa\, Lezione
URL;VALUE=URI://www.unive.it/data/insegnamento/579038
DTSTART:20251014T103000
END:VEVENT
BEGIN:VEVENT
DTEND:20251014T134500
UID:69e7dc549037a
DTSTAMP:20260421T202140
LOCATION:Aula 3 San Sebastiano
SUMMARY:TEORIE INNOVATIVE PER IL SERVIZIO SOCIALE [FM0621] - MATUTINI Elisa\, Lezione
URL;VALUE=URI://www.unive.it/data/insegnamento/579038
DTSTART:20251014T121500
END:VEVENT
BEGIN:VEVENT
DTEND:20251022T134500
UID:69e7dc54903c4
DTSTAMP:20260421T202140
LOCATION:Aula 2C Polo didattico San Basilio (Magazzino 5)
SUMMARY:TEORIE INNOVATIVE PER IL SERVIZIO SOCIALE [FM0621] - MATUTINI Elisa\, Lezione
URL;VALUE=URI://www.unive.it/data/insegnamento/579038
DTSTART:20251022T121500
END:VEVENT
BEGIN:VEVENT
DTEND:20251023T120000
UID:69e7dc5490410
DTSTAMP:20260421T202140
LOCATION:Aula MF1 Polo didattico San Basilio (MF - Magazzini Frigoriferi)
SUMMARY:TEORIE INNOVATIVE PER IL SERVIZIO SOCIALE [FM0621] - MATUTINI Elisa\, Lezione
URL;VALUE=URI://www.unive.it/data/insegnamento/579038
DTSTART:20251023T103000
END:VEVENT
BEGIN:VEVENT
DTEND:20251023T134500
UID:69e7dc5490462
DTSTAMP:20260421T202140
LOCATION:Aula San Trovaso Aula San Trovaso
SUMMARY:TEORIE INNOVATIVE PER IL SERVIZIO SOCIALE [FM0621] - MATUTINI Elisa\, Lezione
URL;VALUE=URI://www.unive.it/data/insegnamento/579038
DTSTART:20251023T121500
END:VEVENT
BEGIN:VEVENT
DTEND:20251023T153000
UID:69e7dc54904af
DTSTAMP:20260421T202140
LOCATION:Aula San Trovaso Aula San Trovaso
SUMMARY:TEORIE INNOVATIVE PER IL SERVIZIO SOCIALE [FM0621] - MATUTINI Elisa\, Lezione
URL;VALUE=URI://www.unive.it/data/insegnamento/579038
DTSTART:20251023T140000
END:VEVENT
BEGIN:VEVENT
DTEND:20251029T120000
UID:69e7dc54904fb
DTSTAMP:20260421T202140
LOCATION:Aula 1D Polo didattico San Basilio (Magazzino 5)
SUMMARY:TEORIE INNOVATIVE PER IL SERVIZIO SOCIALE [FM0621] - MATUTINI Elisa\, Lezione
URL;VALUE=URI://www.unive.it/data/insegnamento/579038
DTSTART:20251029T103000
END:VEVENT
BEGIN:VEVENT
DTEND:20251030T134500
UID:69e7dc5490548
DTSTAMP:20260421T202140
LOCATION:Aula San Trovaso Aula San Trovaso
SUMMARY:TEORIE INNOVATIVE PER IL SERVIZIO SOCIALE [FM0621] - MATUTINI Elisa\, Lezione
URL;VALUE=URI://www.unive.it/data/insegnamento/579038
DTSTART:20251030T121500
END:VEVENT
BEGIN:VEVENT
DTEND:20251030T153000
UID:69e7dc5490592
DTSTAMP:20260421T202140
LOCATION:Aula San Trovaso Aula San Trovaso
SUMMARY:TEORIE INNOVATIVE PER IL SERVIZIO SOCIALE [FM0621] - MATUTINI Elisa\, Lezione
URL;VALUE=URI://www.unive.it/data/insegnamento/579038
DTSTART:20251030T140000
END:VEVENT
END:VCALENDAR